BEGIN:VCALENDAR
VERSION:2.0
PRODID:-//Blog knihkupectví Luxor - ECPv6.15.20//NONSGML v1.0//EN
CALSCALE:GREGORIAN
METHOD:PUBLISH
X-ORIGINAL-URL:https://www.luxor.cz/blog
X-WR-CALDESC:Akce na Blog knihkupectví Luxor
REFRESH-INTERVAL;VALUE=DURATION:PT1H
X-Robots-Tag:noindex
X-PUBLISHED-TTL:PT1H
BEGIN:VTIMEZONE
TZID:Europe/Prague
BEGIN:DAYLIGHT
TZOFFSETFROM:+0100
TZOFFSETTO:+0200
TZNAME:CEST
DTSTART:20200329T010000
END:DAYLIGHT
BEGIN:STANDARD
TZOFFSETFROM:+0200
TZOFFSETTO:+0100
TZNAME:CET
DTSTART:20201025T010000
END:STANDARD
BEGIN:DAYLIGHT
TZOFFSETFROM:+0100
TZOFFSETTO:+0200
TZNAME:CEST
DTSTART:20210328T010000
END:DAYLIGHT
BEGIN:STANDARD
TZOFFSETFROM:+0200
TZOFFSETTO:+0100
TZNAME:CET
DTSTART:20211031T010000
END:STANDARD
BEGIN:DAYLIGHT
TZOFFSETFROM:+0100
TZOFFSETTO:+0200
TZNAME:CEST
DTSTART:20220327T010000
END:DAYLIGHT
BEGIN:STANDARD
TZOFFSETFROM:+0200
TZOFFSETTO:+0100
TZNAME:CET
DTSTART:20221030T010000
END:STANDARD
END:VTIMEZONE
BEGIN:VEVENT
DTSTART;TZID=Europe/Prague:20210601T170000
DTEND;TZID=Europe/Prague:20210601T180000
DTSTAMP:20260422T044342
CREATED:20210525T165146Z
LAST-MODIFIED:20210525T165148Z
UID:15466-1622566800-1622570400@www.luxor.cz
SUMMARY:Rudy Linka: křest biografie slavného jazzmana
DESCRIPTION:Praha\,  Stockholm\, New York a Prachatice jsou místa\, která Rudy Linka nazývá  svým domovem. Jeho inspirativní životní cesta a lidé\, které na ní  potkal\, je přiblížena v této biografii plné optimismu\, energie\, humoru a  hudby. \n\n\n\nKnihu pokřtí Jan Hřebejk a Václav Neckář.
URL:https://www.luxor.cz/blog/akce/rudy-linka-krest-biografie-slavneho-jazzmana/
LOCATION:Palác knih Luxor\, Václavské náměstí 820/41\, Praha 1\, 11000\, Česká republika
ATTACH;FMTTYPE=image/jpeg:https://www.luxor.cz/blog/wp-content/uploads/Rudy-linka_pozvanka_1920x1005-scaled.jpg
END:VEVENT
BEGIN:VEVENT
DTSTART;TZID=Europe/Prague:20210608T180000
DTEND;TZID=Europe/Prague:20210608T190000
DTSTAMP:20260422T044342
CREATED:20210531T062953Z
LAST-MODIFIED:20210531T063244Z
UID:15482-1623175200-1623178800@www.luxor.cz
SUMMARY:KLÁŠTER SV. ANEŽKY ČESKÉ: Taťána Gregor Brzobohatá - Pokračování příště
DESCRIPTION:Křest „vážně nevážné knihy o všehochuti života“ Taťány Gregor Brzobohaté!Křest knihy Pokračování příště a beseda proběhnou venku – v krásných prostorech zahrad Kláštera sv. Anežky České! \n\n\n\nZnáte ty stavy\, kdy se chcete ze všeho vypsat? Kdy se na chvíli zastavíte\, zpětně se díváte na svůj život a říkáte si: „To je teda nářez! Tohle všechno jsem zažila?“ Není to biografie a nejsou to vyloženě ani memoáry. Pohádka pro dospělé\, detektivka či jakákoliv jiná beletrie to taky není. Osobně bych to nazvala takovou vážně nevážnou knihou o všehochuti života\, která by možná mohla snad i někoho inspirovat. TGB
URL:https://www.luxor.cz/blog/akce/klaster-sv-anezky-ceske-tatana-gregor-brzobohata-pokracovani-priste/
LOCATION:Klášter sv. Anežky České\, U Milosrdných 17\, Praha 1\, Česká republika
ATTACH;FMTTYPE=image/jpeg:https://www.luxor.cz/blog/wp-content/uploads/pokracovani-priste_banner1920x1005-scaled.jpg
END:VEVENT
BEGIN:VEVENT
DTSTART;TZID=Europe/Prague:20210609T170000
DTEND;TZID=Europe/Prague:20210609T180000
DTSTAMP:20260422T044342
CREATED:20210603T104629Z
LAST-MODIFIED:20210603T104630Z
UID:15513-1623258000-1623261600@www.luxor.cz
SUMMARY:Jan Koller - Byl to víc než sen
DESCRIPTION:Byl to víc než sen – Životní zpověď nejlepšího střelce fotbalové reprezentace Jana Kollera! \n\n\n\nKřest knihy a autogramiáda proběhne v knihkupectví Luxor na Václavském náměstí.
URL:https://www.luxor.cz/blog/akce/jan-koller-byl-to-vic-nez-sen/
LOCATION:Palác knih Luxor\, Václavské náměstí 820/41\, Praha 1\, 11000\, Česká republika
ATTACH;FMTTYPE=image/jpeg:https://www.luxor.cz/blog/wp-content/uploads/koller_banner1200x628.jpg
END:VEVENT
BEGIN:VEVENT
DTSTART;TZID=Europe/Prague:20210610T170000
DTEND;TZID=Europe/Prague:20210610T180000
DTSTAMP:20260422T044342
CREATED:20210608T045248Z
LAST-MODIFIED:20210608T045341Z
UID:15553-1623344400-1623348000@www.luxor.cz
SUMMARY:Martina Formanová - Nalakuj to narůžovo
DESCRIPTION:„Je to moje nejintimnější kniha.“  \n\n\n\nAutogramiáda Martiny Formanové k nové autobiografické knize NALAKUJ TO NA RŮŽOVO proběhne v Paláci knih Luxor.  \n\n\n\nV\nnové knize\, kterou Martina Formanová navazuje na předchozí autobiografické\nprózy Skladatelka voňavého prádla a Snědla dětem sladkosti\, se\nsetkáváme se zralou ženou reflektující svůj život po smrti manžela Miloše\nFormana. S pomocí deníku zpracovává svůj smutek a prázdnotu ze ztráty člověka\,\npo jehož boku strávila dvacet tři let a s nímž vychovala dva syny. První zápis\nje ze srpna 2018\, poslední z letošního\, již pandemického února. S nadsázkou\,\nsebeironií a upřímností autorka popisuje cestu k zotavení. Nečekanou součástí\nduševní terapie se pro ni stávají lekce stand-upu\, který spojil její touhu po\nkomunikaci\, smysl pro humor i dávné vzpomínky na chvíle strávené v dětském\nrecitačním kroužku v rodném Brně.  \n\n\n\nAutorčino\nnejintimnější dílo doprovází řada fotografií.
URL:https://www.luxor.cz/blog/akce/martina-formanova-nalakuj-to-naruzovo/
LOCATION:Palác knih Luxor\, Václavské náměstí 820/41\, Praha 1\, 11000\, Česká republika
ATTACH;FMTTYPE=image/png:https://www.luxor.cz/blog/wp-content/uploads/Martina_Nalakuj_banner_1200x628.png
END:VEVENT
BEGIN:VEVENT
DTSTART;TZID=Europe/Prague:20210616T170000
DTEND;TZID=Europe/Prague:20210616T180000
DTSTAMP:20260422T044342
CREATED:20210610T061150Z
LAST-MODIFIED:20210610T061151Z
UID:15567-1623862800-1623866400@www.luxor.cz
SUMMARY:AZYL 78: Jitka Kosíková a Marek Uhlíř - Břehy nejsou na dohled
DESCRIPTION:Jménem nakladatelství Universum a knihkupectví Luxor vás srdečně zveme na křest knihy Jitky Kosíkové a Marka Uhlíře BŘEHY NEJSOU NA DOHLED. \n\n\n\nKřest se uskuteční  ve středu 16. června od 17:00 v džungli BKAO\, při letní scéně Azyl 78\, na Výstavišti v Holešovicích (ve Stromovce). \n\n\n\nKnihu pokřtí zástupci organizací Lékaři bez hranic a Cesta\ndomů.
URL:https://www.luxor.cz/blog/akce/azyl-78-jitka-kosikova-a-marek-uhlir-brehy-nejsou-na-dohled/
ATTACH;FMTTYPE=image/jpeg:https://www.luxor.cz/blog/wp-content/uploads/brehy_banner_Luxor-1200x628-ST.jpg
END:VEVENT
BEGIN:VEVENT
DTSTART;TZID=Europe/Prague:20210617T080000
DTEND;TZID=Europe/Prague:20210617T170000
DTSTAMP:20260422T044342
CREATED:20210616T103145Z
LAST-MODIFIED:20210617T071425Z
UID:15587-1623916800-1623949200@www.luxor.cz
SUMMARY:Rodina jako tým - Jan Mühlfeit a Kateřina Krůtová
DESCRIPTION:Přijďte do Paláce knih Luxor a pokřtěte s námi novou knihu úspěšného dua lektorů\, Jana Mühlfeita a Kateřiny Krůtové! \n\n\n\nNejen  firmy a sportovní kluby potřebují k úspěchu spokojené týmové hráče\,  smysluplnou misi a inspiraci. Skvělé týmy můžete budovat i se svými  nejbližšími! Uznávaní lektoři Jan Mühlfeit a Kateřina Krůtová přinášejí  ucelený pohled na nové způsoby vzdělávání\, sebepoznání\, práci s emocemi\,  komunikaci napříč generacemi a další rodinné aspekty. Vytvořte  fungující rodinu\, ve které je každý člen důležitý a z níž mohou děti  získat základ pro celý život.
URL:https://www.luxor.cz/blog/akce/rodina-jako-tym-jan-muhlfeit-a-katerina-krutova/
LOCATION:Palác knih Luxor\, Václavské náměstí 820/41\, Praha 1\, 11000\, Česká republika
ATTACH;FMTTYPE=image/jpeg:https://www.luxor.cz/blog/wp-content/uploads/rodina_jako_tym_banner_1200x628_luxor.jpg
END:VEVENT
BEGIN:VEVENT
DTSTART;TZID=Europe/Prague:20210622T180000
DTEND;TZID=Europe/Prague:20210622T200000
DTSTAMP:20260422T044342
CREATED:20210531T113733Z
LAST-MODIFIED:20210531T113735Z
UID:15487-1624384800-1624392000@www.luxor.cz
SUMMARY:ŠTERNBERSKÝ PALÁC: Lucie Kutrová a Jan Hocek
DESCRIPTION:Dva cestovatelé\, dvě knižní novinky\, jedna unikátní beseda v zahradách Šternberského paláce a skvělý knižní kmotr Honza Dědek! \n\n\n\nLucie Kutrová – 151 dní po evropských stezkáchJan Hocek – Jižní stezka Českem od západu k východu \n\n\n\nPejsky  prosím nechte doma! Akce probíhá v prostoru národní památky a ač nás to  mrzí\, není možné vzít s sebou pejsky nebo jiná zvířata. To platí i pro  zahrady. Děkujeme za pochopení! \n\n\n\nLucie  Kutrová se po návratu z Pacifické hřebenovky v Americe rozhodla  prozkoumat a přiblížit vám spoustu nádherných tras a stezek evropských  trailů. Jan Hocek se po Severní stezce vydal na jih naší země a  dokončil okruh kolem Česka. Přiblíží vám putování vlastními silami po  krajině České republiky.
URL:https://www.luxor.cz/blog/akce/sternbersky-palac-lucie-kutrova-a-jan-hocek/
LOCATION:Šternberský Palác\, Hradčanské náměstí 15/57\, Praha 1\, Spojené státy
ATTACH;FMTTYPE=image/jpeg:https://www.luxor.cz/blog/wp-content/uploads/krest-kutrovahocek-_banner1920x1005-scaled.jpg
END:VEVENT
BEGIN:VEVENT
DTSTART;TZID=Europe/Prague:20210623T170000
DTEND;TZID=Europe/Prague:20210623T183000
DTSTAMP:20260422T044342
CREATED:20210617T122619Z
LAST-MODIFIED:20210617T125828Z
UID:15657-1624467600-1624473000@www.luxor.cz
SUMMARY:Kukačky: křest románu a audioknihy na motivy oblíbeného seriálu
DESCRIPTION:Co je víc? Krev\, nebo péče a láska?Křest knihy a audioknihy na motivy divácky úspěšného seriálu ČT Kukačky: Moje dítě není  moje proběhne v Paláci knih Luxor za účasti delegace skvělých hostů! \n\n\n\nTěšit  se můžete na Sabinu Remundovou\, Davida Novotného\, Martu Dancingerovou\,  Marka Adamczyka\, Bisera A. Arichteva\, Thea Schaefera\, Viktora Sekaninu a  mnoho dalších! \n\n\n\nKmotrami budou knize Lenka Filipová a Lenny!
URL:https://www.luxor.cz/blog/akce/kukacky-krest-romanu-na-motivy-oblibeneho-serialu/
LOCATION:Palác knih Luxor\, Václavské náměstí 820/41\, Praha 1\, 11000\, Česká republika
ATTACH;FMTTYPE=image/jpeg:https://www.luxor.cz/blog/wp-content/uploads/kukacky_banner_Luxor-1200x628.jpg
END:VEVENT
BEGIN:VEVENT
DTSTART;TZID=Europe/Prague:20210624T150000
DTEND;TZID=Europe/Prague:20210624T160000
DTSTAMP:20260422T044342
CREATED:20210616T110401Z
LAST-MODIFIED:20210616T110402Z
UID:15600-1624546800-1624550400@www.luxor.cz
SUMMARY:Láďa Hruška - Průšvihy drzého záškoláka 3
DESCRIPTION:Už třetí díl příběhů drzého záškoláka Mikyho Marného! Tentokrát o trapných hláškách (pra)rodičů  \n\n\n\n\n\n\n\nLetní\n prázdniny jsou konečně tady a Mikymu Marnému nic nezabrání v tom\, aby \nsi je pořádně užil! Dokonce ani hádka s rodiči\, kvůli které místo na \nspolečnou dovolenou do Chorvatska odjede na vlastní pěst k babičce a \ndědovi. A to přímo… do Prčice! Moc zábavy si od toho neslibuje\, ale brzy\n zjistí\, že se pořádně spletl. Ukáže se\, že děda je pěkný srandista a že\n i s babičkou se dá ledacos vtipného zažít\, třeba oslavu Vánoc v \nčervenci! A co teprve když Miky potká neodolatelnou kolii Barunku\, která\n patří dědovu kamarádovi panu Vomáčkovi – to je hned láska na první \npohled! Kniha je určena dětem od 8 let.
URL:https://www.luxor.cz/blog/akce/lada-hruska-prusvihy-drzeho-zaskolaka-3/
LOCATION:Palác knih Luxor\, Václavské náměstí 820/41\, Praha 1\, 11000\, Česká republika
ATTACH;FMTTYPE=image/jpeg:https://www.luxor.cz/blog/wp-content/uploads/prusvihy3_banner-Luxor-1200x628.jpg
END:VEVENT
BEGIN:VEVENT
DTSTART;TZID=Europe/Prague:20210624T170000
DTEND;TZID=Europe/Prague:20210624T180000
DTSTAMP:20260422T044342
CREATED:20210608T054820Z
LAST-MODIFIED:20210608T081851Z
UID:15558-1624554000-1624557600@www.luxor.cz
SUMMARY:Michal Viewegh\, Zuzana Hubeňáková a Petr Vydra
DESCRIPTION:Srdečně vás zveme na nevšední\, a sice trojitý křest nových knih! \n\n\n\nTěšit  se můžete na matadora české spisovatelské scény Michala Viewegha\,  stand-up komika a herce Petra Vydru i spisovatelku Zuzanu Hubeňákovou!
URL:https://www.luxor.cz/blog/akce/petr-vydra-michal-viewegh-zuzana-hubenakova/
LOCATION:Palác knih Luxor\, Václavské náměstí 820/41\, Praha 1\, 11000\, Česká republika
ATTACH;FMTTYPE=image/jpeg:https://www.luxor.cz/blog/wp-content/uploads/trojkrest_banner_Luxor-1200x628.jpg
END:VEVENT
END:VCALENDAR