BEGIN:VCALENDAR
VERSION:2.0
PRODID:-//Blog knihkupectví Luxor - ECPv6.15.20//NONSGML v1.0//EN
CALSCALE:GREGORIAN
METHOD:PUBLISH
X-WR-CALNAME:Blog knihkupectví Luxor
X-ORIGINAL-URL:https://www.luxor.cz/blog
X-WR-CALDESC:Akce na Blog knihkupectví Luxor
REFRESH-INTERVAL;VALUE=DURATION:PT1H
X-Robots-Tag:noindex
X-PUBLISHED-TTL:PT1H
BEGIN:VTIMEZONE
TZID:Europe/Prague
BEGIN:DAYLIGHT
TZOFFSETFROM:+0100
TZOFFSETTO:+0200
TZNAME:CEST
DTSTART:20190331T010000
END:DAYLIGHT
BEGIN:STANDARD
TZOFFSETFROM:+0200
TZOFFSETTO:+0100
TZNAME:CET
DTSTART:20191027T010000
END:STANDARD
BEGIN:DAYLIGHT
TZOFFSETFROM:+0100
TZOFFSETTO:+0200
TZNAME:CEST
DTSTART:20200329T010000
END:DAYLIGHT
BEGIN:STANDARD
TZOFFSETFROM:+0200
TZOFFSETTO:+0100
TZNAME:CET
DTSTART:20201025T010000
END:STANDARD
BEGIN:DAYLIGHT
TZOFFSETFROM:+0100
TZOFFSETTO:+0200
TZNAME:CEST
DTSTART:20210328T010000
END:DAYLIGHT
BEGIN:STANDARD
TZOFFSETFROM:+0200
TZOFFSETTO:+0100
TZNAME:CET
DTSTART:20211031T010000
END:STANDARD
END:VTIMEZONE
BEGIN:VEVENT
DTSTART;TZID=Europe/Prague:20200805T180000
DTEND;TZID=Europe/Prague:20200805T193000
DTSTAMP:20260421T162657
CREATED:20200724T120033Z
LAST-MODIFIED:20200724T120034Z
UID:14108-1596650400-1596655800@www.luxor.cz
SUMMARY:KLÁŠTER SV. ANEŽKY ČESKÉ: Martin Řezníček - Rozpojené státy
DESCRIPTION:Na Manhattanu radil Henrymu Kissingerovi s výběrem kravaty před rozhovorem o Václavu Havlovi. V Texasu strávil během hurikánu týden v bahně a dešti s lidmi\, kteří přišli o všechno. Přinášel zprávy z kuloárů Kongresu i ze Silicon Valley – takřka každý večer po dobu pěti let coby zahraniční zpravodaj ČT v USA. Kniha Martina Řezníčka místy vyvrací\, jinde potvrzuje stereotypy\, jež o USA máme.  \n\n\n\nUvedení knihy a beseda proběhne v rámci Letního programu Národní galerie Praha s názvem NGP ― Anežka LIVE. \n\n\n\nVíce o knize.
URL:https://www.luxor.cz/blog/akce/klaster-sv-anezky-ceske-martin-reznicek-rozpojene-staty/
LOCATION:Klášter sv. Anežky České\, U Milosrdných 17\, Praha 1\, Česká republika
ATTACH;FMTTYPE=image/jpeg:https://www.luxor.cz/blog/wp-content/uploads/1200x628-px.jpg
END:VEVENT
BEGIN:VEVENT
DTSTART;TZID=Europe/Prague:20200811T150000
DTEND;TZID=Europe/Prague:20200811T160000
DTSTAMP:20260421T162657
CREATED:20200723T130722Z
LAST-MODIFIED:20200806T095905Z
UID:14097-1597158000-1597161600@www.luxor.cz
SUMMARY:ŽLUTÉ LÁZNĚ - Čtení s Dogmanem
DESCRIPTION:Další díl oblíbené letní akce je tady! Užijte si bezvadné odpoledne plné her\, soutěží a samozřejmě knih! Tentokrát kromě oblíbeného komiksového hrdiny Dogmana přijde i Komára\, autorka knížky Králík je taky jenom člověk.
URL:https://www.luxor.cz/blog/akce/zlute-lazne-cteni-s-dogmanem/
LOCATION:Žluté lázně\, Podolské nábř. 3/1184\, Praha\, 14000\, Spojené státy
ATTACH;FMTTYPE=image/png:https://www.luxor.cz/blog/wp-content/uploads/kralik_1200x628-1.png
END:VEVENT
BEGIN:VEVENT
DTSTART;TZID=Europe/Prague:20200811T163000
DTEND;TZID=Europe/Prague:20200811T173000
DTSTAMP:20260421T162657
CREATED:20200805T120053Z
LAST-MODIFIED:20200805T134755Z
UID:14147-1597163400-1597167000@www.luxor.cz
SUMMARY:TÁBOR: Robert Šlachta - autogramiáda
DESCRIPTION:Osobní zpověď neobyčejného života – bývalý ředitel Útvaru pro odhalování organizovaného zločinu Robert Šlachta v rozhovoru se známým českým investigativním novinářem Josefem Klímou. Knihu příznačně nazvanou Třicet let pod přísahou vám představíme v knihkupectví Luxor v Táboře!
URL:https://www.luxor.cz/blog/akce/tabor-robert-slachta-autogramiada/
LOCATION:Knihkupectví OD Dvořák\, OD Dvořák\, Tábor\, 39002\, Česká republika
ATTACH;FMTTYPE=image/jpeg:https://www.luxor.cz/blog/wp-content/uploads/Luxor_slachta_bannerFB-4.jpg
END:VEVENT
BEGIN:VEVENT
DTSTART;TZID=Europe/Prague:20200818T170000
DTEND;TZID=Europe/Prague:20200818T183000
DTSTAMP:20260421T162657
CREATED:20200728T160004Z
LAST-MODIFIED:20200728T160159Z
UID:14130-1597770000-1597775400@www.luxor.cz
SUMMARY:KLÁŠTER SV. ANEŽKY ČESKÉ: Šarlatán – Křest knihy za přítomnosti tvůrců filmu
DESCRIPTION:Nevšední příběh Jana Mikoláška\, výjimečného muže obdařeného léčitelskými schopnostmi\, se stal podnětem k strhujícímu filmovému dramatu. Snímek Šarlatán oceňované polské režisérky Agnieszky Holland pyšnící se skvělým hereckým obsazením (Ivan Trojan\, Josef Trojan nebo Martin Myšička) právě míří do českých kin. Josef Klíma převedl do knižní podoby scénář Marka Epsteina a právě knižní verzi příběhu uvedeme a pokřtíme za přítomnosti tvůrců filmu. Hosty budou Agnieszka Holland\, Josef Trojan\, Josef Klíma a další! \n\n\n\nVíce o knize.
URL:https://www.luxor.cz/blog/akce/klaster-sv-anezky-ceske-sarlatan-krest-knihy-za-pritomnosti-tvurcu-filmu/
LOCATION:Klášter sv. Anežky České\, U Milosrdných 17\, Praha 1\, Česká republika
ATTACH;FMTTYPE=image/jpeg:https://www.luxor.cz/blog/wp-content/uploads/sarlatan_1200x628-1.jpg
END:VEVENT
BEGIN:VEVENT
DTSTART;TZID=Europe/Prague:20200820T180000
DTEND;TZID=Europe/Prague:20200820T193000
DTSTAMP:20260421T162657
CREATED:20200729T113625Z
LAST-MODIFIED:20200729T113626Z
UID:14137-1597946400-1597951800@www.luxor.cz
SUMMARY:KLÁŠTER SV. ANEŽKY ČESKÉ: Soběstačný - autorské čtení Zuzany Dostálové
DESCRIPTION:Spisovatelka a violoncellistka Zuzana Dostálová debutovala v roce 2016 knihou Proč všichni odcházejí. S autorkami Pavlou Horákovou a Alenou Scheinostovou vydala novelu Johana. Nejvíce na sebe ale upozornila posledním románem s názvem Soběstačný. Právě z této něžné i syrové knihy o dospívání a dospělosti\, o samotě a samostatnosti přečte autorka několik kapitol. \n\n\n\nAkce proběhne v rámci Letního programu Národní galerie Praha s názvem NGP ― Anežka LIVE.
URL:https://www.luxor.cz/blog/akce/klaster-sv-anezky-ceske-sobestacny-autorske-cteni-zuzany-dostalove/
LOCATION:Klášter sv. Anežky České\, U Milosrdných 17\, Praha 1\, Česká republika
ATTACH;FMTTYPE=image/jpeg:https://www.luxor.cz/blog/wp-content/uploads/1200x628-px-1.jpg
END:VEVENT
BEGIN:VEVENT
DTSTART;TZID=Europe/Prague:20200826T170000
DTEND;TZID=Europe/Prague:20200826T180000
DTSTAMP:20260421T162657
CREATED:20200805T121147Z
LAST-MODIFIED:20200805T121148Z
UID:14151-1598461200-1598464800@www.luxor.cz
SUMMARY:ČESKÉ BUDĚJOVICE: Robert Šlachta - autogramiáda
DESCRIPTION:Osobní zpověď neobyčejného života – bývalý ředitel Útvaru pro odhalování organizovaného zločinu Robert Šlachta v rozhovoru se známým českým investigativním novinářem Josefem Klímou. Knihu příznačně nazvanou Třicet let pod přísahou vám představíme v knihkupectví Luxor v Českých Budějovicích!
URL:https://www.luxor.cz/blog/akce/ceske-budejovice-robert-slachta-autogramiada/
LOCATION:Knihkupectví Luxor České Budějovice\, U Černé věže 15\, České Budějovice\, Spojené státy
ATTACH;FMTTYPE=image/jpeg:https://www.luxor.cz/blog/wp-content/uploads/Luxor_slachta_bannerFB-4.jpg
END:VEVENT
BEGIN:VEVENT
DTSTART;TZID=Europe/Prague:20200826T180000
DTEND;TZID=Europe/Prague:20200826T193000
DTSTAMP:20260421T162657
CREATED:20200807T135809Z
LAST-MODIFIED:20200807T135810Z
UID:14166-1598464800-1598470200@www.luxor.cz
SUMMARY:KLÁŠTER SV. ANEŽKY ČESKÉ: Jan Vojáček - Umění být zdráv
DESCRIPTION:V době koronavirové krize se víc než kdy jindy ukazuje\, jak moc se vposled musíme spolehnout na naše vlastní tělo\, jeho imunitu\, vlastní ozdravné procesy i celkovou harmonii. MUDr. Jan Vojáček\, představitel tzv. funkční medicíny\, v knize Umění být zdráv ukazuje\, jak naslouchat signálům těla i jak postupovat v prevenci civilizačních onemocnění. Nejen o tom si budeme povídat v zahradách Kláštera sv. Anežky České! Těšíme se na vás!
URL:https://www.luxor.cz/blog/akce/klaster-sv-anezky-ceske-jan-vojacek-umeni-byt-zdrav/
LOCATION:Klášter sv. Anežky České\, U Milosrdných 17\, Praha 1\, Česká republika
ATTACH;FMTTYPE=image/jpeg:https://www.luxor.cz/blog/wp-content/uploads/1200x628-px-2.jpg
END:VEVENT
BEGIN:VEVENT
DTSTART;TZID=Europe/Prague:20200827T170000
DTEND;TZID=Europe/Prague:20200827T180000
DTSTAMP:20260421T162657
CREATED:20200730T145747Z
LAST-MODIFIED:20200806T185522Z
UID:14141-1598547600-1598551200@www.luxor.cz
SUMMARY:KLADNO: Ondřej Závodský - Výstup na vrchol korupce
DESCRIPTION:Ondřej Závodský uvede další ze série knih vznikajících za podpory Nadačního fondu proti korupci. Renomovaný právník se v nové knize Výstup na vrchol korupce pouští do rozboru nekalostí na pozadí naší politické scény\, ale rozebírá i politickou situaci v Rusku a Číně. Těšit se můžete na besedu a autogramiádu!
URL:https://www.luxor.cz/blog/akce/ondrej-zavodsky-vystup-na-vrchol-korupce-2/
LOCATION:Knihkupectví Central Kladno\, Petra Bezruče 3388\, Kladno\, 27201\, Česká republika
ATTACH;FMTTYPE=image/jpeg:https://www.luxor.cz/blog/wp-content/uploads/Vystup_FB2.jpg
END:VEVENT
BEGIN:VEVENT
DTSTART;TZID=Europe/Prague:20200827T170000
DTEND;TZID=Europe/Prague:20200827T180000
DTSTAMP:20260421T162657
CREATED:20200806T185357Z
LAST-MODIFIED:20200806T185359Z
UID:14161-1598547600-1598551200@www.luxor.cz
SUMMARY:PLZEŇ: Barbara Nesvadbová - beseda a autogramiáda k novému románu!
DESCRIPTION:Barbara Nesvadbová vydává nový román! Knižní novinka z pera oblíbené spisovatelky a inspirativní ženy nese název Iluze a vypráví o nesobecké síle lásky i často neúspěšném odhodlání nevstoupit podruhé do stejné řeky. V knihkupectví Luxor proběhne u příležitosti vydání knihy beseda a autogramiáda! Budeme se na vás těšit!
URL:https://www.luxor.cz/blog/akce/plzen-barbara-nesvadbova-beseda-a-autogramiada-k-novemu-romanu/
LOCATION:Knihkupectví Plaza\, OC Plaza\, Plzeň\, 30100\, Česká republika
ATTACH;FMTTYPE=image/jpeg:https://www.luxor.cz/blog/wp-content/uploads/1200x628-px_v2-1.jpg
END:VEVENT
END:VCALENDAR