BEGIN:VCALENDAR
VERSION:2.0
PRODID:-//Blog knihkupectví Luxor - ECPv6.15.20//NONSGML v1.0//EN
CALSCALE:GREGORIAN
METHOD:PUBLISH
X-WR-CALNAME:Blog knihkupectví Luxor
X-ORIGINAL-URL:https://www.luxor.cz/blog
X-WR-CALDESC:Akce na Blog knihkupectví Luxor
REFRESH-INTERVAL;VALUE=DURATION:PT1H
X-Robots-Tag:noindex
X-PUBLISHED-TTL:PT1H
BEGIN:VTIMEZONE
TZID:Europe/Prague
BEGIN:DAYLIGHT
TZOFFSETFROM:+0100
TZOFFSETTO:+0200
TZNAME:CEST
DTSTART:20180325T010000
END:DAYLIGHT
BEGIN:STANDARD
TZOFFSETFROM:+0200
TZOFFSETTO:+0100
TZNAME:CET
DTSTART:20181028T010000
END:STANDARD
BEGIN:DAYLIGHT
TZOFFSETFROM:+0100
TZOFFSETTO:+0200
TZNAME:CEST
DTSTART:20190331T010000
END:DAYLIGHT
BEGIN:STANDARD
TZOFFSETFROM:+0200
TZOFFSETTO:+0100
TZNAME:CET
DTSTART:20191027T010000
END:STANDARD
BEGIN:DAYLIGHT
TZOFFSETFROM:+0100
TZOFFSETTO:+0200
TZNAME:CEST
DTSTART:20200329T010000
END:DAYLIGHT
BEGIN:STANDARD
TZOFFSETFROM:+0200
TZOFFSETTO:+0100
TZNAME:CET
DTSTART:20201025T010000
END:STANDARD
END:VTIMEZONE
BEGIN:VEVENT
DTSTART;TZID=Europe/Prague:20190902T170000
DTEND;TZID=Europe/Prague:20190902T170000
DTSTAMP:20260421T190432
CREATED:20190831T152637Z
LAST-MODIFIED:20190902T100255Z
UID:1941-1567443600-1567443600@www.luxor.cz
SUMMARY:Poslední deník Květy Fialové - křest knihy Josefa Kubáníka
DESCRIPTION:Květa Fialová. Pro některé charismatická dáma se zvláštním tajemstvím v očích\, pro jiné jízlivá komentátorka s kousavým humorem\, pro další pokorná žena\, se kterou se život nemazlil a ona přesto dokázala stárnout s elegancí a noblesou. Co z toho je vlastně pravda? Jaká byla jedna z nejoblíbenějších českých hereček ve\nskutečnosti? \nHerec Josef Kubáník prožil v bezprostřední blízkosti Květy Fialové čas od září 2008 až do jejího odchodu o devět let později. Měl možnost poznat ji velmi zblízka\, stali se přáteli i zpovědníky. A o tom\, co nikomu neřekla\, co nosila v sobě až do posledních dnů\, ale nechtěla si to s sebou odnést na věčnost\, vypráví tato kniha.
URL:https://www.luxor.cz/blog/akce/posledni-denik-kvety-fialove-krest-knihy-josefa-kubanika--1315/
LOCATION:Palác knih Luxor\, Václavské náměstí 820/41\, Praha 1\, 11000\, Česká republika
ATTACH;FMTTYPE=image/jpeg:https://www.luxor.cz/blog/wp-content/uploads/40507b8a.jpg
ORGANIZER;CN="Luxor":MAILTO:info@luxor.cz
END:VEVENT
BEGIN:VEVENT
DTSTART;TZID=Europe/Prague:20190904T170000
DTEND;TZID=Europe/Prague:20190904T170000
DTSTAMP:20260421T190432
CREATED:20190831T152637Z
LAST-MODIFIED:20190902T100406Z
UID:1942-1567616400-1567616400@www.luxor.cz
SUMMARY:1989 očima 30 slavných osobností - křest nové knihy Petra Macka
DESCRIPTION:Tato kniha není učebnicí historie. Nehodnotí\, jen zaznamenává. 30 let po sametové revoluci vzpomíná na osudné události 30 osobností ze světa kultury. Těch\, které už byly na vrcholu slávy\, i těch\, které se teprve začínaly prosazovat. Nikdo z nich ale nebyl politikem či tím\, kdo by byl zasvěcen do detailů a zákulisního vyjednávání střídajících se garnitur. Kniha nabízí mozaiku příběhů\, dojmů a emocí. Co si tehdy mysleli? V co věřili? Jaká měli očekávání? Tomáš Töpfer\, Jan Hrušínský\, Michal Suchánek\, Hana Zagorová a další. Takové jsou jejich vzpomínky…
URL:https://www.luxor.cz/blog/akce/1989-ocima-30-slavnych-osobnosti-krest-nove-knihy-petra-macka--1316/
LOCATION:Palác knih Luxor\, Václavské náměstí 820/41\, Praha 1\, 11000\, Česká republika
ATTACH;FMTTYPE=image/jpeg:https://www.luxor.cz/blog/wp-content/uploads/1f33f2b9.jpg
ORGANIZER;CN="Luxor":MAILTO:info@luxor.cz
END:VEVENT
BEGIN:VEVENT
DTSTART;TZID=Europe/Prague:20190904T180000
DTEND;TZID=Europe/Prague:20190904T180000
DTSTAMP:20260421T190432
CREATED:20190831T152635Z
LAST-MODIFIED:20190902T100455Z
UID:1939-1567620000-1567620000@www.luxor.cz
SUMMARY:ANEŽSKÝ KLÁŠTER: Jakub Szántó za oponou války
DESCRIPTION:Za oponou války je prvotina z pera válečného reportéra a zpravodaje České televize na Blízkém východě. Jakub Szántó v knize přibližuje své dramatické zážitky z frontových linií\, míst teroristických útoků i státních převratů a revolucí\, které během své kariéry televizního novináře v uplynulých dvou dekádách natáčel. Barvitým jazykem zprostředkovává pozadí dějinných událostí pohledem očitého svědka. Zároveň poodhaluje a demýtizuje práci žurnalistů uprostřed pohnutých situací a nepředvídatelného vývoje. \nVedle strhujícího vyprávění\, které jako vystudovaný historik zasazuje do širšího dějinného kontextu\, kniha dává nahlédnout i do niterných vztahů autora k rodině\, novinářským kolegům i přátelům napříč Orientem. To vše balí do lehce sarkastického a sebeironického tónu\, který odhaluje\, nakolik je humor klíčovou ingrediencí pro práci i přežití v situacích\, ze kterých normální člověk raději prchá. Knihu doprovází bohatá obrazová příloha autorových fotografií z terénu.
URL:https://www.luxor.cz/blog/akce/anezsky-klaster-jakub-szanto-za-oponou-valky--1313/
ATTACH;FMTTYPE=image/jpeg:https://www.luxor.cz/blog/wp-content/uploads/c7e2d019.jpg
ORGANIZER;CN="Luxor":MAILTO:info@luxor.cz
END:VEVENT
BEGIN:VEVENT
DTSTART;TZID=Europe/Prague:20190905T170000
DTEND;TZID=Europe/Prague:20190905T170000
DTSTAMP:20260421T190432
CREATED:20190831T152635Z
LAST-MODIFIED:20190902T100536Z
UID:1940-1567702800-1567702800@www.luxor.cz
SUMMARY:Patrik Ulrich - Jiří Hubač: Šlechtic příběhů
DESCRIPTION:Celovečerní filmy Babí léto\, Fany nebo Učitel tance. Oblíbené seriály Sanitka a Dobrá voda. Televizní filmy Ikarův pád\, Tažní ptáci či Nezralé maliny. Všechna tato díla mají jednoho společného jmenovatele\, a tím je scenárista Jiří Hubač (1929–2011) – autor divadelních her\, filmových scénářů a celé řady televizních adaptací. Jehož díla patří do zlatého fondu české televizní i divadelní tvorby. Tato kniha představuje Jiřího Hubače nejen jako scenáristu a dramatika\, ale i jako člověka. Prostřednictvím rozhovorů s jeho rodinou a kolegy ho poznáváme jako mimořádně pracovitého a pilného tvůrce\, jako vzorného manžela a tatínka\, ale také jako celoživotního obhájce pravdy. Biografie Jiřího Hubače je doplněná řadou fotografií z jeho filmových projektů i ze soukromého archivu rodiny.
URL:https://www.luxor.cz/blog/akce/patrik-ulrich-jiri-hubac-slechtic-pribehu--1314/
LOCATION:Palác knih Luxor\, Václavské náměstí 820/41\, Praha 1\, 11000\, Česká republika
ATTACH;FMTTYPE=image/jpeg:https://www.luxor.cz/blog/wp-content/uploads/ee9637aa.jpg
ORGANIZER;CN="Luxor":MAILTO:info@luxor.cz
END:VEVENT
BEGIN:VEVENT
DTSTART;VALUE=DATE:20190911
DTEND;VALUE=DATE:20190912
DTSTAMP:20260421T190432
CREATED:20190904T092643Z
LAST-MODIFIED:20190904T092643Z
UID:4741-1568160000-1568246399@www.luxor.cz
SUMMARY:Vojtěch Bernatský a křest jeho humorné knižní novinky Dvojtáta
DESCRIPTION:Tátou po čtyřicítce? Pro známého českého moderátora žádný problém. Tedy skoro žádný. \n„Od sestřičky dostávám roušku\, bílou gumovou obuv\, zástěru a hodně široké zelené kalhoty. Kačenka už leží na sále a já usedám k její hlavě. Prakticky vzápětí se to stane. Matyáš je na světě a já si pozvolna uvědomuju\, že jsem dvojtáta\,“ nadšeně popisuje sportovní moderátor Vojtěch Bernatský. Nevšední příběhy všedních dnů v podání dvojnásobného otce\, který slasti i strasti spojené s dětmi prožívá po čtyřicítce. A je zřejmé\, že ho to jaksepatří baví!
URL:https://www.luxor.cz/blog/akce/vojtech-bernatsky-a-krest-jeho-humorne-knizni-novinky-dvojtata--1317/
LOCATION:Palác knih Luxor\, Václavské náměstí 820/41\, Praha 1\, 11000\, Česká republika
ATTACH;FMTTYPE=image/jpeg:https://www.luxor.cz/blog/wp-content/uploads/f440e64c.jpg
ORGANIZER;CN="Luxor":MAILTO:info@luxor.cz
END:VEVENT
BEGIN:VEVENT
DTSTART;TZID=Europe/Prague:20190911T183000
DTEND;TZID=Europe/Prague:20190911T183000
DTSTAMP:20260421T190432
CREATED:20190904T092755Z
LAST-MODIFIED:20190904T092816Z
UID:4745-1568226600-1568226600@www.luxor.cz
SUMMARY:Dara Rolins - Diář Rok podle Dary 2020
DESCRIPTION:Týdenní diář Rok podle Dary 2020 navazuje na velký úspěch předchozích vydání. Známá zpěvačka Dara Rolins vytvořila pro své fanynky a fanoušky v pořadí již čtvrtého průvodce zdravým životním stylem\, ve kterém najdou vyzkoušené návody\, jak dosáhnout harmonie\, rovnováhy a pocitu spokojenosti. V průběhu celého roku autorka v diáři představuje rady\, tipy a své postřehy. Texty jsou napsané s nadhledem a jsou doplněny o atraktivní fotografie a ilustrace. Chybět nesmí ani recepty a „vychytávky“\, jako například nepostradatelné zrcátko a sada motivačních samolepek.
URL:https://www.luxor.cz/blog/akce/dara-rolins-diar-rok-podle-dary-2020--1320/
LOCATION:Palác knih Luxor\, Václavské náměstí 820/41\, Praha 1\, 11000\, Česká republika
ORGANIZER;CN="Luxor":MAILTO:info@luxor.cz
END:VEVENT
BEGIN:VEVENT
DTSTART;TZID=Europe/Prague:20190912T150000
DTEND;TZID=Europe/Prague:20190912T170000
DTSTAMP:20260421T190432
CREATED:20190909T133705Z
LAST-MODIFIED:20190909T133715Z
UID:4752-1568300400-1568307600@www.luxor.cz
SUMMARY:Edenred s radostí do školy – akce pro děti a autorské čtení Lucie Šavlíkové
DESCRIPTION:
URL:https://www.luxor.cz/blog/akce/edenred-s-radosti-do-skoly-akce-pro-deti-a-autorske-cteni-lucie-savlikove-1323/
LOCATION:Palác knih Luxor\, Václavské náměstí 820/41\, Praha 1\, 11000\, Česká republika
ORGANIZER;CN="Luxor":MAILTO:info@luxor.cz
END:VEVENT
BEGIN:VEVENT
DTSTART;TZID=Europe/Prague:20190912T150000
DTEND;TZID=Europe/Prague:20190912T170000
DTSTAMP:20260421T190432
CREATED:20190912T073730Z
LAST-MODIFIED:20190912T073730Z
UID:4771-1568300400-1568307600@www.luxor.cz
SUMMARY:Edenred s radostí do školy – akce pro děti a autorské čtení Lucie Šavlíkové
DESCRIPTION:
URL:https://www.luxor.cz/blog/akce/edenred-s-radosti-do-skoly-akce-pro-deti-a-autorske-cteni-lucie-savlikove--1323/
LOCATION:Palác knih Luxor\, Václavské náměstí 820/41\, Praha 1\, 11000\, Česká republika
ORGANIZER;CN="Luxor":MAILTO:info@luxor.cz
END:VEVENT
BEGIN:VEVENT
DTSTART;TZID=Europe/Prague:20190912T180000
DTEND;TZID=Europe/Prague:20190912T180000
DTSTAMP:20260421T190432
CREATED:20190904T092920Z
LAST-MODIFIED:20190904T092920Z
UID:4747-1568311200-1568311200@www.luxor.cz
SUMMARY:Mike Perry: Hotel Sen\, pokoj 36 - Křest knihy a autogramiáda
DESCRIPTION:Odvážná až drásavá výpověď o lásce i složitostech vztahů po změně pohlavní identity Jaký vlastně bude život po přeměně? Je možné\, aby muž po padesátce v konečně správné identitě obstál ve světě biologických samců a naplnil svou celoživotní touhu po lásce? Takové a další otázky si klade Mike Perry ve volném pokračování autobiografického románu Klec pro majáky. A právě závěrečná myšlenka jeho prvotiny\, formulovaná jednou z postav\, jakoby předznamenala téma nového románu: „… víte\, že už můžete milovat jako chlap a dostáváte košem taky jako chlap. Ještě to moc neumíte\, pravda\, a zbytečně se kvůli tomu svíjíte\, ale to je o zvyk…“ Autor v emocemi naplněné próze opět poodhaluje roušku života lidí\, kteří žiji vedle nás\, jenom se narodili do „nesprávné“ tělesné schránky. Jejich víra v lásku a touha po naplnění citového života je však nezměrná i nezničitelná.
URL:https://www.luxor.cz/blog/akce/mike-perry-hotel-sen-pokoj-36-krest-knihy-a-autogramiada--1322/
LOCATION:Palác knih Luxor\, Václavské náměstí 820/41\, Praha 1\, 11000\, Česká republika
ORGANIZER;CN="Luxor":MAILTO:info@luxor.cz
END:VEVENT
BEGIN:VEVENT
DTSTART;TZID=Europe/Prague:20190913T160000
DTEND;TZID=Europe/Prague:20190913T170000
DTSTAMP:20260421T190432
CREATED:20190912T073614Z
LAST-MODIFIED:20190912T073614Z
UID:4768-1568390400-1568394000@www.luxor.cz
SUMMARY:LIBEREC: Lucie&Nicole z A Cup Of Style
DESCRIPTION:
URL:https://www.luxor.cz/blog/akce/liberec-lucienicole-z-a-cup-of-style--1325/
LOCATION:Knihkupectví Forum\, OC Forum\, Liberec\, 46001\, Česká republika
ATTACH;FMTTYPE=image/jpeg:https://www.luxor.cz/blog/wp-content/uploads/629ab109.jpg
ORGANIZER;CN="Luxor":MAILTO:info@luxor.cz
END:VEVENT
BEGIN:VEVENT
DTSTART;TZID=Europe/Prague:20190917T180000
DTEND;TZID=Europe/Prague:20190917T180000
DTSTAMP:20260421T190432
CREATED:20190904T071044Z
LAST-MODIFIED:20190904T071404Z
UID:4735-1568743200-1568743200@www.luxor.cz
SUMMARY:Veronika Rei - Zbožňuju tě navždy
DESCRIPTION:Příběhy inspirované životem – o vztazích\, pohádkách\, lásce i pokušení\, ale také o cestování\, hledání vlastní sebedůvěry\, hraní na housličky a sbírání odvahy napsat knížku. Tuhle knížku. Zbožňuju tě navždy je pohled do křehké princezní duše a návod pro muže\, kdy teda přinést tu kytku. Na bolístky světa používá hrdinka knížky ironický humor a s vtipnou nadsázkou popisuje situace\, myšlenky a pocity\, které všichni známe.
URL:https://www.luxor.cz/blog/akce/veronika-rei-zboznuju-te-navzdy--1318/
LOCATION:Knihkupectví Nový Smíchov\, OC Nový Smíchov\, Praha 5\, 15000\, Česká republika
ATTACH;FMTTYPE=image/jpeg:https://www.luxor.cz/blog/wp-content/uploads/96ae9f2d.jpg
ORGANIZER;CN="Luxor":MAILTO:info@luxor.cz
END:VEVENT
BEGIN:VEVENT
DTSTART;TZID=Europe/Prague:20190918T170000
DTEND;TZID=Europe/Prague:20190918T170000
DTSTAMP:20260421T190432
CREATED:20190831T152635Z
LAST-MODIFIED:20190913T063049Z
UID:1938-1568826000-1568826000@www.luxor.cz
SUMMARY:David Lagercrantz – autogramiáda
DESCRIPTION:Závěrečný díl série Milénium . \nV jednom ze stockholmských parků se najde tělo žebráka s amputovanými prsty\nna rukou i na nohou. Vypadá to na nešťastnou smrt bezdomovce\, avšak patoložka Fredrika Nymanová se nemůže zbavit pocitu\, že s mrtvým je něco v nepořádku\, a proto se spojí s Mikaelem Blomkvistem. \nPřípad probudí Mikaelovu pozornost\, protože žebráka slyšeli několikrát cosi breptat o švédském ministru obrany Johannesu Forsellovi. Byly to jen řeči paranoidního šílence\, nebo měl opravdu něco společného s vládou? \nMikael požádá o pomoc Lisbeth Salanderovou. Ta však po pohřbu Holgera Palmgrena odjela ze Švédska a neozývá se. Nikdo netuší\, že pobývá v Moskvě\, aby se jednou provždy vypořádala se svou sestrou Kamillou. Rozhodla se: už nehodlá být lovenou kořistí. Sama se teď stane šelmou. \n 
URL:https://www.luxor.cz/blog/akce/david-lagercrantz-autogramiada--1312/
LOCATION:Palác knih Luxor\, Václavské náměstí 820/41\, Praha 1\, 11000\, Česká republika
ATTACH;FMTTYPE=image/jpeg:https://www.luxor.cz/blog/wp-content/uploads/banner.jpg
ORGANIZER;CN="Luxor":MAILTO:info@luxor.cz
END:VEVENT
BEGIN:VEVENT
DTSTART;TZID=Europe/Prague:20190919T154500
DTEND;TZID=Europe/Prague:20190919T190000
DTSTAMP:20260421T190432
CREATED:20190911T125732Z
LAST-MODIFIED:20190916T101655Z
UID:4761-1568907900-1568919600@www.luxor.cz
SUMMARY:HLAVNÍ NÁDRAŽÍ: Čtení ve vlaku v knihkupectví Luxor
DESCRIPTION:
URL:https://www.luxor.cz/blog/akce/hlavni-nadrazi-cteni-ve-vlaku-v-knihkupectvi-luxor--1324/
LOCATION:Palác knih Luxor\, Václavské náměstí 820/41\, Praha 1\, 11000\, Česká republika
ATTACH;FMTTYPE=image/png:https://www.luxor.cz/blog/wp-content/uploads/bb3f95b4.png
ORGANIZER;CN="Luxor":MAILTO:info@luxor.cz
END:VEVENT
BEGIN:VEVENT
DTSTART;TZID=Europe/Prague:20190923T170000
DTEND;TZID=Europe/Prague:20190923T170000
DTSTAMP:20260421T190432
CREATED:20190913T083421Z
LAST-MODIFIED:20190913T083421Z
UID:4781-1569258000-1569258000@www.luxor.cz
SUMMARY:Autogramiáda Michala Viewegha a křest jeho nové knihy Mým vrstevníkům a jiné fejetony
DESCRIPTION:O tom\, jak je prospěšné vést korespondenci s mrtvými\, o zážitcích v České televizi srovnatelnými s požitím halucinogenů\, krajových odlišnostech\, 4D realitě – anebo třeba o tom\, jak lze skloubit profesionální skateboarding s láskou ke knihám. Od dubna loňského roku do dubna toho letošního nejpopulárnější současný autor publikoval každý týden jeden fejeton v magazínu Pátek Lidových novin. Jeden rok v životě spisovatele\, jeden rok v životě naší společnosti. A samozřejmě také o Brně a 32 věcech\, které Michal Viewegh už nesmí nikdy udělat.
URL:https://www.luxor.cz/blog/akce/michal-viewegh-mym-vrstevnikum-a-jine-fejetony--1326/
LOCATION:Palác knih Luxor\, Václavské náměstí 820/41\, Praha 1\, 11000\, Česká republika
ATTACH;FMTTYPE=image/jpeg:https://www.luxor.cz/blog/wp-content/uploads/Viwegh_autogr_FB-pozvanka.jpg
END:VEVENT
BEGIN:VEVENT
DTSTART;VALUE=DATE:20190924
DTEND;VALUE=DATE:20190925
DTSTAMP:20260421T190432
CREATED:20190917T073614Z
LAST-MODIFIED:20190917T073852Z
UID:4794-1569283200-1569369599@www.luxor.cz
SUMMARY:Monika Wurmová - křest knihy Pákistánská pomsta
DESCRIPTION:Hlavní hrdinka Alexandra netuší\, že je všechno jinak\, než jak to na první pohled vypadá. Nechá se zlákat na cestu do Londýna\, kde ji pod rouškou tmy sleduje neznámý fantom. Tím ovšem překvapení nekončí. Zjišťuje\, že je těhotná a pod zdánlivě ochrannými křídly Shaha\, pohublého podivína\, odlétá do Pákistánu. Ten jí slibuje návrat do ztracené minulosti\, ale vše je úplně jinak. To\, že se krásná Alexandra dostala do nebezpečí\, zjišťuje příliš pozdě. Přijměte pozvání a ponořte se do vášnivého příběhu z prostředí záhadného Pákistánu. Plameny protikladných emocí\, lásky a nenávisti vás pohltí.
URL:https://www.luxor.cz/blog/akce/monika-wurmova-krest-knihy-pakistanska-pomsta--1327/
LOCATION:Palác knih Luxor\, Václavské náměstí 820/41\, Praha 1\, 11000\, Česká republika
ATTACH;FMTTYPE=image/jpeg:https://www.luxor.cz/blog/wp-content/uploads/Fb_udalost_Pakistanska-pomsta_1200x628.jpg
END:VEVENT
BEGIN:VEVENT
DTSTART;TZID=Europe/Prague:20190925T163000
DTEND;TZID=Europe/Prague:20190925T170000
DTSTAMP:20260421T190432
CREATED:20190904T092411Z
LAST-MODIFIED:20190916T102122Z
UID:4739-1569429000-1569430800@www.luxor.cz
SUMMARY:Drama zvané brexit - křest knihy Jaromíra Marka
DESCRIPTION:Odchod Spojeného království z Evropské unie patří k nejdramatičtějším momentům začátku 21. století. Trvá už tři roky a zatím není jasné\, kdy a jak se odehraje. Byl opravdu nevyhnutelný? Proč se Britové rozhodli odejít z Evropské unie? A jak se na tomto rozhodnutí podepsala migrace ze střední a východní Evropy? \nNa tyto otázky hledá odpověď zpravodaj Českého rozhlasu ve Spojeném království Jaromír Marek\, který sleduje dění přímo na místě. Jeho kniha popisuje příčiny brexitu i dramatické boje v parlamentu\, které tento proces dosud provázely. Čtenáře seznámí nejen s hlavními postavami brexitového dramatu\, ale i s pohledem běžných lidí. Jak oni brexit prožívali a jak zasáhl do jejich životů? Dozvíme se i proč se zatím brexit zastavil na irské hranici. A jak se v něm\, jako bumerang\, vracejí staré historické křivdy.
URL:https://www.luxor.cz/blog/akce/drama-zvane-brexit-krest-knihy-jaromira-marka--1321/
LOCATION:Palác knih Luxor\, Václavské náměstí 820/41\, Praha 1\, 11000\, Česká republika
ORGANIZER;CN="Luxor":MAILTO:info@luxor.cz
END:VEVENT
BEGIN:VEVENT
DTSTART;TZID=Europe/Prague:20190926T163000
DTEND;TZID=Europe/Prague:20190926T170000
DTSTAMP:20260421T190432
CREATED:20190917T073437Z
LAST-MODIFIED:20190917T073836Z
UID:4790-1569515400-1569517200@www.luxor.cz
SUMMARY:Křest Kalendáře pro Světlušku 2020
DESCRIPTION:
URL:https://www.luxor.cz/blog/akce/krest-kalendare-pro-svetlusku-2020--1328/
LOCATION:Palác knih Luxor\, Václavské náměstí 820/41\, Praha 1\, 11000\, Česká republika
ATTACH;FMTTYPE=image/jpeg:https://www.luxor.cz/blog/wp-content/uploads/KREST-KALENDARE-PRO-SVETLUSKU-2020__1200x628-px.jpg
END:VEVENT
BEGIN:VEVENT
DTSTART;TZID=Europe/Prague:20190926T180000
DTEND;TZID=Europe/Prague:20190926T180000
DTSTAMP:20260421T190432
CREATED:20190920T081842Z
LAST-MODIFIED:20190920T081842Z
UID:4807-1569520800-1569520800@www.luxor.cz
SUMMARY:BĚLOCVĚTOV: Hudba absolutna
DESCRIPTION:Významný malíř české moderny 20.století. Jeho tvorba reflektuje nejen tradice českého malířství\, ale i důležité proudy světového výtvarného umění\, vždy jim však dodává vlastní nezaměnitelný obsah i formu. Přes značnou rozmanitost stylů se jedná o dílo mimořádné kontinuity\, což je však možné doložit pouze obsáhlou a systematickou prezentací i důkladnou analýzou díla\, s ohledem na jeho vnitřní logiku. Vzhledem k těmto skutečnostem by bylo vhodné\, kdyby bylo možno zkoordinovat vydání publikace s již zminěnou prezentací – nejlépe formou retrospektivní výstavy\, představující všechna období umělcovy tvorby a zohledňující jejich vývojové souvislosti. Bělocvětov byl členem skupiny Máj a znal se s většinou významných malířů poválečné generace (Medek\, Fremund\, Piesen\, Veržakovskij\, Vysušil\, Wichterlová….)\, ale také s mnoha hudebníky a hudebními teoretiky. Zcela zvláštní roli v jeho životě i tvorbě hraje významný fotograf Josef Sudek\, který byl jeho celoživotním přítelem\, obdivovatelem i mecenášem\, měl rozsáhlou sbírku jeho obrazů.(tomuto vztahu by bylo vhodné věnovat zvláštní kapitolu\, doplněnou obrazovým materiálem).
URL:https://www.luxor.cz/blog/akce/belocvetov-hudba-absolutna--1331/
LOCATION:Palác knih Luxor\, Václavské náměstí 820/41\, Praha 1\, 11000\, Česká republika
ATTACH;FMTTYPE=image/png:https://www.luxor.cz/blog/wp-content/uploads/Baner_Belocvetov_vetsi.png
END:VEVENT
BEGIN:VEVENT
DTSTART;TZID=Europe/Prague:20190930T160000
DTEND;TZID=Europe/Prague:20190930T170000
DTSTAMP:20260421T190432
CREATED:20190917T073821Z
LAST-MODIFIED:20190917T073821Z
UID:4798-1569859200-1569862800@www.luxor.cz
SUMMARY:Klára Kotábová - Prima mazlíček: Příběhy s dobrým koncem
DESCRIPTION:Co vše musí pejsci prožít\, aby si našli svůj vysněný domov s měkkou pohovkou\, stále plnou miskou\, mořem lásky? Stačí podívat se do psích očí a zjistíte\, že někdy může být taková výprava za štěstím pořádně složitá. Naštěstí jsou psi optimisté a vědí\, že pokud se situace nevyvíjí dobře\, tak to stále ještě není konec. Čtěte příběhy pejsků\, kteří se museli o své místo na slunci porvat.
URL:https://www.luxor.cz/blog/akce/klara-kotabova-prima-mazlicek-pribehy-s-dobrym-koncem--1329/
LOCATION:Palác knih Luxor\, Václavské náměstí 820/41\, Praha 1\, 11000\, Česká republika
ATTACH;FMTTYPE=image/jpeg:https://www.luxor.cz/blog/wp-content/uploads/Prima-Mazlicek_Pozvanka-Krest-Kniha_1200x628px_FB-kampan.jpg
END:VEVENT
BEGIN:VEVENT
DTSTART;TZID=Europe/Prague:20190930T180000
DTEND;TZID=Europe/Prague:20190930T180000
DTSTAMP:20260421T190432
CREATED:20190920T081957Z
LAST-MODIFIED:20190920T081957Z
UID:4811-1569866400-1569866400@www.luxor.cz
SUMMARY:Trenér - Křest knihy Martina Kodýdka
DESCRIPTION:Prokop Veselý a Tibor Stančev jsou dva fotbaloví trenéři přípravky. To je však asi jediná věc\, kterou mají společnou. První český román mapující svět dětského fotbalu nabízí napínavý příběh a dva odlišné pohledy na mládežnickou kopanou. Kdo uspěje? Prokopův Spartak\, nebo Dynamo vedené Stančevem? A co je vlastně úspěch? Druhá kniha Martina Kodýdka opět zaujme dokonalým vykreslením specifického prostředí.
URL:https://www.luxor.cz/blog/akce/trener-krest-knihy-martina-kodydka--1332/
LOCATION:Palác knih Luxor\, Václavské náměstí 820/41\, Praha 1\, 11000\, Česká republika
ATTACH;FMTTYPE=image/jpeg:https://www.luxor.cz/blog/wp-content/uploads/2392e07b.jpg
END:VEVENT
END:VCALENDAR