BEGIN:VCALENDAR
VERSION:2.0
PRODID:-//Blog knihkupectví Luxor - ECPv6.15.20//NONSGML v1.0//EN
CALSCALE:GREGORIAN
METHOD:PUBLISH
X-WR-CALNAME:Blog knihkupectví Luxor
X-ORIGINAL-URL:https://www.luxor.cz/blog
X-WR-CALDESC:Akce na Blog knihkupectví Luxor
REFRESH-INTERVAL;VALUE=DURATION:PT1H
X-Robots-Tag:noindex
X-PUBLISHED-TTL:PT1H
BEGIN:VTIMEZONE
TZID:Europe/Prague
BEGIN:DAYLIGHT
TZOFFSETFROM:+0100
TZOFFSETTO:+0200
TZNAME:CEST
DTSTART:20180325T010000
END:DAYLIGHT
BEGIN:STANDARD
TZOFFSETFROM:+0200
TZOFFSETTO:+0100
TZNAME:CET
DTSTART:20181028T010000
END:STANDARD
BEGIN:DAYLIGHT
TZOFFSETFROM:+0100
TZOFFSETTO:+0200
TZNAME:CEST
DTSTART:20190331T010000
END:DAYLIGHT
BEGIN:STANDARD
TZOFFSETFROM:+0200
TZOFFSETTO:+0100
TZNAME:CET
DTSTART:20191027T010000
END:STANDARD
BEGIN:DAYLIGHT
TZOFFSETFROM:+0100
TZOFFSETTO:+0200
TZNAME:CEST
DTSTART:20200329T010000
END:DAYLIGHT
BEGIN:STANDARD
TZOFFSETFROM:+0200
TZOFFSETTO:+0100
TZNAME:CET
DTSTART:20201025T010000
END:STANDARD
END:VTIMEZONE
BEGIN:VEVENT
DTSTART;TZID=Europe/Prague:20190606T100000
DTEND;TZID=Europe/Prague:20190606T100000
DTSTAMP:20260422T025620
CREATED:20190831T152631Z
LAST-MODIFIED:20190831T152631Z
UID:1929-1559815200-1559815200@www.luxor.cz
SUMMARY:Romana Suchá a knížka pro děti Edo! Ty neposedo!
DESCRIPTION:Každý se\nněkdy chová jako „slon v porcelánu“ a sloník Eda je opravdový neposeda.\nLeporelo je plné obrázků\, na kterých se děti učí v různých prostředích a\nsituacích\, co je slušné chování\, co je nebezpečné a co se nedělá. Mohou hledat\njednotlivá zvířátka nebo hádat různá povolání. Obrázky doprovází veselé verše a\ntexty v bublinách.
URL:https://www.luxor.cz/blog/akce/romana-sucha-a-knizka-pro-deti-edo-ty-neposedo--1303/
LOCATION:Palác knih Luxor\, Václavské náměstí 820/41\, Praha 1\, 11000\, Česká republika
ORGANIZER;CN="Luxor":MAILTO:info@luxor.cz
END:VEVENT
BEGIN:VEVENT
DTSTART;TZID=Europe/Prague:20190612T170000
DTEND;TZID=Europe/Prague:20190612T170000
DTSTAMP:20260422T025620
CREATED:20190831T152631Z
LAST-MODIFIED:20190831T152631Z
UID:1930-1560358800-1560358800@www.luxor.cz
SUMMARY:Sára Saudková a Miloš Čermák - křest knižní novinky Špína za nehty
DESCRIPTION:Dynamicky a\nuhrančivě vyprávěný příběh úspěšného architekta Karla a uznávané\nfotožurnalistky Kláry\, kteří mají už ledacos za sebou\, ale to největší peklo je\nteprve před nimi. Milostný a kriminální žánr a živý\, velmi úderný jazyk\npropůjčuje knize nebývalé napětí a pikantnost. Napětí\, nevěra\, tvrdý byznys\,\nnečekané zvraty v ději a věčné dilema muže a ženy\, jestli je moudré vsadit vše\nna jednu kartu. Román má strhující vypravěčský rytmus\, podtržený tím\, že roli\nmuže píše žena (Sára Saudková) a roli ženy zase muž (Miloš Čermák). Každý má\njiný styl psaní a každý promítá do své postavy svůj vhled do světa opačného\npohlaví. Čtenář tak nakonec dýchá za muže i za ženu\, protože v této knize není\njeden hlavní hrdina\, a do poslední chvíle netuší\, jak toto drama lásky a\ntemných démonů lidské mysli dopadne.
URL:https://www.luxor.cz/blog/akce/sara-saudkova-a-milos-cermak-krest-knizni-novinky-spina-za-nehty--1304/
LOCATION:Palác knih Luxor\, Václavské náměstí 820/41\, Praha 1\, 11000\, Česká republika
ORGANIZER;CN="Luxor":MAILTO:info@luxor.cz
END:VEVENT
BEGIN:VEVENT
DTSTART;TZID=Europe/Prague:20190620T150000
DTEND;TZID=Europe/Prague:20190620T150000
DTSTAMP:20260422T025620
CREATED:20190831T152632Z
LAST-MODIFIED:20190831T152632Z
UID:1931-1561042800-1561042800@www.luxor.cz
SUMMARY:Na kafi s Josefem Dvořákem - kniha Petra Matějčka a Josefa Dvořáka
DESCRIPTION:Pokud bychom\nměli knihu charakterizovat jedním slovem\, pak tedy jde o knihu bilanční.\nPopulární herec\, komik a nejslavnější český vodník se v ní ohlíží za celou svou\nkariérou a v pohodové kavárenské atmosféře přináší nejen vřelé povídání plné\nhumoru a historek\, z nichž mnohé byly dosud nevyřčeny\, ale i zamyšlení nad\nživotem. Tato kniha je zcela odlišná od všeho\, co jste o Josefu Dvořákovi\nčetli\, a přináší kopec lehké nadsázky i upřímnosti z celoživotní cesty člověka\,\nkterý zasvětil svůj život humoru\, divadlu\, televizi\, filmu\, tvorbě pro děti a\nzejména nespoutanému\, kreativně-bláznivému autorskému herectví. Přijměte\npozvání na kafe s Pepou Dvořákem a nechte se pobavit či oslovit názory zajímavé\nosobnosti\, která má co říct.
URL:https://www.luxor.cz/blog/akce/na-kafi-s-josefem-dvorakem-kniha-petra-matejcka-a-josefa-dvoraka--1305/
LOCATION:Palác knih Luxor\, Václavské náměstí 820/41\, Praha 1\, 11000\, Česká republika
ORGANIZER;CN="Luxor":MAILTO:info@luxor.cz
END:VEVENT
BEGIN:VEVENT
DTSTART;TZID=Europe/Prague:20190622T140000
DTEND;TZID=Europe/Prague:20190622T140000
DTSTAMP:20260422T025620
CREATED:20190831T152633Z
LAST-MODIFIED:20190831T152633Z
UID:1932-1561212000-1561212000@www.luxor.cz
SUMMARY:Autoři sobě – autorské čtení mladých českých spisovatelů
DESCRIPTION:Zuzana Kalousová – Cestou necestou\, láskoJakub Pachol – SelectedRobin Nasadil – Simulace ukončenaLadislav Chrudina – Milenci v roce 2042Jaromír Žid – Budeme mít doma spisovateleDavid Adámek – Největší dobrodružství \na Blanka Vávrová a YvonaHoráková\, kniha Zvláštní znamení
URL:https://www.luxor.cz/blog/akce/autori-sobe-autorske-cteni-mladych-ceskych-spisovatelu--1306/
LOCATION:Palác knih Luxor\, Václavské náměstí 820/41\, Praha 1\, 11000\, Česká republika
ORGANIZER;CN="Luxor":MAILTO:info@luxor.cz
END:VEVENT
BEGIN:VEVENT
DTSTART;TZID=Europe/Prague:20190624T170000
DTEND;TZID=Europe/Prague:20190624T170000
DTSTAMP:20260422T025620
CREATED:20190831T152633Z
LAST-MODIFIED:20190831T152633Z
UID:1933-1561395600-1561395600@www.luxor.cz
SUMMARY:Danielle Marchantová - Pauza
DESCRIPTION:Pauza je knížka\, která vám ukáže\, že postavit sami sebe a své\npocity na první místo je úplně v pořádku. Naučíte s\, jak říkat ne\, dělat věci\,\nu kterých se cítíte dobře a naopak odmítat ty\, u kterých to tak není. To\, že\nnasloucháte především sami sobě\, své vnitřní moudrosti z vás nedělá sobce\, to\nže se snažíte zmírnit vražedné tempo svého života z vás neudělá lenochy bez\nctižádosti. Naopak – tím vším se stanete bytostí\, kterou máte být. Získáte zde\nčas pro sebe a také jednoduchá cvičení\, abyste se naučili\, jak si z pauzy –\nneboli chvilky pro sebe – co nejvíce vzít. Tak aby vaše kreativita\, vnitřní\nsíla a energie mohly volně proudit a vy jste se cítili bez stresu\, zdraví a\nnaplnění. Tato cvičení vám ukáží\, jak se setkat s intuicí\, zhluboka dýchat a\nnechat odpočinout svojí věčně roztěkanou mysl. Navíc vám kniha vám poskytne\nprostor zjistit\, co je právě teď ve vašem životě nejdůležitější a na čem\nskutečně záleží. Nebudete se bát otevřít natolik\, že budete mít odvahu cítit\nradost i bolest a zároveň si uvědomit\, že život jde někdy nahoru\, někdy dolů a\nže už to tak v životě bývá.
URL:https://www.luxor.cz/blog/akce/danielle-marchantova-pauza--1307/
LOCATION:Palác knih Luxor\, Václavské náměstí 820/41\, Praha 1\, 11000\, Česká republika
ORGANIZER;CN="Luxor":MAILTO:info@luxor.cz
END:VEVENT
BEGIN:VEVENT
DTSTART;TZID=Europe/Prague:20190626T173000
DTEND;TZID=Europe/Prague:20190626T173000
DTSTAMP:20260422T025620
CREATED:20190831T152633Z
LAST-MODIFIED:20190831T152633Z
UID:1934-1561570200-1561570200@www.luxor.cz
SUMMARY:Křest knihy Vesmír ve sprše od Petry Suché
DESCRIPTION:Kniha Vesmír\nve sprše\, debutující autorky Petry Suché\, nabízí poutavé čtení plné pravdivých\nhořkosladkých příběhů o ženě ve všech jejích životních podobách. Jak často se\nsama sebe žena ptá: „Kdy už konečně začnu žít svůj život“? Až opustím rodnou\nhroudu a potkám svého prince? Až pošlu svého ženatého milence k vodě? Až přivedu\nna svět dítě? Až manželství s kdysi tolik milovaným mužem skončí v troskách\,\nprotože jsme po dětech a nespočtu manželských krizích vážně oba k smrti\nunavení? Až při sexu začnu křičet a vzývat všechny svaté? Až potkám svoji\nplatonickou lásku a konečně s ní vlezu do postele? Až dám výpověď v práci\,\nkterá mě už deset let nebaví\, a zjistím\, co vlastně chci v životě ze všeho\nnejvíc dělat?
URL:https://www.luxor.cz/blog/akce/krest-knihy-vesmir-ve-sprse-od-petry-suche--1308/
LOCATION:Palác knih Luxor\, Václavské náměstí 820/41\, Praha 1\, 11000\, Česká republika
ORGANIZER;CN="Luxor":MAILTO:info@luxor.cz
END:VEVENT
BEGIN:VEVENT
DTSTART;TZID=Europe/Prague:20190626T173000
DTEND;TZID=Europe/Prague:20190626T173000
DTSTAMP:20260422T025620
CREATED:20190831T152633Z
LAST-MODIFIED:20190831T152633Z
UID:1935-1561570200-1561570200@www.luxor.cz
SUMMARY:PALLADIUM: Nemůžeš? Přidej! Český olympijský výbor 120 let
DESCRIPTION:Reprezentativní\npublikace vychází k výročí založení 120 let Českého olympijského výboru.\nProjděte si znovu největší úspěchy československého a českého sportu. Knihu\ndoprovázejí unikátní fotografie.
URL:https://www.luxor.cz/blog/akce/palladium-nemuzes-pridej-cesky-olympijsky-vybor-120-let--1309/
LOCATION:Knihkupectví Palladium\, Náměstí republiky 1\, NC Palladium\, Praha 1\, 11000
ORGANIZER;CN="Luxor":MAILTO:info@luxor.cz
END:VEVENT
END:VCALENDAR