BEGIN:VCALENDAR
VERSION:2.0
PRODID:-//Blog knihkupectví Luxor - ECPv6.15.20//NONSGML v1.0//EN
CALSCALE:GREGORIAN
METHOD:PUBLISH
X-ORIGINAL-URL:https://www.luxor.cz/blog
X-WR-CALDESC:Akce na Blog knihkupectví Luxor
REFRESH-INTERVAL;VALUE=DURATION:PT1H
X-Robots-Tag:noindex
X-PUBLISHED-TTL:PT1H
BEGIN:VTIMEZONE
TZID:Europe/Prague
BEGIN:DAYLIGHT
TZOFFSETFROM:+0100
TZOFFSETTO:+0200
TZNAME:CEST
DTSTART:20180325T010000
END:DAYLIGHT
BEGIN:STANDARD
TZOFFSETFROM:+0200
TZOFFSETTO:+0100
TZNAME:CET
DTSTART:20181028T010000
END:STANDARD
BEGIN:DAYLIGHT
TZOFFSETFROM:+0100
TZOFFSETTO:+0200
TZNAME:CEST
DTSTART:20190331T010000
END:DAYLIGHT
BEGIN:STANDARD
TZOFFSETFROM:+0200
TZOFFSETTO:+0100
TZNAME:CET
DTSTART:20191027T010000
END:STANDARD
BEGIN:DAYLIGHT
TZOFFSETFROM:+0100
TZOFFSETTO:+0200
TZNAME:CEST
DTSTART:20200329T010000
END:DAYLIGHT
BEGIN:STANDARD
TZOFFSETFROM:+0200
TZOFFSETTO:+0100
TZNAME:CET
DTSTART:20201025T010000
END:STANDARD
END:VTIMEZONE
BEGIN:VEVENT
DTSTART;TZID=Europe/Prague:20190509T170000
DTEND;TZID=Europe/Prague:20190509T170000
DTSTAMP:20260422T044342
CREATED:20190831T152627Z
LAST-MODIFIED:20190831T152627Z
UID:1920-1557421200-1557421200@www.luxor.cz
SUMMARY:NOVÝ SMÍCHOV: Taran Matharu - Křest knihy Učedník: Deník invokátora
DESCRIPTION:Schopnost invokovat se dědí krví\, ale přesto se testují iděti neurozených. Tak našli také Jamese Bakera a toto je jeho příběh. Jamesovým\ndobrodružstvím prolínají užitečné poznámky a hodnověrné zápisky o elfech\,\norcích a trpaslících\, doplňuje je přehledná démonologie a základní zaklínadla\nválečných mágů\, které tento neurozený invokátor sepsal v průběhu studia na\nVokanské akademii\, než se ztratil na území orků.
URL:https://www.luxor.cz/blog/akce/novy-smichov-taran-matharu-ucednik-denik-invokatora--1294/
LOCATION:Knihkupectví Nový Smíchov\, OC Nový Smíchov\, Praha 5\, 15000\, Česká republika
ORGANIZER;CN="Luxor":MAILTO:info@luxor.cz
END:VEVENT
BEGIN:VEVENT
DTSTART;TZID=Europe/Prague:20190520T150000
DTEND;TZID=Europe/Prague:20190520T150000
DTSTAMP:20260422T044342
CREATED:20190831T152629Z
LAST-MODIFIED:20190831T152629Z
UID:1922-1558364400-1558364400@www.luxor.cz
SUMMARY:Křest knihy Luboše Beniaka Dvě minuty mistry světa
DESCRIPTION:V létě 2007 jsme zažili fotbalovou senzaci: česká\nreprezentace do 20 let se na mistrovství světa v Kanadě nečekaně probojovala až\ndo finále a v něm jen těsně prohrála s Argentinou 1:2! Jan Šimůnek\, Martin\nFenin\, Luboš Kalouda\, Ondřej Kúdela\, Radek Petr a další hráči\, které předtím\nnikdo neznal\, se domů vrátili jako celebrity. Zdálo se\, že otázka\, kdo nahradí\nodcházející generaci Nedvěda\, Poborského\, Ujfalušiho\, Kolera\, je zodpovězena.\nKniha Dvě minuty mistry světa v ojedinělých reportážních portrétech popisuje\nživoty a kariéry patnácti vicemistrů světa. Kde přesně se rozplývaly jejich\nsny? Kudy vedla cesta z italské Serie A do moravského krajského přeboru? Jak se\nhráč prodává na sílu? Kdo na jejich přestupech vydělal? Přitom z\nřady jejich tehdejších soupeřů se staly světové hvězdy: Argentinci Agüero\,\nBanega\, Di María\, Brazilci Marcelo\, David Luiz\, Willian\, Španělé Piqué a Juan\nMata\, Chilané Alexis Sánchez a Vidal\, Uruguajci Cavani a Luis Suárez…
URL:https://www.luxor.cz/blog/akce/krest-knihy-lubose-beniaka-dve-minuty-mistry-sveta--1296/
LOCATION:Palác knih Luxor\, Václavské náměstí 820/41\, Praha 1\, 11000\, Česká republika
ORGANIZER;CN="Luxor":MAILTO:info@luxor.cz
END:VEVENT
BEGIN:VEVENT
DTSTART;TZID=Europe/Prague:20190522T170000
DTEND;TZID=Europe/Prague:20190522T170000
DTSTAMP:20260422T044342
CREATED:20190831T152629Z
LAST-MODIFIED:20190831T152629Z
UID:1921-1558544400-1558544400@www.luxor.cz
SUMMARY:Daniel Dočekal\, Anastázie Harris a Lubomír Heger – křest knihy Dítě v síti a autogramiáda
DESCRIPTION:Kniha Dítě v síti je přehledný a praktický návod\,\njak přistupovat k výchově a vzdělávání dětí během současné expanze\ninformačních technologií. Zabývá se mnoha paradoxy dnešní „doby datové“\, která\nnabízí dětem i dospělým stejně tak úžasné příležitosti jako dosud netušená\nrizika. Jak se smysluplně vzdělávat v  situaci\, kdy všechny informace jsou\nk dispozici na pár kliknutí\, ale je těžké vyznat se v jejich\nkontextu? Jak zamezit tomu\, aby děti upadly do digitální závislosti? Jaké\npodporovat v  dětech užitečné návyky a schopnosti\, které jim pomohou\nuspět v budoucnosti\, jež bude stále více závislá na algoritmech? Jak\nvztahy v rodině uchránit před náporem smartphonů\, sociálních sítí a \npočítačových her? Jak se „vypínat“ a zůstávat ve světě offline\na nestat se otrokem světa online? Autory knihy je renomovaná trojice\npublicistů Daniel Dočekal\, Anastázie Harris a Lubomír Heger z redakce\nmagazínu Flowee. Flowee vyhlásilo v roce 2018 celostátní detoxikační\nrituál #Denoffline a organizovalo konferenci Dítě v síti.
URL:https://www.luxor.cz/blog/akce/daniel-docekal-anastazie-harris-a-lubomir-heger-krest-knihy-dite-v-siti-a-autogramiada--1295/
LOCATION:Palác knih Luxor\, Václavské náměstí 820/41\, Praha 1\, 11000\, Česká republika
ORGANIZER;CN="Luxor":MAILTO:info@luxor.cz
END:VEVENT
BEGIN:VEVENT
DTSTART;TZID=Europe/Prague:20190522T170000
DTEND;TZID=Europe/Prague:20190522T170000
DTSTAMP:20260422T044342
CREATED:20190831T152629Z
LAST-MODIFIED:20190831T152629Z
UID:1923-1558544400-1558544400@www.luxor.cz
SUMMARY:PLZEŇ: Alena Mornštajnová - beseda a autogramiáda
DESCRIPTION:Co všechno\nnevíme o svých nejbližších? Bohdana je uzavřená dívka žijící jen s mrzoutským\notcem a dobrosrdečnou\, leč poddajnou Bělou. Trápí ji napětí v domě a tajemství\,\nkteré jí nepřestává vrtat hlavou: Proč ji těžce nemocná babička při poslední\nnávštěvě v léčebně oslovila „Blanko“? Vedle toho se odvíjí příběh Svatopluka\nŽáka\, oddaného komunisty\, který celý svůj život zasvětil budování socialismu\,\nlásce ke své ženě a dceři\, jejíž budoucnost měla být stejně zářivá jako hvězda\nna rudém praporu. Ale jak se říká: Chcete-li Boha rozesmát\, povězte mu o svých\nplánech. A tak se v jednom okamžiku oba příběhy slijí do jednoho a ukáže se\, že\nnic není takové\, jak se doposud zdálo\, a už vůbec ne takové\, jaké by to být\nmělo. Nový román Aleny Mornštajnové je jiný než ty předchozí. Nejedná se o\nvelké historické téma\, nýbrž o intimní rodinné drama\, kde hlavní roli nehrají\nvelké dějiny\, ale náhody a lidské charaktery. Stejně jako u románu Hana však\njde o silný\, strhujícím způsobem vyprávěný příběh\, který si čtenáře podmaní od\nprvní do poslední stránky.
URL:https://www.luxor.cz/blog/akce/alena-mornstajnova-beseda-a-autogramiada--1297/
LOCATION:Knihkupectví Plaza\, OC Plaza\, Plzeň\, 30100\, Česká republika
ORGANIZER;CN="Luxor":MAILTO:info@luxor.cz
END:VEVENT
BEGIN:VEVENT
DTSTART;TZID=Europe/Prague:20190524T150000
DTEND;TZID=Europe/Prague:20190524T150000
DTSTAMP:20260422T044342
CREATED:20190831T152629Z
LAST-MODIFIED:20190831T152629Z
UID:1925-1558710000-1558710000@www.luxor.cz
SUMMARY:Aneta Pavlová a Kateřina Kofroňová - Křest pohádkové knížky Kouzelná zahrada
DESCRIPTION:Proletět se na koních? Vidět zblízka mrakové peřiny a slyšet\nzpívat stromy a vodu? Proč by ne! S malou elfkou Týninkou a její věrnou\npoletuškou se děti mohou ponořit do inspirativního příběhu\, který dokáže\nprobudit jejich představivost\, kreativitu a pocit sounáležitosti s přírodou.\nNetypická\, bohatě ilustrovaná pohádková knížka vtáhne děti do kouzelného\ndobrodružství\, v němž se uvolní a pustí z hlavy všechny strachy a obavy. \nJednoho dne zmizí z oblohy hvězdy a voda přestane zpívat\, Země je v ohrožení a\npotřebuje pomoc. Zdá se\, že jedinou nadějí je malá elfka a její zářivé\ntajemství.
URL:https://www.luxor.cz/blog/akce/aneta-pavlova-a-katerina-kofronova-krest-pohadkove-knizky-kouzelna-zahrada--1299/
LOCATION:Palác knih Luxor\, Václavské náměstí 820/41\, Praha 1\, 11000\, Česká republika
ORGANIZER;CN="Luxor":MAILTO:info@luxor.cz
END:VEVENT
BEGIN:VEVENT
DTSTART;TZID=Europe/Prague:20190527T160000
DTEND;TZID=Europe/Prague:20190527T160000
DTSTAMP:20260422T044342
CREATED:20190831T152629Z
LAST-MODIFIED:20190831T152629Z
UID:1924-1558972800-1558972800@www.luxor.cz
SUMMARY:Šárka Vávrová - Jak k nám tělo promlouvá: Nemoc jako vzkaz duše
DESCRIPTION:Jak\novlivňuje stav duše naše tělo? Co nám\ntělo říká prostřednictvím bolesti hlavy nebo zad\, infekcemi a dalšími potížemi?\nProč se cítíte nemocní\, i když lékařské vyšetření žádnou nemoc neodhalilo? Proč\nse vám stále vrací zdravotní problémy\, i když žijete zdravě? \nObjevte tajemství psychosomatiky! Kniha zkušené terapeutky vám odhalí\, že za\nfyzickými potížemi často stojí negativní emoce\, přehnané nároky na sebe\,\nrodinné a pracovní problémy\, stres a další trápení\, která si často ani\nneuvědomujeme. Usnadní vám odkrýt příčiny vašich potíží\na pomůže vám vaše problémy řešit pomocí práce s vlastním já\, s vašimi\nvztahy\, potlačenými strachy\, starostmi apod. \nŽijeme-li život plný stresu a trápení\, duše začne volat prostřednictvím\nfyzických potíží o pomoc. Tato kniha vám pomůže odhalit problémy a starosti\nvyřešit.
URL:https://www.luxor.cz/blog/akce/sarka-vavrova-jak-k-nam-telo-promlouva-nemoc-jako-vzkaz-duse--1298/
LOCATION:Palác knih Luxor\, Václavské náměstí 820/41\, Praha 1\, 11000\, Česká republika
ORGANIZER;CN="Luxor":MAILTO:info@luxor.cz
END:VEVENT
BEGIN:VEVENT
DTSTART;TZID=Europe/Prague:20190529T170000
DTEND;TZID=Europe/Prague:20190529T170000
DTSTAMP:20260422T044342
CREATED:20190831T152630Z
LAST-MODIFIED:20190831T152630Z
UID:1926-1559149200-1559149200@www.luxor.cz
SUMMARY:Pavel Kohout – křest knihy Ten žena a ta muž
DESCRIPTION:Mladý muž s\nvysloveně ženskou povahou\, křehký\, stydlivý\, cudný\, zcela nezkušený\, navíc\nvelmi přísně vychovaný dvojicí bigotních sektářů\, narazí na podnikovém večírku\nna ženu v takzvaných nejlepších letech\, hrající v dámské kapele\, s více než\npestrou minulostí\, ztepilou\, silnou\, všestranně dominantní\, která se nápadně\npodobá svému nástroji – helikonu\, o němž slovník naučný praví\, že je to basová\nforma tuby\, užívaná v pochodové hudbě. Potkal se bizarní pár\, u něhož všechno\npůsobí a probíhá zcela obráceně. A protože jeho zběsilý příběh dosáhne své půle\nza velkého společenského převratu v roce 1989\, mění se existenciální groteska v\npovýtce společenskou\, když její hrdinové spadnou jako z bláta do louže z\nreálného socialismu do neméně reálného kapitalismu\, v obou případech českého\nražení. Knihu\, jejíž první díl vznikl před čtvrtstoletím v krušném čase „pro\nrozveselení přátel“\, dopsal autor po svých devíti vesměs dramatických románech\n„pro rozveselení sama sebe v době\, kdy Češi hrdě předvádějí světu\, že jsou\nschopni zůstat rozvojovou zemí i po pádu komunismu“.
URL:https://www.luxor.cz/blog/akce/pavel-kohout-krest-knihy-ten-zena-a-ta-muz--1300/
LOCATION:Palác knih Luxor\, Václavské náměstí 820/41\, Praha 1\, 11000\, Česká republika
ORGANIZER;CN="Luxor":MAILTO:info@luxor.cz
END:VEVENT
BEGIN:VEVENT
DTSTART;TZID=Europe/Prague:20190530T170000
DTEND;TZID=Europe/Prague:20190530T170000
DTSTAMP:20260422T044342
CREATED:20190831T152631Z
LAST-MODIFIED:20190831T152631Z
UID:1927-1559235600-1559235600@www.luxor.cz
SUMMARY:NOVÝ SMÍCHOV: Jiří Březina - autorské čtení\, beseda a autogramiáda
DESCRIPTION:Hromada\npopela byla ještě včera lidským tělem. Další případ poručíka Volfa.\nNadpřirozený jev\, zvláštní shoda okolností\, nebo rafinovaná snaha zničit\ndůkazy? To je případ\, nad kterým kroutí hlavou i vyšetřovatel požárů. Najít\nodpovědi rozhodně nebude snadné. Poručík Tomáš Volf na novém působišti v Praze\nmezi nové kolegy zrovna nezapadl a na složité vyšetřování je tak vlastně sám.\nPomůže mu návrat k uzavřenému případu\, který začal podobně hrůzným nálezem?\nMůže se ale stát\, že narazí na něco\, co změní život hned několika lidí.
URL:https://www.luxor.cz/blog/akce/novy-smichov-jiri-brezina-autorske-cteni-beseda-a-autogramiada--1301/
LOCATION:Knihkupectví Nový Smíchov\, OC Nový Smíchov\, Praha 5\, 15000\, Česká republika
ORGANIZER;CN="Luxor":MAILTO:info@luxor.cz
END:VEVENT
BEGIN:VEVENT
DTSTART;TZID=Europe/Prague:20190531T210000
DTEND;TZID=Europe/Prague:20190531T210000
DTSTAMP:20260422T044342
CREATED:20190831T152627Z
LAST-MODIFIED:20190831T152627Z
UID:1919-1559336400-1559336400@www.luxor.cz
SUMMARY:KVĚTEN VÝHODNĚ PRO DĚTI A MLÁDEŽ!
DESCRIPTION:Vyberte si po celý květen v knihkupectvích Luxor knihy z nakladatelství PIKOLA a YOLI\na získejte krásnou slevu. \n \nPři nákupu: \n– \n2 knih z výše uvedených nakladatelství = 20%\nsleva \n– \n3 a více knih vám přinesou rovnou = 30% sleva \nKnížky z obou nakladatelství najdete v knihkupectvích\nLuxor hezky a viditelně vystavené\, abyste věděli\, co můžete vybírat. \n \nUdělejte dětem i dospívajícím radost za vysvědčení už v květnu! \n \nLuxor\, v knihkupectví jako doma
URL:https://www.luxor.cz/blog/akce/kveten-vyhodne-pro-deti-a-mladez--1293/
ORGANIZER;CN="Luxor":MAILTO:info@luxor.cz
END:VEVENT
END:VCALENDAR