BEGIN:VCALENDAR
VERSION:2.0
PRODID:-//Blog knihkupectví Luxor - ECPv6.15.20//NONSGML v1.0//EN
CALSCALE:GREGORIAN
METHOD:PUBLISH
X-ORIGINAL-URL:https://www.luxor.cz/blog
X-WR-CALDESC:Akce na Blog knihkupectví Luxor
REFRESH-INTERVAL;VALUE=DURATION:PT1H
X-Robots-Tag:noindex
X-PUBLISHED-TTL:PT1H
BEGIN:VTIMEZONE
TZID:Europe/Prague
BEGIN:DAYLIGHT
TZOFFSETFROM:+0100
TZOFFSETTO:+0200
TZNAME:CEST
DTSTART:20180325T010000
END:DAYLIGHT
BEGIN:STANDARD
TZOFFSETFROM:+0200
TZOFFSETTO:+0100
TZNAME:CET
DTSTART:20181028T010000
END:STANDARD
BEGIN:DAYLIGHT
TZOFFSETFROM:+0100
TZOFFSETTO:+0200
TZNAME:CEST
DTSTART:20190331T010000
END:DAYLIGHT
BEGIN:STANDARD
TZOFFSETFROM:+0200
TZOFFSETTO:+0100
TZNAME:CET
DTSTART:20191027T010000
END:STANDARD
BEGIN:DAYLIGHT
TZOFFSETFROM:+0100
TZOFFSETTO:+0200
TZNAME:CEST
DTSTART:20200329T010000
END:DAYLIGHT
BEGIN:STANDARD
TZOFFSETFROM:+0200
TZOFFSETTO:+0100
TZNAME:CET
DTSTART:20201025T010000
END:STANDARD
END:VTIMEZONE
BEGIN:VEVENT
DTSTART;TZID=Europe/Prague:20190402T170000
DTEND;TZID=Europe/Prague:20190402T170000
DTSTAMP:20260422T062649
CREATED:20190831T152620Z
LAST-MODIFIED:20190831T152620Z
UID:1908-1554224400-1554224400@www.luxor.cz
SUMMARY:Křest knihy Nasladko od Terezy Obermajerové
DESCRIPTION:Na sladké se dá jít zdravě a tato kuchařka je toho důkazem.\nKombinuje raw\, veganský a bezlepkový i klasický přístup. Nevzdává se cukru\, ale\nsnaží se ho nahrazovat přírodními sladidly. Namísto pšeničné mouky je použita\nmouka zdravější. A i když se v kuchařce laktóza neřeší\, najdete experimenty i s\nnemléčnými výrobky. Autorka peče klasické dorty a koláče\, samozřejmě po svém\,\nmiluje raw dorty a vymýšlí sladké drobnosti ke svačině\, kávě nebo aperitivu.\nZkuste to jako ona – sladce a zdravě! A nebojte se\, nebudete potřebovat žádné\nspeciální roboty\, vystačíte si jen s mixérem\, holýma rukama a vařečkou.
URL:https://www.luxor.cz/blog/akce/krest-knihy-nasladko-od-terezy-obermajerove--1282/
LOCATION:Palác knih Luxor\, Václavské náměstí 820/41\, Praha 1\, 11000\, Česká republika
ORGANIZER;CN="Luxor":MAILTO:info@luxor.cz
END:VEVENT
BEGIN:VEVENT
DTSTART;TZID=Europe/Prague:20190403T170000
DTEND;TZID=Europe/Prague:20190403T170000
DTSTAMP:20260422T062649
CREATED:20190831T152620Z
LAST-MODIFIED:20190831T152620Z
UID:1909-1554310800-1554310800@www.luxor.cz
SUMMARY:Michal Viewegh Povídky o nelásce – křest knihy a autogramiáda
DESCRIPTION:V nových\npovídkách se náš nejpopulárnější spisovatel opět vydává do známého hájemství\npříběhů „o manželství a sexu“\, ale jak je pro něj v posledních dílech typické\,\npohled je to trpký\, sebeironický a občas černočerně vtipný. Spisovatelovo\nalter-ego přichází o manželku\, peníze\, rodinné zázemí a v jednom případě\ndokonce i o psa\, ale své ztráty sčítá s posmutnělým klidem. Výseky ze života\,\nkde se láska odehrála kdysi dávno\, nyní už je však nenávratně pryč\, autor zachycuje\ns posmutnělým cynismem\, který občas pózuje jako hrdinství\, ale prozrazuje únavu\na deziluzi. Tvrdý střet s realitou zde má řadu podob\, ale obdobné poselství –\ntotiž že to\, co člověku nakonec zůstane\, je jen on sám\, a tomu\, kdo se\nzpronevěří i sobě\, nakonec nezbyde nic.
URL:https://www.luxor.cz/blog/akce/michal-viewegh-povidky-o-nelasce-krest-knihy-a-autogramiada--1283/
LOCATION:Palác knih Luxor\, Václavské náměstí 820/41\, Praha 1\, 11000\, Česká republika
ORGANIZER;CN="Luxor":MAILTO:info@luxor.cz
END:VEVENT
BEGIN:VEVENT
DTSTART;TZID=Europe/Prague:20190404T173000
DTEND;TZID=Europe/Prague:20190404T173000
DTSTAMP:20260422T062649
CREATED:20190831T152623Z
LAST-MODIFIED:20190831T152623Z
UID:1914-1554399000-1554399000@www.luxor.cz
SUMMARY:Petra Macková Hrochová Psí tinder: Randění z po(d)hledu vašeho psa
DESCRIPTION:Veselé\nvyprávění o hledání muže snů z pohledu lehce náročného psa.  \nPříhody\nbuldočka Evžena a jeho atraktivní lidské paničky. Jako nerozlučná dvojice se\nspolu vydávají do restaurací\, na výstavy\, na výlety\, do posilovny a každý den\ndo práce. Přičemž se zaměřují (oba) na vyhlížení muže\, který by jim (oběma)\nvyhovoval. Veselé vyprávění o hledání muže snů z pohledu lehce náročného psa.
URL:https://www.luxor.cz/blog/akce/petra-mackova-hrochova-psi-tinder-randeni-z-podhledu-vaseho-psa--1288/
LOCATION:Palác knih Luxor\, Václavské náměstí 820/41\, Praha 1\, 11000\, Česká republika
ORGANIZER;CN="Luxor":MAILTO:info@luxor.cz
END:VEVENT
BEGIN:VEVENT
DTSTART;TZID=Europe/Prague:20190409T153000
DTEND;TZID=Europe/Prague:20190409T153000
DTSTAMP:20260422T062649
CREATED:20190831T152621Z
LAST-MODIFIED:20190831T152621Z
UID:1910-1554823800-1554823800@www.luxor.cz
SUMMARY:LIBEREC: Autogramiáda Zdeňka Pohlreicha
DESCRIPTION:Čerstvost a lehkost se stávají tématem dnešní doby zcela\njednoznačně a časy\, kdy kolečko rajčete spolu se zvadlým salátem bylo jedinou\nčerstvou věcí na talíři\, upadnou už brzy v zapomnění. Být fresh bude prostě\nnovou kulturou\, to je jistá věc. Chtěli jsme\, aby tahle kniha občerstvila váš\nrepertoár a dala vaší kuchyni víc života a dobrých nápadů. Vašemu jídlu\nsex-appeal\, kyslík\, energii a pestrost. Není to jen soubor receptů\, je to\nkoncept\, který vám může značně vylepšit život. Za názvem se skrývá dvojsmysl\,\nna jedné straně vyjadřuje absolutní kvalitu produktů\, se kterými pracujeme\, ale\ntaké svěží mysl\, kterou je podstatné si udržet mezi ušima. Přesně tam\, kde\nmohou čerstvé myšlenky získat tvar a prostor. Z čerstvosti jsme si u téhle\nknihy udělali mantru. Jsem totiž přesvědčen\, že když je fresh jídlo\, tak budete\nfresh i vy.
URL:https://www.luxor.cz/blog/akce/liberec-autogramiada-zdenka-pohlreicha--1284/
LOCATION:Knihkupectví Forum\, OC Forum\, Liberec\, 46001\, Česká republika
ORGANIZER;CN="Luxor":MAILTO:info@luxor.cz
END:VEVENT
BEGIN:VEVENT
DTSTART;TZID=Europe/Prague:20190409T170000
DTEND;TZID=Europe/Prague:20190409T170000
DTSTAMP:20260422T062649
CREATED:20190831T152620Z
LAST-MODIFIED:20190831T152620Z
UID:1907-1554829200-1554829200@www.luxor.cz
SUMMARY:Lars Kepler v Praze - autogramiáda fenomenální autorské dvojice
DESCRIPTION:Více podrobností a zajímavostí najdete NA NAŠEM FACEBOOKU. \n \n \nK tomu připojujeme informace o nejnovějším dílu série s komisařem Joonou Linnou: \nLars Kepler: Lazar \nKomisař Joona Linna si myslel\, že už má to nejhorší za sebou\, přitom všechno teprve začíná… \nPolicisté objeví v bytě na předměstí Osla tělo mrtvého muže. Z toho\, co\nnajdou v mrazáku\, jsou v šoku. Zavražděný byl vykradač hrobů\, sběratel\ntrofejí a kanibal. Jednou z trofejí je i lebka Summy Linnové\, Joonovy\nmanželky.\nO několik dní později požádá švédskou policii o pomoc německá komisařka.\n V kempu nedaleko Rostocku byl zavražděn sexuální násilník.\nJoona záhy pochopí\, že zdánlivě náhodnou souvislost mezi oběťmi nemůže\nignorovat – stopy vedou k někomu\, kdo má být již dávno mrtvý.
URL:https://www.luxor.cz/blog/akce/lars-kepler-v-praze-autogramiada-fenomenalni-autorske-dvojice--1281/
LOCATION:Palác knih Luxor\, Václavské náměstí 820/41\, Praha 1\, 11000\, Česká republika
ORGANIZER;CN="Luxor":MAILTO:info@luxor.cz
END:VEVENT
BEGIN:VEVENT
DTSTART;TZID=Europe/Prague:20190411T170000
DTEND;TZID=Europe/Prague:20190411T170000
DTSTAMP:20260422T062649
CREATED:20190831T152623Z
LAST-MODIFIED:20190831T152623Z
UID:1912-1555002000-1555002000@www.luxor.cz
SUMMARY:PLZEŇ: Monika Brýdová To nejlepší z Loskutáka - workshop a autogramiáda
DESCRIPTION:Rady ptáka\nLoskutáka jsou stálicí české televizní zábavy a všestranně nadaná Monika\nBrýdová se v nich objevuje už přes patnáct let. A nyní máte možnost\, jak si\nvytvořit vlastníma rukama to nejlepší z její tvorby. Srozumitelné popisy a\nfotonávody vás bezpečně a krok po kroku povedou ke zdárným výsledkům.\nOriginálně\, zábavně\, ale hlavně inspirativně – popusťte uzdu své fantazii a\npusťte se do tvoření!
URL:https://www.luxor.cz/blog/akce/plzen-monika-brydova-to-nejlepsi-z-loskutaka-workshop-a-autogramiada--1286/
LOCATION:Knihkupectví Plaza\, OC Plaza\, Plzeň\, 30100\, Česká republika
ORGANIZER;CN="Luxor":MAILTO:info@luxor.cz
END:VEVENT
BEGIN:VEVENT
DTSTART;TZID=Europe/Prague:20190416T170000
DTEND;TZID=Europe/Prague:20190416T170000
DTSTAMP:20260422T062649
CREATED:20190831T152623Z
LAST-MODIFIED:20190831T152623Z
UID:1913-1555434000-1555434000@www.luxor.cz
SUMMARY:ČESKÉ BUDĚJOVICE: Monika Brýdová To nejlepší z Loskutáka - křest knihy\, workshop a autogramiáda
DESCRIPTION:Rady ptáka\nLoskutáka jsou stálicí české televizní zábavy a všestranně nadaná Monika\nBrýdová se v nich objevuje už přes patnáct let. A nyní máte možnost\, jak si\nvytvořit vlastníma rukama to nejlepší z její tvorby. Srozumitelné popisy a\nfotonávody vás bezpečně a krok po kroku povedou ke zdárným výsledkům.\nOriginálně\, zábavně\, ale hlavně inspirativně – popusťte uzdu své fantazii a\npusťte se do tvoření!
URL:https://www.luxor.cz/blog/akce/ceske-budejovice-monika-brydova-to-nejlepsi-z-loskutaka-krest-knihy-workshop-a-autogramiada--1287/
LOCATION:Knihkupectví U Černé věže\, U Černé věže 15\, České Budějovice\, 37001\, Česká republika
ORGANIZER;CN="Luxor":MAILTO:info@luxor.cz
END:VEVENT
BEGIN:VEVENT
DTSTART;TZID=Europe/Prague:20190416T170000
DTEND;TZID=Europe/Prague:20190416T170000
DTSTAMP:20260422T062649
CREATED:20190831T152626Z
LAST-MODIFIED:20190831T152626Z
UID:1916-1555434000-1555434000@www.luxor.cz
SUMMARY:Václav Klaus: Stále na cestách - křest knihy a autogramiáda
DESCRIPTION:Václav Klaus – Stále na cestách je čtvrtým pokračováním\nčtenářsky úspěšné série cestovatelských zápisků významné osobnosti českého\nveřejného života a bývalého prezidenta republiky. \nFenomén „zápisků z cest“ – cestopisných postřehů doplňovaných díky\nspecifičnosti autorových cest unikátním politicko-společenským kontextem –\nvznikl z potřeby informovat veřejnost o zahraničních cestách\nprezidenta republiky. \nZápisky si od té doby našly mezi čtenáři pevné místo.  \n„Mnoho navštívených míst je opravdu krásných. Vysokohorská\, totálně\nprázdná a turisticky nedotčená krajina Kavkazu nedaleko Soči\, poušť\na moře kolem marocké Dakhly\, malebná jihofrancouzská oblast Cap Ferrat\nnedaleko Monte Carla\, zádumčivá finská jezera v naprostém klidu severských\nlesů\, starobylá\, už před mnoha tisíciletími obydlená\, na vysokém kopci nad\nmořem se nacházející sicilská Erice\, atd. Snad něco z toho naznačí\namatérsky dělané fotografie\, kterých je v knížce poměrně velké množství.“
URL:https://www.luxor.cz/blog/akce/vaclav-klaus-stale-na-cestach-krest-knihy-a-autogramiada--1290/
LOCATION:Palác knih Luxor\, Václavské náměstí 820/41\, Praha 1\, 11000\, Česká republika
ORGANIZER;CN="Luxor":MAILTO:info@luxor.cz
END:VEVENT
BEGIN:VEVENT
DTSTART;TZID=Europe/Prague:20190423T170000
DTEND;TZID=Europe/Prague:20190423T170000
DTSTAMP:20260422T062649
CREATED:20190831T152623Z
LAST-MODIFIED:20190831T152623Z
UID:1911-1556038800-1556038800@www.luxor.cz
SUMMARY:Křest knížky Čarodějnice Bordelína od Sandry Dražilové Zlámalové
DESCRIPTION:Dopoklidného lesa Bambručáku se jednoho dne nastěhuje čarodějnice Bordelína a\nzačne pořádná mela! Téhle malé uličnici totiž nic v lese není po chuti.\nAle protože přece není čarodějnicí jen tak pro nic za nic\, brzy si vše\npřečaruje podle svého gusta.\nZvířátka ani děti si s Bordelínou nevědí rady\, vyvádí jim jednu lumpárnu\nza druhou. Celý les zaneřádí barevnými papírky\, měkoučký mech ve zvířecích\npostýlkách vymění za žahavé kopřivy\, a dokonce v noci létá na svém kouzelném\ndeštníku dělat dětem do pokojíčků nepořádek. A co teprve když ji přiletí\nnavštívit její bratr\, čaroděj Puchonosodor! Jenže kdo jinému jámu kopá\, sám do\nní často zahučí…
URL:https://www.luxor.cz/blog/akce/krest-knizky-carodejnice-bordelina-od-sandry-drazilove-zlamalove--1285/
LOCATION:Palác knih Luxor\, Václavské náměstí 820/41\, Praha 1\, 11000\, Česká republika
ORGANIZER;CN="Luxor":MAILTO:info@luxor.cz
END:VEVENT
BEGIN:VEVENT
DTSTART;TZID=Europe/Prague:20190429T170000
DTEND;TZID=Europe/Prague:20190429T170000
DTSTAMP:20260422T062649
CREATED:20190831T152626Z
LAST-MODIFIED:20190831T152626Z
UID:1917-1556557200-1556557200@www.luxor.cz
SUMMARY:PLZEŇ: Beseda a autogramiáda Tomáše Vaňourka a Lukáše Sochy ke knize Zikmund 100: Po stopách Zikmunda a Hanzelky
DESCRIPTION:Příběh cestovatelských legend ožívá\nv retrospektivě dvou obyčejných kluků \nDva mladí muži se vydávají po stopách asijské cesty Zikmunda\na Hanzelky. Dnešníma očima hledí na stejná místa\, jako kdysi před šedesáti lety\njejich slavní předchůdci. Fotí\, natáčejí\, baví se s lidmi a zjišťují\, jak moc\nse svět změnil. Kde stálo několik chalup\, tyčí se dnes mrakodrapy. Fotoanabáze\ndvou kluků\, kteří neposlechli rady „zkušených“\, aby neblbli a dělali něco\npořádného\, jako pocta Miroslavu Zikmundovi k jeho stým narozeninám.
URL:https://www.luxor.cz/blog/akce/plzen-beseda-a-autogramiada-tomase-vanourka-a-lukase-sochy-ke-knize-zikmund-100-po-stopach-zikmunda-a-hanzelky--1291/
LOCATION:Knihkupectví Plaza\, OC Plaza\, Plzeň\, 30100\, Česká republika
ORGANIZER;CN="Luxor":MAILTO:info@luxor.cz
END:VEVENT
BEGIN:VEVENT
DTSTART;TZID=Europe/Prague:20190430T140000
DTEND;TZID=Europe/Prague:20190430T140000
DTSTAMP:20260422T062649
CREATED:20190831T152624Z
LAST-MODIFIED:20190831T152624Z
UID:1915-1556632800-1556632800@www.luxor.cz
SUMMARY:KAŽDÝ LOS VYHRÁVÁ
DESCRIPTION:Pozor\, pozor! V dubnu už vůbec neseďte za kamny a\nvyrazte raději do Luxoru! \nKnihkupectví Luxor totiž vyhlašuje velkou dubnovou soutěž o výhry\,\nkterým nelze odolat. Ke každému nákupu na 399\,- získáte ve všech knihkupectvích\nLuxor stírací los\, který je skoro kouzelný\, protože úplně KAŽDÝ LOS VYHRÁVÁ! \n \nCo můžete vyhrát? \nHlavní výhrou je automobil MINI One\, dále se můžete těšit na\nvouchery na dovolenou od CA INVIA v hodnotě 30 000 Kč\, kávovary Nespresso\,\nhodnotné balíčky knih\, knihy dle speciálního výběru knihkupectví Luxor a také\nhromady slev (v hodnotách 30 %\, 20 % či 10 %) na vaše další nákupy. \nSlevy na nákupy a knižní odměny si můžete vyzvednout obratem\nve svém oblíbeném knihkupectví Luxor\, informace o předání dalších výher vám s radostí\nsdělí naši prodavači. Platnost losu je do\n31. května 2019. \n \n \nVyhráli jste? \nTak se nám pochlubte svou výhrou na Facebooku s označením\nKnihkupectví Luxor či #kazdylosvyhrava. \n \nTěšíme se na vás v knihkupectví a přejeme šťastnou ruku\npři výběru výherního losu!!! \nLuxor\, v knihkupectví jako doma \n \n \nPOZN.: \nSoutěž platí pro všech\n35 knihkupectví\, neplatí pro e-shop. Výhry a podobě slevy nelze uplatnit\nna učebnice a již zlevněné zboží. Slevy se nesčítají a nelze je kombinovat se\nslevami Knižního klubu PREMIUM. Fotografie výher na losu jsou pouze ilustrační. \nÚplné znění\npravidel najdete ZDE.
URL:https://www.luxor.cz/blog/akce/kazdy-los-vyhrava--1289/
ORGANIZER;CN="Luxor":MAILTO:info@luxor.cz
END:VEVENT
BEGIN:VEVENT
DTSTART;TZID=Europe/Prague:20190430T170000
DTEND;TZID=Europe/Prague:20190430T170000
DTSTAMP:20260422T062649
CREATED:20190831T152627Z
LAST-MODIFIED:20190831T152627Z
UID:1918-1556643600-1556643600@www.luxor.cz
SUMMARY:NOVÝ SMÍCHOV: Tomáš Vaňourek a Lukáš Socha Zikmund 100: Po stopách Zikmunda a Hanzelky
DESCRIPTION:Příběh cestovatelských legend ožívá\nv retrospektivě dvou obyčejných kluků \nDva mladí muži se vydávají po stopách asijské cesty Zikmunda\na Hanzelky. Dnešníma očima hledí na stejná místa\, jako kdysi před šedesáti lety\njejich slavní předchůdci. Fotí\, natáčejí\, baví se s lidmi a zjišťují\, jak moc\nse svět změnil. Kde stálo několik chalup\, tyčí se dnes mrakodrapy. Fotoanabáze\ndvou kluků\, kteří neposlechli rady „zkušených“\, aby neblbli a dělali něco\npořádného\, jako pocta Miroslavu Zikmundovi k jeho stým narozeninám.
URL:https://www.luxor.cz/blog/akce/novy-smichov-tomas-vanourek-a-lukas-socha-zikmund-100-po-stopach-zikmunda-a-hanzelky--1292/
LOCATION:Knihkupectví Nový Smíchov\, OC Nový Smíchov\, Praha 5\, 15000\, Česká republika
ORGANIZER;CN="Luxor":MAILTO:info@luxor.cz
END:VEVENT
END:VCALENDAR