BEGIN:VCALENDAR
VERSION:2.0
PRODID:-//Blog knihkupectví Luxor - ECPv6.15.20//NONSGML v1.0//EN
CALSCALE:GREGORIAN
METHOD:PUBLISH
X-ORIGINAL-URL:https://www.luxor.cz/blog
X-WR-CALDESC:Akce na Blog knihkupectví Luxor
REFRESH-INTERVAL;VALUE=DURATION:PT1H
X-Robots-Tag:noindex
X-PUBLISHED-TTL:PT1H
BEGIN:VTIMEZONE
TZID:Europe/Prague
BEGIN:DAYLIGHT
TZOFFSETFROM:+0100
TZOFFSETTO:+0200
TZNAME:CEST
DTSTART:20170326T010000
END:DAYLIGHT
BEGIN:STANDARD
TZOFFSETFROM:+0200
TZOFFSETTO:+0100
TZNAME:CET
DTSTART:20171029T010000
END:STANDARD
BEGIN:DAYLIGHT
TZOFFSETFROM:+0100
TZOFFSETTO:+0200
TZNAME:CEST
DTSTART:20180325T010000
END:DAYLIGHT
BEGIN:STANDARD
TZOFFSETFROM:+0200
TZOFFSETTO:+0100
TZNAME:CET
DTSTART:20181028T010000
END:STANDARD
BEGIN:DAYLIGHT
TZOFFSETFROM:+0100
TZOFFSETTO:+0200
TZNAME:CEST
DTSTART:20190331T010000
END:DAYLIGHT
BEGIN:STANDARD
TZOFFSETFROM:+0200
TZOFFSETTO:+0100
TZNAME:CET
DTSTART:20191027T010000
END:STANDARD
END:VTIMEZONE
BEGIN:VEVENT
DTSTART;TZID=Europe/Prague:20181201T140000
DTEND;TZID=Europe/Prague:20181201T140000
DTSTAMP:20260422T192549
CREATED:20190831T152602Z
LAST-MODIFIED:20190831T152602Z
UID:1868-1543672800-1543672800@www.luxor.cz
SUMMARY:Atticus – beseda a autogramiáda amerického instagramového básníka
DESCRIPTION:Love Her Wild je sbírkou veršů mladého autora\, který si\nzískal srdce půl milionu fanoušků na sociální síti Instagram. Časopis Teen\nVogue ho označil za nejzajímavějšího básníka\, kterému je třeba věnovat\npozornost a magazín Galore za autora\, jehož slova si lidé nejčastěji tetují na kůži.\nSvé čtenáře okouzlil upřímností a autenticitou s jakou vystihuje ty\nnejdrobnější okamžiky. Jeho krátké a úsporné verše inspiruje láska\, ženská\nduše\, divoká příroda a svoboda\, ve všech jejích podobách…. \nPostav dívkudo měsíčního svitua říkej samou pravdu:pak se z každého mužestane básník.
URL:https://www.luxor.cz/blog/akce/atticus-beseda-a-autogramiada-americkeho-instagramoveho-basnika--1240/
LOCATION:Palác knih Luxor\, Václavské náměstí 820/41\, Praha 1\, 11000\, Česká republika
ORGANIZER;CN="Luxor":MAILTO:info@luxor.cz
END:VEVENT
BEGIN:VEVENT
DTSTART;TZID=Europe/Prague:20181203T170000
DTEND;TZID=Europe/Prague:20181203T170000
DTSTAMP:20260422T192549
CREATED:20190831T152557Z
LAST-MODIFIED:20190831T152557Z
UID:1856-1543856400-1543856400@www.luxor.cz
SUMMARY:PLZEŇ: Zdeněk Pohlreich – beseda a autogramiáda k nové knize Fresh kuchyně
DESCRIPTION:Čerstvost a lehkost se stávají tématem dnešní doby zcela jednoznačně a časy\, kdy kolečko rajčete spolu se zvadlým salátem bylo\njedinou čerstvou věcí na talíři\, upadnou už brzy v zapomnění. Být fresh\nbude prostě novou kulturou\, to je jistá věc. Chtěli jsme\, aby tahle\nkniha občerstvila váš repertoár a dala vaší kuchyni víc života a dobrých\n nápadů. Vašemu jídlu sex-appeal\, kyslík\, energii a pestrost. Není to\njen soubor receptů\, je to koncept\, který vám může značně vylepšit život.\n Za názvem se skrývá dvojsmysl\, na jedné straně vyjadřuje absolutní\nkvalitu produktů\, se kterými pracujeme\, ale také svěží mysl\, kterou je\npodstatné si udržet mezi ušima. Přesně tam\, kde mohou čerstvé myšlenky\nzískat tvar a prostor. Z čerstvosti jsme si u téhle knihy udělali\nmantru. Jsem totiž přesvědčen\, že když je fresh jídlo\, tak budete fresh i\n vy.
URL:https://www.luxor.cz/blog/akce/plzen-zdenek-pohlreich-beseda-a-autogramiada-k-nove-knize-fresh-kuchyne--1227/
LOCATION:Knihkupectví Plaza\, OC Plaza\, Plzeň\, 30100\, Česká republika
ORGANIZER;CN="Luxor":MAILTO:info@luxor.cz
END:VEVENT
BEGIN:VEVENT
DTSTART;TZID=Europe/Prague:20181203T170000
DTEND;TZID=Europe/Prague:20181203T170000
DTSTAMP:20260422T192549
CREATED:20190831T152602Z
LAST-MODIFIED:20190831T152602Z
UID:1870-1543856400-1543856400@www.luxor.cz
SUMMARY:Robert Geisler a Tomáš Hodan: Čertí brko - příběh na motivy filmové pohádky
DESCRIPTION:Věděli jste\, že peklo je úřad starý jako lidstvo samo a vůbec tu není proto\, aby nám něco zlého\nnašeptával? Zlo si totiž každý nosí v sobě… Nejmocnější pekelnou zbraní je\nČertí brko\, které zapisuje všechny hříchy. Aby čerti nemuseli za hříšníky létat\npo celém světě\, mají ho rozdělený na jednotlivá podpekla\, odpovědná ústřednímu\npeklu a samotnému Luciferovi.  \nZbrusu nová česká\npohádka\, na kterou se budete moct podívat i v kině nebo v televizi\, vás zavede\ndo podpekla Pervidle a místně příslušné obce Pytlov. V podpekle se jednoho dne\nporouchá Čertí brko a Lucifer se rozhodne pověřit doručením nového nezkušeného\nčerta Bonifáce\, aby se nekňuba ve světě trochu otrkal. Bonifác se vydává do\nPytlova\, ale hned zkraje ho zdejší šejdíř krejčí Klouzek okrade nejen o brko\,\nale i o další kouzelné pekelné předměty. Události pak nabírají rychlý spád:\nPytlov ovládnou místní vychytralci\, lenoši a podvodníci\, jimž se dokonce podaří\nzrušit peklo a uvěznit jeho vládce! Bonifác v sobě musí probudit všechny\nčertovské síly a na plné obrátky roztočit závity svého vynalézavého mozku\, aby\nosvobodil Pytlov\, Lucifera a také krásnou nehříšnici Markétku\, do které je\nzamilovaný až po uši\, z moci zloduchů a povalečů.  \nNádherné\ncelostránkové ilustrace scénografa\, loutkaře\, výtvarníka a pedagoga Roberta\nSmolíka doplněné řadou propracovaných náčrtků\, plánů\, zápisků\, razítek\, kolků a\nznámek vytvářejí spolu s textem harmonicky působivý celek knihy\, která má navíc\nvelmi aktuální vyznění – pamatujte\, milí hříšníci: kdo chce rušit peklo\, ten to\ns vámi nikdy nemyslí dobře. Právě takový má v sobě zla nejvíc. A nikdy nevěřte\nnikomu\, kdo vám slibuje ráj na zemi\, protože ten si musí každý zasloužit sám. I\npřes svůj hluboký obsah je tenhle poučný příběh napsaný s lehkostí a\nneuvěřitelným vtipem\, takže se při jeho čtení bude opravdu dobře bavit celá\nrodina!
URL:https://www.luxor.cz/blog/akce/robert-geisler-a-tomas-hodan-certi-brko-pribeh-na-motivy-filmove-pohadky--1242/
LOCATION:Palác knih Luxor\, Václavské náměstí 820/41\, Praha 1\, 11000\, Česká republika
ORGANIZER;CN="Luxor":MAILTO:info@luxor.cz
END:VEVENT
BEGIN:VEVENT
DTSTART;TZID=Europe/Prague:20181204T170000
DTEND;TZID=Europe/Prague:20181204T170000
DTSTAMP:20260422T192549
CREATED:20190831T152602Z
LAST-MODIFIED:20190831T152602Z
UID:1869-1543942800-1543942800@www.luxor.cz
SUMMARY:PALLADIUM: Autogramiáda Terezy Willoughby a křest její knihy Bistro doma
DESCRIPTION:Kdo nevaří\, jako by snad ani nebyl. Opravdu vás ale zajímá\njídlo\, kvůli kterému strávíte hodiny v kuchyni a nakoupíte suroviny za cenu\nluxusní večeře? Toužíte po nadpozemské slasti z pečínky\, nebo prostě chcete\, aby\nse povedla? Novinářka Tereza Willoughby nabízí svůj vlastní zápisník receptů\,\nkteré z vás udělají hvězdu kuchyně s minimální námahou. Jídlo na každý měsíc a\nnavíc tipy\, jak si nad horkou plotnou zachovat chladnou hlavu. Nechoďte pro\nvečeři do bistra za rohem\, doma máte lepší.
URL:https://www.luxor.cz/blog/akce/palladium-autogramiada-terezy-willoughby-a-krest-jeji-knihy-bistro-doma--1241/
LOCATION:Knihkupectví Palladium\, Náměstí republiky 1\, NC Palladium\, Praha 1\, 11000
ORGANIZER;CN="Luxor":MAILTO:info@luxor.cz
END:VEVENT
BEGIN:VEVENT
DTSTART;TZID=Europe/Prague:20181204T170000
DTEND;TZID=Europe/Prague:20181204T170000
DTSTAMP:20260422T192549
CREATED:20190831T152604Z
LAST-MODIFIED:20190831T152604Z
UID:1874-1543942800-1543942800@www.luxor.cz
SUMMARY:Autogramiáda Arnošta Goldflama a křest jeho nové knihy Podivné historky ze života
DESCRIPTION:Od severního\npolárního kruhu přes moravskou megapoli až po království Tropikálů\nPřímořských\, krajinami falešných proroků\, rozumbradiček a uplakaných\nstarců\, tudy nás proveze vypravěč Arnošt Goldflam. \nDvacítka jeho povídek\, které ilustracemi doprovází autorova žena Petra\, je\nbarvitá jako prvomájový alegorický vůz. Když si jej však prohlédneme zblízka\,\npoznáme\, že za rozjásanými kulisami kraluje horor a figury\nz papírmaše jsou posmutnělé v předtuše zániku. \nJak Vy tam bydlíte? Máte baráky z ledových kostek sestavený\, iglú? Nebo co\nmáte? A kde bych bydlela já? Nebo mám vzít stan\, jak my říkáme — čum?\nA čím se stravujete? Chodíte na lov? Žijou tam u Vás tuleni nebo\nsledi a je jich dost pro všechny? A jak je to s medvědama?
URL:https://www.luxor.cz/blog/akce/autogramiada-arnosta-goldflama-a-krest-jeho-nove-knihy-podivne-historky-ze-zivota--1246/
LOCATION:Palác knih Luxor\, Václavské náměstí 820/41\, Praha 1\, 11000\, Česká republika
ORGANIZER;CN="Luxor":MAILTO:info@luxor.cz
END:VEVENT
BEGIN:VEVENT
DTSTART;TZID=Europe/Prague:20181206T170000
DTEND;TZID=Europe/Prague:20181206T170000
DTSTAMP:20260422T192549
CREATED:20190831T152602Z
LAST-MODIFIED:20190831T152602Z
UID:1867-1544115600-1544115600@www.luxor.cz
SUMMARY:NOVÝ SMÍCHOV: horolezec Marek Maara Holeček - Dotknout se nebe
DESCRIPTION:Pronásleduj své sny…  \n365 dní. Jedním slovem byl to kalup! Křižoval jsem vzduchem mezi\nkontinenty a horstvy naší malebné planety jak stěhovavý dravec bez hnízda.\nDeník se mi rychle zaplňoval řádky zachycujícími pestrost dnů. Moje druhá\nknížka zaznamenává dvanáct měsíců úpisu s ďáblem. Popisuji zde mimo jiné čtyři\nhorolezecké expedice – balancování na ostré hraně\, mezi životem a krůčkem k\nvěčnosti\, ale také běžný rodinný život\, mediální prostituci či všednost obyčejných\ndní.
URL:https://www.luxor.cz/blog/akce/novy-smichov-marek-holecek-dotknout-se-nebe-zapisky-marouska-blazna--1239/
LOCATION:Knihkupectví Nový Smíchov\, OC Nový Smíchov\, Praha 5\, 15000\, Česká republika
ORGANIZER;CN="Luxor":MAILTO:info@luxor.cz
END:VEVENT
BEGIN:VEVENT
DTSTART;TZID=Europe/Prague:20181208T150000
DTEND;TZID=Europe/Prague:20181208T150000
DTSTAMP:20260422T192549
CREATED:20190831T152604Z
LAST-MODIFIED:20190831T152604Z
UID:1873-1544281200-1544281200@www.luxor.cz
SUMMARY:OPAVA: Autogramiáda Ivana Mládka a Petra Zajíce
DESCRIPTION:S humorem a nadhledem o naší době \nVýjimečná obrazová publikace nabízí pohled na celoživotní malířskou\ntvorbu známého hudebníka a baviče Ivana Mládka. V úvodním „rozmlouvání“\nhovoří Ivan Mládek se spoluautorem Petrem Zajícem o svých malířských\nzačátcích\, vztahu k výtvarnému umění a o zajímavostech spojených s\nmalováním. Více než 70 obrazů v autorově originálním stylu\n„antiperspektivy“ či „akčního minimalismu“ je doplněno jeho doprovodnými\n fejetony\, které spolu s vtipnými názvy obrazů jen dále umocňují jejich\nrecesistické vyznění a slibují nevšední čtenářský zážitek.
URL:https://www.luxor.cz/blog/akce/opava-ivan-mladek-obrazem-i-slovem-autogramiada-ivana-mladka--1245/
LOCATION:Knihkupectví Breda\, OC Breda & Weinstein\, Opava\, 74601\, Česká republika
ORGANIZER;CN="Luxor":MAILTO:info@luxor.cz
END:VEVENT
BEGIN:VEVENT
DTSTART;TZID=Europe/Prague:20181213T180000
DTEND;TZID=Europe/Prague:20181213T180000
DTSTAMP:20260422T192549
CREATED:20190831T152605Z
LAST-MODIFIED:20190831T152605Z
UID:1875-1544724000-1544724000@www.luxor.cz
SUMMARY:PALLADIUM: Křest knihy Mistrovství světa ve florbale 2018 a autogramiáda sportovců
DESCRIPTION:
URL:https://www.luxor.cz/blog/akce/palladium-krest-knihy-mistrovstvi-sveta-ve-florbale-2018-a-autogramiada-sportovcu--1247/
LOCATION:Knihkupectví Palladium\, Náměstí republiky 1\, NC Palladium\, Praha 1\, 11000
ORGANIZER;CN="Luxor":MAILTO:info@luxor.cz
END:VEVENT
BEGIN:VEVENT
DTSTART;TZID=Europe/Prague:20181217T170000
DTEND;TZID=Europe/Prague:20181217T170000
DTSTAMP:20260422T192549
CREATED:20190831T152606Z
LAST-MODIFIED:20190831T152606Z
UID:1876-1545066000-1545066000@www.luxor.cz
SUMMARY:PLZEŇ: Tamara Klusová - beseda a autogramiáda
DESCRIPTION:Kniha Života je knihou\, která pojednává o prvních sedmi\nletech života děťátka. Jejím autorem je ten nejúžasnější spisovatel – Rodina.\nNehledejte v ní však kolonku na zaznamenání prvního zoubku\, ale výzvu k popsání\nvšech emocí\, které tančí ve vašem srdci. Hlas knihy a její obrázky s láskou\nvytvořila Tamara Klusová.
URL:https://www.luxor.cz/blog/akce/plzen-tamara-klusova-beseda-a-autogramiada--1248/
LOCATION:Knihkupectví Plaza\, OC Plaza\, Plzeň\, 30100\, Česká republika
ORGANIZER;CN="Luxor":MAILTO:info@luxor.cz
END:VEVENT
BEGIN:VEVENT
DTSTART;TZID=Europe/Prague:20181218T160000
DTEND;TZID=Europe/Prague:20181218T160000
DTSTAMP:20260422T192549
CREATED:20190831T152606Z
LAST-MODIFIED:20190831T152606Z
UID:1877-1545148800-1545148800@www.luxor.cz
SUMMARY:NOVÝ SMÍCHOV: setkání s Josefem Klímou a autogramiáda
DESCRIPTION:Známý investigativní reportér Josef Klíma přichází s novou\nknihou\, kterou bychom s nadsázkou mohli nazvat Naše dějiny viděné přes zločin. Píše\nzde o důležitých postavách nedávné chmurné historie\, o Ivanu Jonákovi a jeho\nDiscolandu\, technologovi orlických vražd Karlu Kopáčovi\, o Radovanu Krejčířovi\,\nJiřím Kajínkovi\, Františku Mrázkovi a dalších. Protože všechny zmíněné aktéry\npoznal Klíma osobně\, dává to publikaci punc jedinečnosti. \nNechtěl jsem psát jen bizarní pitaval\, říká autor\, zločin\nprošel fázemi od Divokého východu v 90. letech až po dnešní oligarchy. Do jaké\nmíry to umožnili politici a nevymahatelnost práva ať už velkým hráčům typu Viktora\nKoženého nebo osamělým vrahům jako byl Ivan Roubal? Na to jsem se ptal lidí\,\nkteří zastávali důležité posty v policii\, justici\, ve vězeňství\, v tajných\nslužbách či advokacii.
URL:https://www.luxor.cz/blog/akce/novy-smichov-setkani-s-josefem-klimou-a-autogramiada--1249/
LOCATION:Knihkupectví Nový Smíchov\, OC Nový Smíchov\, Praha 5\, 15000\, Česká republika
ORGANIZER;CN="Luxor":MAILTO:info@luxor.cz
END:VEVENT
BEGIN:VEVENT
DTSTART;TZID=Europe/Prague:20181221T140000
DTEND;TZID=Europe/Prague:20181221T140000
DTSTAMP:20260422T192549
CREATED:20190831T152606Z
LAST-MODIFIED:20190831T152606Z
UID:1878-1545400800-1545400800@www.luxor.cz
SUMMARY:PALLADIUM: Ester Ledecká - Autogramiáda a představení merchandisingové kolekce
DESCRIPTION:
URL:https://www.luxor.cz/blog/akce/palladium-ester-ledecka-autogramiada-a-predstaveni-merchandisingove-kolekce--1250/
LOCATION:Knihkupectví Palladium\, Náměstí republiky 1\, NC Palladium\, Praha 1\, 11000
ORGANIZER;CN="Luxor":MAILTO:info@luxor.cz
END:VEVENT
BEGIN:VEVENT
DTSTART;TZID=Europe/Prague:20181223T124200
DTEND;TZID=Europe/Prague:20181223T124200
DTSTAMP:20260422T192549
CREATED:20190831T152512Z
LAST-MODIFIED:20190831T152512Z
UID:1757-1545568920-1545568920@www.luxor.cz
SUMMARY:Akční dny
DESCRIPTION:Ať už jste fanouškem thrillerů\, milostných románů\, komiksů\, motivačních knížek nebo třeba potřebujete novou učebnici či průvodce na dovču. Jednotlivé dny najdete na konci článku. \n \nAkce platí ve všech kamenných knihkupectvích Luxor (klikni pro seznam poboček).Tak se v daný den stavte omrknout\, jaká knížka je právě ve slevě. Najdete ji na pokladnách i na speciálních stojanech u vchodu do prodejny. \nChytré pondělí nastartuje nový pracovní týden. Nastartuje se i vy díky motivačním a vzdělávacím knihám. Je čas naučit se nový jazyk? Proniknout do tajů současné ekonomiky? Chcete zlepšit svůj život? Obohaťte se každé pondělí chytrou knihou a ušetřete 50 %! \nZamilovaná středa vás přesvědčí\, že láska má mnoho podob – může být vášnivá\, bláznivá\, nešťastná\, dramatická\, ale také prochází žaludkem. Láska nás baví a obklopuje. Díky akčním zamilovaným středám v Luxoru si každý týden můžete dopřát bez výčitek další porci knižní lásky\, protože ve středu jsou v Luxoru zamilované knihy jen za polovinu. \nNapínavý pátek vám po perném týdnu nachystá detektivky\, thrillery nebo psychologické romány na víkend s 50% slevou. Celý pracovní týden vás budeme napínat\, co to bude tentokrát za titul\, protože v Luxoru je každý pátek napínavý. \nVeselá neděle je v Luxoru každá! Zvlášť\, když nás navštívíte spolu s dětmi. Proto každou neděli chystáme encyklopedii\, pohádkovou či young adult knihu s 50% slevou. Veselá neděle je ještě veselejší díky 50% slevě.  \nNenechte si utéct novinky! Sledujte nás na sociálních sítích (Facebook\, Instagram a YouTube).
URL:https://www.luxor.cz/blog/akce/akcni-dny--1123/
ORGANIZER;CN="Luxor":MAILTO:info@luxor.cz
END:VEVENT
BEGIN:VEVENT
DTSTART;TZID=Europe/Prague:20181231T111300
DTEND;TZID=Europe/Prague:20181231T111300
DTSTAMP:20260422T192549
CREATED:20190831T152604Z
LAST-MODIFIED:20190831T152604Z
UID:1871-1546254780-1546254780@www.luxor.cz
SUMMARY:Komplet 7x Lars Kepler
DESCRIPTION:Komplet obsahuje: Hypnotizér\, Lovek králíků\, Paganiniho smlouva\, Písečný muž\, Stalker\, Svědkyně ohně\, Lazar
URL:https://www.luxor.cz/blog/akce/komplet-7x-lars-kepler--1243/
ORGANIZER;CN="Luxor":MAILTO:info@luxor.cz
END:VEVENT
BEGIN:VEVENT
DTSTART;TZID=Europe/Prague:20181231T153800
DTEND;TZID=Europe/Prague:20181231T153800
DTSTAMP:20260422T192549
CREATED:20190831T152600Z
LAST-MODIFIED:20190831T152600Z
UID:1865-1546270680-1546270680@www.luxor.cz
SUMMARY:Tašky plné knih
DESCRIPTION:Taška slavných detektivů – Hercule Poirot\, Velká kniha příběhů Sherlocka Holmese \n\n \nTaška pro rodinu – Miler\, Lapena\, Soukup\, Swallow\, Postránecký \n\n \nTaška pro velkou rodinu – Šrut\, Cole\, Soukup\, Green\, Moravec\, Whisky\, Moyesová
URL:https://www.luxor.cz/blog/akce/vanocni-taskarice--1237/
ORGANIZER;CN="Luxor":MAILTO:info@luxor.cz
END:VEVENT
BEGIN:VEVENT
DTSTART;TZID=Europe/Prague:20181231T220100
DTEND;TZID=Europe/Prague:20181231T220100
DTSTAMP:20260422T192549
CREATED:20190831T152606Z
LAST-MODIFIED:20190831T152606Z
UID:1879-1546293660-1546293660@www.luxor.cz
SUMMARY:Sleva 20 % za vaši věrnost
DESCRIPTION:Přijďte 27.12. – 31.12.2018 na kteroukoli pobočku Knihkupectví Luxor\, mimo pobočky v Liberci. Nezapomeňte si kartu věrnostního programu Knihkupectví Luxor – Knižní klub Basic a získáte slevu 20 % na celý nákup.  \nJeště nemáte věrnostní kartu? Žádný problém! \nVěrnostní kartu snadno získáte na pobočce přímo při nákupu\, který vám za vaši důvěru rovnou zlevníme o 20 %! \n \n*Sleva neplatí na učebnice a již zlevněné zboží.
URL:https://www.luxor.cz/blog/akce/sleva-20-za-vasi-vernost--1251/
LOCATION:Knihkupectví Královo Pole\, Cimburkova 4\, Brno\, 61200\, Česká republika
ORGANIZER;CN="Luxor":MAILTO:info@luxor.cz
END:VEVENT
END:VCALENDAR