BEGIN:VCALENDAR
VERSION:2.0
PRODID:-//Blog knihkupectví Luxor - ECPv6.15.20//NONSGML v1.0//EN
CALSCALE:GREGORIAN
METHOD:PUBLISH
X-WR-CALNAME:Blog knihkupectví Luxor
X-ORIGINAL-URL:https://www.luxor.cz/blog
X-WR-CALDESC:Akce na Blog knihkupectví Luxor
REFRESH-INTERVAL;VALUE=DURATION:PT1H
X-Robots-Tag:noindex
X-PUBLISHED-TTL:PT1H
BEGIN:VTIMEZONE
TZID:Europe/Prague
BEGIN:DAYLIGHT
TZOFFSETFROM:+0100
TZOFFSETTO:+0200
TZNAME:CEST
DTSTART:20170326T010000
END:DAYLIGHT
BEGIN:STANDARD
TZOFFSETFROM:+0200
TZOFFSETTO:+0100
TZNAME:CET
DTSTART:20171029T010000
END:STANDARD
BEGIN:DAYLIGHT
TZOFFSETFROM:+0100
TZOFFSETTO:+0200
TZNAME:CEST
DTSTART:20180325T010000
END:DAYLIGHT
BEGIN:STANDARD
TZOFFSETFROM:+0200
TZOFFSETTO:+0100
TZNAME:CET
DTSTART:20181028T010000
END:STANDARD
BEGIN:DAYLIGHT
TZOFFSETFROM:+0100
TZOFFSETTO:+0200
TZNAME:CEST
DTSTART:20190331T010000
END:DAYLIGHT
BEGIN:STANDARD
TZOFFSETFROM:+0200
TZOFFSETTO:+0100
TZNAME:CET
DTSTART:20191027T010000
END:STANDARD
END:VTIMEZONE
BEGIN:VEVENT
DTSTART;TZID=Europe/Prague:20180801T170000
DTEND;TZID=Europe/Prague:20180801T170000
DTSTAMP:20260423T074159
CREATED:20190831T152518Z
LAST-MODIFIED:20190831T152518Z
UID:1774-1533142800-1533142800@www.luxor.cz
SUMMARY:CHODOV: Autorské čtení a beseda Tomáše Šebka
DESCRIPTION:„Tak mám tu malárii\, nebo nemám?“Toto je autentická zpověď z Jižního Súdánu\, nejmladšího státu světa\,\njehož území už celá desetiletí sužují ozbrojené konflikty. Na začátku\nroku 2017\, kdy zemi navíc zasáhla vlna kritického nedostatku potravin\,\nse do míst\, kde se až příliš daří infekčním a tropickým nemocem\, vydal\nna misi Lékařů bez hranic chirurg Tomáš Šebek. Po zkušenostech s\núrazovou chirurgií z kolébky vúdú na Haiti a válečnou medicínou v\nseverním Afghánistánu se spolu s kolegy ocitl v prostředí\, kde má\ntradiční léčitel a jeho alternativní přístup k pacientovi daleko větší\nrespekt než lékař vzdělaný na Západě. Proti fixaci zlomenin papírem\nanebo poléváním vařící vodou může reputaci chirurgického týmu v očích\nmístních pozvednout snad jen tím\, že v absolutní pustině obklopující\nnemocnici v Agoku provede první operaci mozku dospívajícího Jihosúdánce.\n Zápisky Tomáše Šebka\, doprovázené strhujícími fotografiemi\, představují\n jedinečný pohled na místa\, o nichž se z médií nedozvíte.
URL:https://www.luxor.cz/blog/akce/chodov-autorske-cteni-a-beseda-tomase-sebka--1140/
LOCATION:Knihkupectví Chodov\, Centrum Chodov\, Praha 4\, 14000\, Česká republika
ORGANIZER;CN="Luxor":MAILTO:info@luxor.cz
END:VEVENT
BEGIN:VEVENT
DTSTART;TZID=Europe/Prague:20180810T110300
DTEND;TZID=Europe/Prague:20180810T110300
DTSTAMP:20260423T074159
CREATED:20190831T152520Z
LAST-MODIFIED:20190831T152520Z
UID:1779-1533898980-1533898980@www.luxor.cz
SUMMARY:Setkání s Overgamerem na Novém Smíchově
DESCRIPTION:
URL:https://www.luxor.cz/blog/akce/setkani-s-overgamerem-na-novem-smichove--1146/
LOCATION:Knihkupectví Nový Smíchov\, OC Nový Smíchov\, Praha 5\, 15000\, Česká republika
ORGANIZER;CN="Luxor":MAILTO:info@luxor.cz
END:VEVENT
BEGIN:VEVENT
DTSTART;TZID=Europe/Prague:20180819T200000
DTEND;TZID=Europe/Prague:20180819T200000
DTSTAMP:20260423T074159
CREATED:20190831T152520Z
LAST-MODIFIED:20190831T152520Z
UID:1776-1534708800-1534708800@www.luxor.cz
SUMMARY:Sleva 20 % v Plaza Plzeň
DESCRIPTION:Máte Plzeňskou pobočku knihkupectví Luxor za rohem? V tom případě neváhejte a nepromeškejte jedinečnou slevu 20 % a to ve dnech 13. až 19. srpna.  \n \n\nAkce se nevztahuje na učebnice\, tituly s akční cenou a KK. \nAkci neplatí v e-shopu.
URL:https://www.luxor.cz/blog/akce/sleva-20--1142/
LOCATION:Knihkupectví Plaza\, OC Plaza\, Plzeň\, 30100\, Česká republika
ORGANIZER;CN="Luxor":MAILTO:info@luxor.cz
END:VEVENT
BEGIN:VEVENT
DTSTART;TZID=Europe/Prague:20180819T200000
DTEND;TZID=Europe/Prague:20180819T200000
DTSTAMP:20260423T074159
CREATED:20190831T152520Z
LAST-MODIFIED:20190831T152520Z
UID:1777-1534708800-1534708800@www.luxor.cz
SUMMARY:Sleva 20 % v Moritz Olomouc
DESCRIPTION:Využijte ve dnech 15. až 19. srpna jedinečnou slevu 20 %. \n \n\nAkce se nevztahuje na učebnice\, tituly s akční cenou a KK. \nAkci neplatí v e-shopu.
URL:https://www.luxor.cz/blog/akce/sleva-20-v-moritz-olomouc--1143/
LOCATION:Knihkupectví LUXOR Galerie Moritz\, 8. května 24\, Olomouc\, 77900\, Česká republika
ORGANIZER;CN="Luxor":MAILTO:info@luxor.cz
END:VEVENT
BEGIN:VEVENT
DTSTART;TZID=Europe/Prague:20180819T200000
DTEND;TZID=Europe/Prague:20180819T200000
DTSTAMP:20260423T074159
CREATED:20190831T152520Z
LAST-MODIFIED:20190831T152520Z
UID:1778-1534708800-1534708800@www.luxor.cz
SUMMARY:Sleva 20 % na vybraných pobočkách Luxor
DESCRIPTION:Využijte ve dnech 17. až 19. srpna jedinečné slevy 20 %. Akce platí v prodejnách: \n \n\nBreda\, Opava\nZlaté Jablko Zlín\nFuturum\, Hradec Králové\nForum\, Liberec\nLyra\, Chrudim\nPalackého\, Pardubice\nPasáž sv. Jana\, Pardubice\nChomutovka\, Chomutov\nFrýda\, Frýdek-Místek\nCentral\, Kladno\nNovodvorská Plaza\, Praha\nDBK\, Praha\nEuropark Šterboholy\, Praha\nGalerie Harfa\, Praha\n\nAkce se nevztahuje na učebnice\, tituly s akční cenou a KK. Akci neplatí v e–shopu.
URL:https://www.luxor.cz/blog/akce/sleva-20-procent--1144/
LOCATION:Knihkupectví Široká\, Široká 117\, Chrudim\, 53701\, Česká republika
ORGANIZER;CN="Luxor":MAILTO:info@luxor.cz
END:VEVENT
BEGIN:VEVENT
DTSTART;TZID=Europe/Prague:20180829T170000
DTEND;TZID=Europe/Prague:20180829T170000
DTSTAMP:20260423T074159
CREATED:20190831T152520Z
LAST-MODIFIED:20190831T152520Z
UID:1780-1535562000-1535562000@www.luxor.cz
SUMMARY:Křest a autogramiáda knihy Muž\, který stál v cestě
DESCRIPTION:Strhující román o muži\, který se v srpnu 1968 pod hrozbou likvidace\nvzepřel okupantské moci a jako jediný nepodepsal potupný moskevský\ndokument. Autor Ivan Fíla rozehrává fascinující drama o hrdinství a\nzradě odhalující detailní pohled do životů lékaře a politika Františka\nKriegla a jeho protivníka\, ďáblova advokáta Gustáva Husáka. Jsme svědky\nzákulisních intrik předcházejících osudné noci z 20. na 21. srpna 1968\,\npozadí únosu šesti československých stranických a vládních představitelů\n do Moskvy a postupného lámání charakterů během jednání v Kremlu.\nOjedinělá kronika času a osudů o vězních dogmatu a touhách českého a\nslovenského národa na cestě do pekla. Autor se opírá o nedocenitelné\ndokumenty z přísně střežených ruských archivů\, které nebyly doposud\npublikovány. \nPříběh zaujal filmové producenty doma i v zahraničí a plánuje se jeho zfilmování v mezinárodní koprodukci.
URL:https://www.luxor.cz/blog/akce/krest-a-autogramiada-knihy-muz-ktery-stal-v-ceste--1147/
LOCATION:Palác knih Luxor\, Václavské náměstí 820/41\, Praha 1\, 11000\, Česká republika
ORGANIZER;CN="Luxor":MAILTO:info@luxor.cz
END:VEVENT
BEGIN:VEVENT
DTSTART;TZID=Europe/Prague:20180830T170000
DTEND;TZID=Europe/Prague:20180830T170000
DTSTAMP:20260423T074159
CREATED:20190831T152521Z
LAST-MODIFIED:20190831T152521Z
UID:1781-1535648400-1535648400@www.luxor.cz
SUMMARY:Autogramiáda Kláry Janečkové a křest její knihy Pád do tmy
DESCRIPTION:Tereza Brašová uteče ve svých osmnácti letech z domova\, aby se zbavila svého otčíma\, který ji léta sexuálně zneužíval. Bezpečí najde ve\nslovinských jeskyních\, kde začne pracovat jako průvodkyně v největším\nkrasu Evropy a později se proslaví jako záchranářka. Petr Brašov\, který\nmezitím udělal politickou kariéru\, Terezu donutí vrátit se do Prahy\, aby\n její popularity využil pro svou mediální kampaň.\nNetuší však\, že právě to se mu stane osudným…
URL:https://www.luxor.cz/blog/akce/autogramiada-klary-janeckove-a-krest-jeji-knihy-pad-do-tmy--1148/
LOCATION:Palác knih Luxor\, Václavské náměstí 820/41\, Praha 1\, 11000\, Česká republika
ORGANIZER;CN="Luxor":MAILTO:info@luxor.cz
END:VEVENT
BEGIN:VEVENT
DTSTART;TZID=Europe/Prague:20180831T145000
DTEND;TZID=Europe/Prague:20180831T145000
DTSTAMP:20260423T074159
CREATED:20190831T152518Z
LAST-MODIFIED:20190831T152518Z
UID:1772-1535727000-1535727000@www.luxor.cz
SUMMARY:Získej voucher na KOŠÍK.CZ
DESCRIPTION:Nakupte v pražské pobočce knihkupectví Luxor alespoň za 250 Kč a dostanete voucher na nákup v online supermarketu kosik.cz v hodnotě 250 Kč!
URL:https://www.luxor.cz/blog/akce/ziskej-voucher-na-kosikcz--1138/
LOCATION:Knihkupectví Nový Smíchov\, OC Nový Smíchov\, Praha 5\, 15000\, Česká republika
ORGANIZER;CN="Luxor":MAILTO:info@luxor.cz
END:VEVENT
BEGIN:VEVENT
DTSTART;TZID=Europe/Prague:20180831T182000
DTEND;TZID=Europe/Prague:20180831T182000
DTSTAMP:20260423T074159
CREATED:20190831T152518Z
LAST-MODIFIED:20190831T152518Z
UID:1773-1535739600-1535739600@www.luxor.cz
SUMMARY:Poštovné zdarma nad 399 kč
DESCRIPTION:Od 1. července ke všem objednávkám nad 399 Kč získáte dopravu zcela zdarma. Tak neváhejte a pojďte nakupovat\, knihy čekají jen na vás!
URL:https://www.luxor.cz/blog/akce/postovne-zdarma-nad-399-kc--1139/
ORGANIZER;CN="Luxor":MAILTO:info@luxor.cz
END:VEVENT
END:VCALENDAR