BEGIN:VCALENDAR
VERSION:2.0
PRODID:-//Blog knihkupectví Luxor - ECPv6.15.20//NONSGML v1.0//EN
CALSCALE:GREGORIAN
METHOD:PUBLISH
X-ORIGINAL-URL:https://www.luxor.cz/blog
X-WR-CALDESC:Akce na Blog knihkupectví Luxor
REFRESH-INTERVAL;VALUE=DURATION:PT1H
X-Robots-Tag:noindex
X-PUBLISHED-TTL:PT1H
BEGIN:VTIMEZONE
TZID:Europe/Prague
BEGIN:DAYLIGHT
TZOFFSETFROM:+0100
TZOFFSETTO:+0200
TZNAME:CEST
DTSTART:20170326T010000
END:DAYLIGHT
BEGIN:STANDARD
TZOFFSETFROM:+0200
TZOFFSETTO:+0100
TZNAME:CET
DTSTART:20171029T010000
END:STANDARD
BEGIN:DAYLIGHT
TZOFFSETFROM:+0100
TZOFFSETTO:+0200
TZNAME:CEST
DTSTART:20180325T010000
END:DAYLIGHT
BEGIN:STANDARD
TZOFFSETFROM:+0200
TZOFFSETTO:+0100
TZNAME:CET
DTSTART:20181028T010000
END:STANDARD
BEGIN:DAYLIGHT
TZOFFSETFROM:+0100
TZOFFSETTO:+0200
TZNAME:CEST
DTSTART:20190331T010000
END:DAYLIGHT
BEGIN:STANDARD
TZOFFSETFROM:+0200
TZOFFSETTO:+0100
TZNAME:CET
DTSTART:20191027T010000
END:STANDARD
END:VTIMEZONE
BEGIN:VEVENT
DTSTART;TZID=Europe/Prague:20180604T170000
DTEND;TZID=Europe/Prague:20180604T170000
DTSTAMP:20260423T091955
CREATED:20190831T152514Z
LAST-MODIFIED:20190831T152514Z
UID:1761-1528131600-1528131600@www.luxor.cz
SUMMARY:Autogramiáda Dominiky Gawliczkové a křest její knihy Dominika na cestě Jižní Amerikou
DESCRIPTION:Metr a půl vysoká Dominika s ještě menší motorkou se vydává sama napříč Jižní Amerikou. Setkává se s padouchy i vzteklými psy\, s poruchou i\nnemocnicí. Být to fikce\, čtenář by si řekl\, že to autor se zážitky\npřehnal a Dominika je neohrožená cestovatelka\, kterou nic nezastaví. Ona\n se však bojí úplně všeho a jede dál jen proto\, že si myslí\, že se to\nzlepší. Nezlepší. A čím hůř je\, tím víc je jasné\, že jedinou obranou je\ndělat si z toho všeho srandu. Kmotrem knihy bude Igor Brezovar.
URL:https://www.luxor.cz/blog/akce/autogramiada-dominiky-gawliczkove-a-krest-jeji-nove-knihy-dominika-na-ceste-jizni-amerikou--1127/
LOCATION:Palác knih Luxor\, Václavské náměstí 820/41\, Praha 1\, 11000\, Česká republika
ORGANIZER;CN="Luxor":MAILTO:info@luxor.cz
END:VEVENT
BEGIN:VEVENT
DTSTART;TZID=Europe/Prague:20180604T183000
DTEND;TZID=Europe/Prague:20180604T183000
DTSTAMP:20260423T091955
CREATED:20190831T152514Z
LAST-MODIFIED:20190831T152514Z
UID:1762-1528137000-1528137000@www.luxor.cz
SUMMARY:Křest a autogramiáda knihy Receptář prima nápadů
DESCRIPTION:Listujte\, čtěte a objevte vyzkoušené a neotřelé nápady a tipy z oblíbeného televizního magazínu pro pěstitele\, chovatele\, chalupáře\,\nkutily a všechny\, kdo se věnují svým koníčkům a nebojí se své originální\n návrhy pro pohodlné bydlení\, příjemnou relaxaci či zdravý životní styl\nposkytnout ostatním. Od jara do zimy vás knihou provede moderátor pořadu\n Václav Postránecký a nabídne slovem i obrazem zkrátka to nejlepší pro\nvaši zahradu\, dům a byt\, dílnu\, kuchyni či vaše mazlíčky.
URL:https://www.luxor.cz/blog/akce/krest-a-autogramiada-knihy-receptar-prima-napadu--1128/
LOCATION:Palác knih Luxor\, Václavské náměstí 820/41\, Praha 1\, 11000\, Česká republika
ORGANIZER;CN="Luxor":MAILTO:info@luxor.cz
END:VEVENT
BEGIN:VEVENT
DTSTART;TZID=Europe/Prague:20180605T170000
DTEND;TZID=Europe/Prague:20180605T170000
DTSTAMP:20260423T091955
CREATED:20190831T152513Z
LAST-MODIFIED:20190831T152513Z
UID:1760-1528218000-1528218000@www.luxor.cz
SUMMARY:MLADÁ BOLESLAV: Autogramiáda Michala Viewegha
DESCRIPTION:Nejznámější český spisovatel se ve dvou novelách vrací k tomu\, co na něm jeho čtenáři oceňují nejvíce. Svůj humorně ironický pohled na vztahy\nmezi muži a ženami propůjčuje v novele Family Frost zkrachovalému\nrestauratérovi\, který si z nutnosti a trochu i na truc pronajme mrazící\nvůz známé firmy a živí se jako řidič. Během několika dní se jeho\nzbabraný život dostane do spirály událostí\, které skončí až na svatbě\njeho bývalé manželky (která si bere jeho bývalého společníka). Vincent\nse potká i s otcem\, kterého nikdy předtím neviděl\, a setkání proběhne\nvpravdě nečekaným způsobem. Druhá novela\, Čarodějka z Křemelky\, si\npohrává s mírně fantastickým námětem. Krásná Dominika má celý život\nsmůlu na muže a svou přitažlivost považuje spíš za prokletí. Jako dar\nnaopak chápe svou schopnost číst lidem myšlenky. S přibývajícími lety a\nvztahy to ale vypadá\, že i to druhé je spíš na obtíž – dokud nepotká ve\nvlaku známého spisovatele a nezamiluje se do něj. Ale dá se žít se\nženou\, která doopravdy ví\, co si její muž myslí?
URL:https://www.luxor.cz/blog/akce/mlada-boleslav-autogramiada-michala-viewegha--1126/
LOCATION:Knihkupectví Bondy Centrum\, OC Bondy\, Mladá Boleslav\, 29301\, Česká republika
ORGANIZER;CN="Luxor":MAILTO:info@luxor.cz
END:VEVENT
BEGIN:VEVENT
DTSTART;TZID=Europe/Prague:20180605T170000
DTEND;TZID=Europe/Prague:20180605T170000
DTSTAMP:20260423T091955
CREATED:20190831T152514Z
LAST-MODIFIED:20190831T152514Z
UID:1763-1528218000-1528218000@www.luxor.cz
SUMMARY:Křest a autogramiáda Sáry Saudkové ke knize Déšť
DESCRIPTION:Na periferii za Prahou naleznou dva záškoláci mrtvolu brutálně utýrané mladé ženy. Do vyšetřování se pouští rázná Oldřiška se svou dokonale\nvycvičenou mordpartou. Stopy vedou do pražského zásvětí mimonaželských\naférek\, hodinových hotelů a zakázaných aférek. A bohužel nezůstane pouze\n u jedné vraždy. Sára Saudková se tentokrát vydala na pole temných\nsexuálních zločinů a ještě temnějších pudů.
URL:https://www.luxor.cz/blog/akce/krest-a-autogramiada-sary-saudkove-ke-knize-dest--1129/
LOCATION:Palác knih Luxor\, Václavské náměstí 820/41\, Praha 1\, 11000\, Česká republika
ORGANIZER;CN="Luxor":MAILTO:info@luxor.cz
END:VEVENT
BEGIN:VEVENT
DTSTART;TZID=Europe/Prague:20180606T170000
DTEND;TZID=Europe/Prague:20180606T170000
DTSTAMP:20260423T091955
CREATED:20190831T152515Z
LAST-MODIFIED:20190831T152515Z
UID:1764-1528304400-1528304400@www.luxor.cz
SUMMARY:Křest a autogramiáda knihy Vůně noci od Markéty Harasimové
DESCRIPTION:Mladálékařka Vanda je špičkou v oboru neurochirurgie\, její soukromí však za\nzářivou kariérou pokulhává. Na začátku příběhu se střetne s těžkou životní\nztrátou – za tragických okolností přichází o svou sestru. Vandino dvojče Vilmu\ns celou její rodinou chladnokrevně zastřelil neznámý vrah\, který po sobě\nnezanechal jedinou stopu. Major Hons se svým týmem pracuje s několika\nvyšetřovacími verzemi a v hledáčku kriminalistů se postupně objevuje víc\npodezřelých. Není ovšem vůbec jisté\, zda se zaměřují na správné osoby: stále\ntotiž nedokážou připadnout na pachatelův motiv. A vrah mezitím nezahálí –\nspřádá další smrtící plány… Navzdory těžkým okolnostem se o mladou lékařku začínají zajímat hned dva muži. Současná\nkonstelace však lásce příliš nepřeje. Vanda má úplně jiné starosti: řízením osudu\nse ocitne v situaci\, kdy musí čelit dilematu\, zda nevezme spravedlnost do vlastních rukou. Zachová si hrdinka lidskou i\nlékařskou čest\, nebo se rozhodne pomstít svou rodinu i za cenu\, že ztratí\nvlastní budoucnost?
URL:https://www.luxor.cz/blog/akce/krest-a-autogramiada-knihy-vune-noci-od-markety-harasimove--1130/
LOCATION:Palác knih Luxor\, Václavské náměstí 820/41\, Praha 1\, 11000\, Česká republika
ORGANIZER;CN="Luxor":MAILTO:info@luxor.cz
END:VEVENT
BEGIN:VEVENT
DTSTART;TZID=Europe/Prague:20180607T170000
DTEND;TZID=Europe/Prague:20180607T170000
DTSTAMP:20260423T091955
CREATED:20190831T152515Z
LAST-MODIFIED:20190831T152515Z
UID:1765-1528390800-1528390800@www.luxor.cz
SUMMARY:Autogramiáda Petra Macka a křest jeho knihy 1968 očima 50 slavných osobností
DESCRIPTION:Rozdělené rodiny a zničené kariéry\, vynucená poslušnost režimu nebo všemožné zákazy. Neexistuje v této zemi\nnikdo\, koho by se okupace Československa vojsky Varšavské smlouvy 21.\nsrpna 1968 nedotkla. Invaze a následná potupná normalizace zanechala\nstigma na všech – těch\, kteří museli veřejný prostor opustit\, i těch\,\nkteří se snažili najít morální kompromis a prostě dál žít a pracovat. \n50 let poté vzpomíná na události roku 1968 a jeho následky 50 největších\n osobností své generace ve zbrusu nových\, exkluzivních rozhovorech a\notevřených zpovědích se spisovatelem a publicistou Petrem Mackem. Kamila\n Moučková\, Jiří Menzel\, Jiřina Bohdalová\, Rudolf Hrušínský\, Jan Pirk\,\nNaďa Urbánková\, Helena Vondráčková\, Eva Pilarová\, Jana Šulcová\, Petr\nJanda\, Karel Vágner a mnozí a mnozí další – co jméno\, to jiný osud a\nunikátní příběh roku 1968.
URL:https://www.luxor.cz/blog/akce/autogramiada-petra-macka-a-krest-knihy-1968-ocima-50-slavnych-osobnosti--1131/
LOCATION:Palác knih Luxor\, Václavské náměstí 820/41\, Praha 1\, 11000\, Česká republika
ORGANIZER;CN="Luxor":MAILTO:info@luxor.cz
END:VEVENT
BEGIN:VEVENT
DTSTART;TZID=Europe/Prague:20180608T124600
DTEND;TZID=Europe/Prague:20180608T124600
DTSTAMP:20260423T091955
CREATED:20190831T152512Z
LAST-MODIFIED:20190831T152512Z
UID:1758-1528461960-1528461960@www.luxor.cz
SUMMARY:Najděte si slevu až 50 % v nové pobočce Bondy Centrum v Mladé Boleslavi
DESCRIPTION:Přijďte do Luxoru a najděte si slevu až 50 % \nAkce s názvem „Najděte si slevu až 50 %“ probíhá pouze na kamenné pobočce\nNEOLUXOR\, s.r.o.\, Bondy Centrum\, tř. Václava Klementa 1459\, 293 01 Mladá\n Boleslav\, dále jen „Luxor“\, a to v období od 24. 5. 2018 do 8. 6. 2018.\n Slevové záložky tak lze uplatnit pouze v tomto období a pouze na\nkamenné pobočce knihkupectví Luxor v Mladé Boleslavi. Sleva není\nuplatnitelná na žádném e-shopu. \nJak akce probíhá \nNa\n výše uvedené provozovně knihkupectví Luxor je 24. 5. 2018 umístěno 100\nkusů slevových záložek (viz obrázek vpravo). Záložky jsou umístěny\nv prostorách provozovny Luxor tak\, aby byly vždy dobře viditelné\, a to\npouhým okem. \nKaždá slevová záložka nese čárový kód\, pod kterým se\nskrývá sleva 10\, 20\, 30\, nebo 50 % na celý nákup. Výše slevy není na\nslevové záložce vyznačena\, nýbrž je odhalena až při nákupu na pokladně.\nZákazník si v prostorách prodejny Luxor najde slevu (tj. slevovou\nzáložku)\, při nákupu na pokladně je sleva načtením čárového kódu z dané\nzáložky uplatněna a zákazník na tento nákup získává jednorázovou slevu\nve výši určené natištěným čárovým kódem (10\, 20\, 30 nebo–50 %. Po\nuplatnění slevy personál prodejny (pokladní) slevovou záložku ponechává\nna pokladně knihkupectví. Každý den večer jsou zbylé záložky staženy\,\nsada je v případě potřeby doplněna a znovu rozmístěna. \nDalší podmínky akce \nSleva\n se vztahuje na veškerý knižní i neknižní sortiment aktuálně dostupný na\n dané pobočce knihkupectví Luxor s výjimkou již zlevněných produktů a\ndárkových poukázek. Sleva se uplatňuje jednorázově na celý nákup a nelze\n ji sčítat ani kombinovat s jinými slevami či akcemi (např. akce 1+1).\nSlevu nelze uplatnit na pokladnách Knižního klubu. \nNa jeden nákup\nlze jedním nakupujícím uplatnit pouze jednu slevovou záložku a slevy na\nzáložkách tedy nelze sčítat. V rámci nákupu bude uplatněna pouze první\npředložená slevová záložka a není tedy možné opakovaným načítáním\nzkoušet\, na které záložce je nejvyšší sleva\, a tu poté uplatnit. \nPři\n vracení zboží bude vrácena částka odpovídající výši zákazníkem\nvynaložených finančních prostředků. Stejný princip je aplikován\nv případě částečného vrácení zboží. \nOrganizátor akce\, společnost\nNeoluxor\, s.r.o.\, si vyhrazuje právo tuto akci kdykoli zrušit nebo\nzměnit její podmínky. Změna podmínek bude vždy zveřejněna na webových\nstránkách www.neoluxor.cz.
URL:https://www.luxor.cz/blog/akce/sleva-az-50-v-nove-pobocce-bondy-centrum-v-mlade-boleslavi--1124/
LOCATION:Knihkupectví Bondy Centrum\, OC Bondy\, Mladá Boleslav\, 29301\, Česká republika
ORGANIZER;CN="Luxor":MAILTO:info@luxor.cz
END:VEVENT
BEGIN:VEVENT
DTSTART;TZID=Europe/Prague:20180615T123600
DTEND;TZID=Europe/Prague:20180615T123600
DTSTAMP:20260423T091955
CREATED:20190831T152516Z
LAST-MODIFIED:20190831T152516Z
UID:1769-1529066160-1529066160@www.luxor.cz
SUMMARY:Doprava z e-shopu Luxor ZDARMA!
DESCRIPTION:Chceme vám zpříjemnit cestu ke knihám a tak jsme se rozhodli\, že nejlepší bude\, zaplatit cestu knize za vámi! \n \nJediné\, co pro to musíte udělat je\, zaregistrovat se do 15.6. do našeho newsletteru na adrese https://neoluxor.cz/prihlaseni-odberu-novinek/. \nZískáte tak nejen dopravu zdarma\, ale i pravidelnou porci novinek z knižního světa! \n 
URL:https://www.luxor.cz/blog/akce/doprava-z-e-shopu-luxor-zdarma--1135/
ORGANIZER;CN="Luxor":MAILTO:info@luxor.cz
END:VEVENT
BEGIN:VEVENT
DTSTART;TZID=Europe/Prague:20180620T170000
DTEND;TZID=Europe/Prague:20180620T170000
DTSTAMP:20260423T091955
CREATED:20190831T152516Z
LAST-MODIFIED:20190831T152516Z
UID:1766-1529514000-1529514000@www.luxor.cz
SUMMARY:Autogramiáda a křest knihy Černooká od Anny Musilové
DESCRIPTION:Viktorie je zdánlivě normální\, i když trochu asociální\, sedmnáctiletá studentka\, která právě prožívá první\nlásku\, řeší rozpory s kamarádkou a věnuje se čtení klasické literatury.\nTa největší dramata se ale odehrávají za těmito povrchními starostmi.\nViktorie totiž bojuje s nezlomnými vnitřními démony. Když byla malá\,\nzemřela jí matka\, a ona ani zbylí členové rodiny se z toho nikdy úplně\nnevzpamatovali. Viktorie na své dětské trauma reaguje pozvolným propadem\n do stále hlubší deprese\, ve které už není sto rozeznat realitu od\nvýplodů své zmatené mysli. Navíc se v jejím životě začíná objevovat\nzáhadná dívka\, která jí nedá spát. Kdo je tahle nevypočitatelná\nČernooká? Kde se tady vzala? A proč má Vikrorie dojem\, že ji vidí\, kam\nse podívá?
URL:https://www.luxor.cz/blog/akce/autogramiada-a-krest-knihy-cernooka-od-anny-musilove--1132/
LOCATION:Palác knih Luxor\, Václavské náměstí 820/41\, Praha 1\, 11000\, Česká republika
ORGANIZER;CN="Luxor":MAILTO:info@luxor.cz
END:VEVENT
BEGIN:VEVENT
DTSTART;TZID=Europe/Prague:20180621T153000
DTEND;TZID=Europe/Prague:20180621T153000
DTSTAMP:20260423T091955
CREATED:20190831T152516Z
LAST-MODIFIED:20190831T152516Z
UID:1767-1529595000-1529595000@www.luxor.cz
SUMMARY:Křest a autogramiáda knihy Malý průvodce po hrobech velkých III. od Miloše Dvořáka
DESCRIPTION:Již třetí pokračování úspěšného stejnojmenného titulu. Je překvapující\, že nás\, kteří se rádi procházíme mezi náhrobky ve stínu starých stromů\,\nje tolik. Tahle zvláštní (a z pohledu mnohých trochu morbidní) záliba má\n dokonce svůj odborný název – tafofilie. Všem\, které oslovuje mystická\natmosféra hřbitovů\, je určena tato kniha\, jejíž autor sjezdil\ns fotoaparátem celou naši republiku a během pátrání mnohdy téměř\ndetektivního hledal místa odpočinku dalších více než 250 osobností\,\nkteré si zasloužily najít své místo i na jejích stránkách. Bohužel\,\ntahle kniha nebude nikdy dokončena. I v minulém roce přibylo několik\nlidí\, kteří si zaslouží fotografii a připomenutí v Průvodci…
URL:https://www.luxor.cz/blog/akce/krest-a-autogramiada-knihy-maly-pruvodce-po-hrobech-velkych-iii-od-milose-dvoraka--1133/
LOCATION:Palác knih Luxor\, Václavské náměstí 820/41\, Praha 1\, 11000\, Česká republika
ORGANIZER;CN="Luxor":MAILTO:info@luxor.cz
END:VEVENT
BEGIN:VEVENT
DTSTART;TZID=Europe/Prague:20180626T163000
DTEND;TZID=Europe/Prague:20180626T163000
DTSTAMP:20260423T091955
CREATED:20190831T152516Z
LAST-MODIFIED:20190831T152516Z
UID:1768-1530030600-1530030600@www.luxor.cz
SUMMARY:Křest a autogramiáda audioknihy Jedlová samota
DESCRIPTION:Kdo vraždil? Byl to vůbec člověk\, nebo symbolický černý jezdec\, o němž se v kraji tradují ústně vyprávěné historky… Strhující drama\nnemilosrdného vyvraždění statkářské rodiny s prvky psychologické studie.
URL:https://www.luxor.cz/blog/akce/krest-a-autogramiada-audioknihy-jedlova-samota--1134/
LOCATION:Palác knih Luxor\, Václavské náměstí 820/41\, Praha 1\, 11000\, Česká republika
ORGANIZER;CN="Luxor":MAILTO:info@luxor.cz
END:VEVENT
BEGIN:VEVENT
DTSTART;TZID=Europe/Prague:20180629T164400
DTEND;TZID=Europe/Prague:20180629T164400
DTSTAMP:20260423T091955
CREATED:20190831T152518Z
LAST-MODIFIED:20190831T152518Z
UID:1771-1530290640-1530290640@www.luxor.cz
SUMMARY:Setkání s Overgamerem v Luxoru!!
DESCRIPTION:Přijď do Knikupectví Neoluxor Nový Smíchov a zahraj si s Overgamerem Scratch Wars! Připrav si karty ať vyhraješ a získáš body do shopu odměn :)) \n \nVíce na https://scratchwars.com/kalendar-akci/?detail=742
URL:https://www.luxor.cz/blog/akce/setkani-s-overgamerem-v-luxoru--1137/
LOCATION:Knihkupectví Nový Smíchov\, OC Nový Smíchov\, Praha 5\, 15000\, Česká republika
ORGANIZER;CN="Luxor":MAILTO:info@luxor.cz
END:VEVENT
END:VCALENDAR