BEGIN:VCALENDAR
VERSION:2.0
PRODID:-//Blog knihkupectví Luxor - ECPv6.15.20//NONSGML v1.0//EN
CALSCALE:GREGORIAN
METHOD:PUBLISH
X-WR-CALNAME:Blog knihkupectví Luxor
X-ORIGINAL-URL:https://www.luxor.cz/blog
X-WR-CALDESC:Akce na Blog knihkupectví Luxor
REFRESH-INTERVAL;VALUE=DURATION:PT1H
X-Robots-Tag:noindex
X-PUBLISHED-TTL:PT1H
BEGIN:VTIMEZONE
TZID:Europe/Prague
BEGIN:DAYLIGHT
TZOFFSETFROM:+0100
TZOFFSETTO:+0200
TZNAME:CEST
DTSTART:20170326T010000
END:DAYLIGHT
BEGIN:STANDARD
TZOFFSETFROM:+0200
TZOFFSETTO:+0100
TZNAME:CET
DTSTART:20171029T010000
END:STANDARD
BEGIN:DAYLIGHT
TZOFFSETFROM:+0100
TZOFFSETTO:+0200
TZNAME:CEST
DTSTART:20180325T010000
END:DAYLIGHT
BEGIN:STANDARD
TZOFFSETFROM:+0200
TZOFFSETTO:+0100
TZNAME:CET
DTSTART:20181028T010000
END:STANDARD
BEGIN:DAYLIGHT
TZOFFSETFROM:+0100
TZOFFSETTO:+0200
TZNAME:CEST
DTSTART:20190331T010000
END:DAYLIGHT
BEGIN:STANDARD
TZOFFSETFROM:+0200
TZOFFSETTO:+0100
TZNAME:CET
DTSTART:20191027T010000
END:STANDARD
END:VTIMEZONE
BEGIN:VEVENT
DTSTART;TZID=Europe/Prague:20180502T160000
DTEND;TZID=Europe/Prague:20180502T160000
DTSTAMP:20260423T122540
CREATED:20190831T152104Z
LAST-MODIFIED:20190831T152105Z
UID:1732-1525276800-1525276800@www.luxor.cz
SUMMARY:ZLÍN: Autogramiáda Ladislava Špačka
DESCRIPTION:ETIKETA – Moderní etiketa prokaždého \nTato kniha je nejobsáhlejší příručkou etikety\, jaká kdy u nás vyšla.Obsahuje komplexní soubor pravidel etikety ze všech oblastí lidského života. Najdete v ní poučení pro všechny životní situace a budete vědět\, jak být\nsvým dětem vzorem. \nV Etiketě se dočtete leccos z toho\, co bylo zmíněno v předchozích knihách\n(brambory se krájejí vidličkou dnes a krájely se tak i před deseti lety a sako\nse zapíná na horní knoflík už od vévody z Windsoru)\, ale najdete v ní i mnohá\npravidla\, u nichž došlo oproti minulosti ke změně (třeba že kravata už není\nvyžadována tak často jako před dvaceti lety nebo za jakých okolností si lze\nobléct džíny do společnosti).  \nEtiketa si všímá rozdílů mezi mladou a starší generací\, vysvětluje stylové\nrozlišení konzervativního a ležérního stylu\, neodsuzuje módní vlivy a neomezuje\nse na drahé a značkové oblečení. Je moderní\, praktická a srozumitelná všem.
URL:https://www.luxor.cz/blog/akce/zlin-autogramiada-ladislava-spacka--1104/
LOCATION:Knihkupectví Zlaté Jablko\, OC Zlaté Jablko\, Zlín\, 76001\, Česká republika
ORGANIZER;CN="Luxor":MAILTO:info@luxor.cz
END:VEVENT
BEGIN:VEVENT
DTSTART;TZID=Europe/Prague:20180502T170000
DTEND;TZID=Europe/Prague:20180502T170000
DTSTAMP:20260423T122540
CREATED:20190831T152511Z
LAST-MODIFIED:20190831T152511Z
UID:1753-1525280400-1525280400@www.luxor.cz
SUMMARY:Křest a autogramiáda knihy Známe se celé věky od Andrey Homolové
DESCRIPTION:Revoluční příručka všech partnerských vztahů\, včetně těch osudových. Čtenář v knížce najde naprosto přelomové skutečnosti a informace\ntýkající se vztahů\, fakta\, která dosud nejsou známa řadové psychologii\,\nani sociologickým vědám\, a dosud nebyla v těchto souvislostech nikdy\nzveřejněna. Jedná se o poslední převratné výsledky špičkové světové vědy\n týkající se vztahů – např. z oborů neurokardiologie\, neurovědy\,\nepigenetiky\, genetiky\, fyziky a biofyziky\, které potvrzují dávné\nduchovní souvislosti. Tato kniha je první knihou\, která čtenáři odpoví\nna všechny jeho otázky na téma partnerství\, na které dosud hledal\nodpovědi\, ale nenalezl je. Kniha proniká hluboko pod povrch věcí\, a\npřitom je napsaná srozumitelným a čtivým stylem\, který v čtenáři vyvolá\nzvědavost a současně i napětí\, jak se budou souvislosti odvíjet dál\, ale\n také jej pobaví. Tato kniha změní váš život a díky tomu i kvalitu\nvašich vztahů. K lepšímu!
URL:https://www.luxor.cz/blog/akce/krest-a-autogramiada-knihy-zname-se-cele-veky-od-andrey-homolove--1116/
LOCATION:Palác knih Luxor\, Václavské náměstí 820/41\, Praha 1\, 11000\, Česká republika
ORGANIZER;CN="Luxor":MAILTO:info@luxor.cz
END:VEVENT
BEGIN:VEVENT
DTSTART;TZID=Europe/Prague:20180503T170000
DTEND;TZID=Europe/Prague:20180503T170000
DTSTAMP:20260423T122540
CREATED:20190831T152507Z
LAST-MODIFIED:20190831T152507Z
UID:1746-1525366800-1525366800@www.luxor.cz
SUMMARY:Autogramiáda Kristiny Hlaváčkové a křest její knihy Ohnivé ostří
DESCRIPTION:Jako by nestačilo\, že se major Robert Wolf musí zaobírat velmi podivnými vraždami. Do vyšetřování se zaplétá i FBI a hlavně majorova sestra Sam Barnetová\, která možná ví víc\, než sama tuší. Ohnivou čepel ovšem logicky vysvětlit nedokáže. Obětí neznámého vraha přibývá. Začíná hrozit prozrazení magického světa\, ale řešení se zdá v nedohlednu. Nejen Sam se ocitá v  ohrožení. Vrahovo řádění proniká i do Podsvětí a tam je jediný podezřelý: Azrael. Staletími ověřená vládní struktura magického města je narušena a začíná se bortit. Kromě Samanthy není téměř nikdo\, kdo by se nejvyššího Strážce zastal. Podsvětí začíná vřít skrytým bojem o moc!
URL:https://www.luxor.cz/blog/akce/autogramiada-kristiny-hlavackove-a-krest-jeji-knihy-ohnive-ostri--1109/
LOCATION:Palác knih Luxor\, Václavské náměstí 820/41\, Praha 1\, 11000\, Česká republika
ORGANIZER;CN="Luxor":MAILTO:info@luxor.cz
END:VEVENT
BEGIN:VEVENT
DTSTART;TZID=Europe/Prague:20180509T160000
DTEND;TZID=Europe/Prague:20180509T160000
DTSTAMP:20260423T122540
CREATED:20190831T152507Z
LAST-MODIFIED:20190831T152507Z
UID:1747-1525881600-1525881600@www.luxor.cz
SUMMARY:Křest a autogramiáda knihy Střípek malachitu
DESCRIPTION:Gina hlasitě vzlykala\, cítila tu past\, beznaděj a hroznou vinu. Nejenže přejela člověka\, ale zničila život i svému manželu Alanovi\, úspěšnému právníkovi. Ujela od nehody a nic neřekla. Alan však pravdu zná\, a když zametá stopy\, aby Ginu ochránil\, dopouští se osudných chyb.
URL:https://www.luxor.cz/blog/akce/krest-a-autogramiada-knihy-stripek-malachitu--1110/
LOCATION:Palác knih Luxor\, Václavské náměstí 820/41\, Praha 1\, 11000\, Česká republika
ORGANIZER;CN="Luxor":MAILTO:info@luxor.cz
END:VEVENT
BEGIN:VEVENT
DTSTART;TZID=Europe/Prague:20180510T160000
DTEND;TZID=Europe/Prague:20180510T160000
DTSTAMP:20260423T122540
CREATED:20190831T152507Z
LAST-MODIFIED:20190831T152507Z
UID:1748-1525968000-1525968000@www.luxor.cz
SUMMARY:Hygge a Lykke. Beseda a autogramiáda ředitele Institutu štěstí Meika Wikinga
DESCRIPTION:Zapojte se do revolučního tažení za štěstím! Autor světového bestselleru Hygge – Prostě šťastný způsob života přichází s dalšími inspirativními nápady a návrhy\, jak dosáhnout většího štěstí. S vřelostí a důvtipem sobě vlastním zkoumá Meik Wiking rozdíl ve štěstí u rodičů a u bezdětných párů\, kolik peněz skutečně potřebujeme na „pořízení štěstí“\, jak být zdravější\, aniž bychom museli do fitness centra\, jak se naučit budovat důvěru a spolupráci\, jak si můžeme pomoct tím\, že pomůžeme jiným\, a proč naše očekávání často převáží skutečnost. Lykke – Tajemství nejšťastnějších lidí na světě v sobě snoubí výsledky výzkumů i osobní příběhy a je globální mapou radosti\, která nabízí nový přístup k dosažení každodenního štěstí\, které nám nepřinese jen hezčí život\, ale pomůže nám vybudovat lepší společnost i lepší svět.
URL:https://www.luxor.cz/blog/akce/hygge-a-lykke-beseda-a-autogramiada-reditele-institutu-stesti-meika-wikinga--1111/
LOCATION:Palác knih Luxor\, Václavské náměstí 820/41\, Praha 1\, 11000\, Česká republika
ORGANIZER;CN="Luxor":MAILTO:info@luxor.cz
END:VEVENT
BEGIN:VEVENT
DTSTART;TZID=Europe/Prague:20180511T110000
DTEND;TZID=Europe/Prague:20180511T110000
DTSTAMP:20260423T122540
CREATED:20190831T152511Z
LAST-MODIFIED:20190831T152511Z
UID:1755-1526036400-1526036400@www.luxor.cz
SUMMARY:Lenny a Čtení tě mění na Světě knihy 2018
DESCRIPTION:
URL:https://www.luxor.cz/blog/akce/cteni-te-meni-na-svete-knihy-2018--1118/
LOCATION:Palác knih Luxor\, Václavské náměstí 820/41\, Praha 1\, 11000\, Česká republika
ORGANIZER;CN="Luxor":MAILTO:info@luxor.cz
END:VEVENT
BEGIN:VEVENT
DTSTART;TZID=Europe/Prague:20180516T180000
DTEND;TZID=Europe/Prague:20180516T180000
DTSTAMP:20260423T122540
CREATED:20190831T152104Z
LAST-MODIFIED:20190831T152106Z
UID:1734-1526493600-1526493600@www.luxor.cz
SUMMARY:ZLÍN: Autogramiáda Michala Viewegha
DESCRIPTION:Nejznámější český spisovatel se ve dvou novelách vrací k tomu\, co na něm jeho čtenáři oceňují nejvíce. Svůj humorně ironický pohled na vztahy mezi muži a ženami propůjčuje v novele Family Frost zkrachovalému restauratérovi\, který si z nutnosti a trochu i na truc pronajme mrazící vůz známé firmy a živí se jako řidič. Během několika dní se jeho zbabraný život dostane do spirály událostí\, které skončí až na svatbě jeho bývalé manželky (která si bere jeho bývalého společníka). Vincent se potká i s otcem\, kterého nikdy předtím neviděl\, a setkání proběhne vpravdě nečekaným způsobem. Druhá novela\, Čarodějka z Křemelky\, si pohrává s mírně fantastickým námětem. Krásná Dominika má celý život smůlu na muže a svou přitažlivost považuje spíš za prokletí. Jako dar naopak chápe svou schopnost číst lidem myšlenky. S přibývajícími lety a vztahy to ale vypadá\, že i to druhé je spíš na obtíž – dokud nepotká ve vlaku známého spisovatele a nezamiluje se do něj. Ale dá se žít se ženou\, která doopravdy ví\, co si její muž myslí?
URL:https://www.luxor.cz/blog/akce/zlin-autogramiada-michala-viewegha--1106/
LOCATION:Knihkupectví Zlaté Jablko\, OC Zlaté Jablko\, Zlín\, 76001\, Česká republika
ORGANIZER;CN="Luxor":MAILTO:info@luxor.cz
END:VEVENT
BEGIN:VEVENT
DTSTART;TZID=Europe/Prague:20180517T170000
DTEND;TZID=Europe/Prague:20180517T170000
DTSTAMP:20260423T122540
CREATED:20190831T152104Z
LAST-MODIFIED:20190831T152106Z
UID:1735-1526576400-1526576400@www.luxor.cz
SUMMARY:HRADEC KRÁLOVÉ: Autogramiáda Michala Viewegha
DESCRIPTION:Nejznámější český spisovatel se ve dvou novelách vrací k tomu\, co na něm jeho čtenáři oceňují nejvíce. Svůj humorně ironický pohled na vztahy mezi muži a ženami propůjčuje v novele Family Frost zkrachovalému restauratérovi\, který si z nutnosti a trochu i na truc pronajme mrazící vůz známé firmy a živí se jako řidič. Během několika dní se jeho zbabraný život dostane do spirály událostí\, které skončí až na svatbě jeho bývalé manželky (která si bere jeho bývalého společníka). Vincent se potká i s otcem\, kterého nikdy předtím neviděl\, a setkání proběhne vpravdě nečekaným způsobem. Druhá novela\, Čarodějka z Křemelky\, si pohrává s mírně fantastickým námětem. Krásná Dominika má celý život smůlu na muže a svou přitažlivost považuje spíš za prokletí. Jako dar naopak chápe svou schopnost číst lidem myšlenky. S přibývajícími lety a vztahy to ale vypadá\, že i to druhé je spíš na obtíž – dokud nepotká ve vlaku známého spisovatele a nezamiluje se do něj. Ale dá se žít se ženou\, která doopravdy ví\, co si její muž myslí?
URL:https://www.luxor.cz/blog/akce/hradec-kralove-autogramiada-michala-viewegha--1107/
LOCATION:Knihkupectví Futurum\, OC Futurum\, Hradec Králové\, 50009\, Česká republika
ORGANIZER;CN="Luxor":MAILTO:info@luxor.cz
END:VEVENT
BEGIN:VEVENT
DTSTART;TZID=Europe/Prague:20180517T170000
DTEND;TZID=Europe/Prague:20180517T170000
DTSTAMP:20260423T122540
CREATED:20190831T152508Z
LAST-MODIFIED:20190831T152508Z
UID:1749-1526576400-1526576400@www.luxor.cz
SUMMARY:Autogramiáda Borise Pralovszkého a křest jeho knihy Nohama napřed
DESCRIPTION:Divoký humoristický román Borise Pralovszkého vypráví nekorektní příběh rodiny\, která provozuje pohřební ústav. Román se odehrává v pohřebním ústavu\, kam žádné lehkovážné vtipkování nepatří\, a přesto rodina Horáčkových přitahuje komické situace jako magnet a každou katastrofu se jim absurdním způsobem podaří obrátit ve výhru přesně podle pravidla\, že život se nemá brát příliš vážně\, protože stejně skončí na hřbitově. Černý humor Borise Pralovszkého je drsný i něžný stejně jako jeho ilustrace ke knize a smích čtenáře vždycky osvobodí\, když se děj náhle splaší a hlavní hrdinové se ocitnou v neřešitelné situaci.
URL:https://www.luxor.cz/blog/akce/autogramiada-borise-pralovszkeho-a-krest-jeho-knihy-nohama-napred--1112/
LOCATION:Palác knih Luxor\, Václavské náměstí 820/41\, Praha 1\, 11000\, Česká republika
ORGANIZER;CN="Luxor":MAILTO:info@luxor.cz
END:VEVENT
BEGIN:VEVENT
DTSTART;TZID=Europe/Prague:20180522T170000
DTEND;TZID=Europe/Prague:20180522T170000
DTSTAMP:20260423T122540
CREATED:20190831T152105Z
LAST-MODIFIED:20190831T152106Z
UID:1736-1527008400-1527008400@www.luxor.cz
SUMMARY:LIBEREC: Autogramiáda Michala Viewegha
DESCRIPTION:Nejznámější český spisovatel se ve dvou novelách vrací k tomu\, co na něm jeho čtenáři oceňují nejvíce. Svůj humorně ironický pohled na vztahy mezi muži a ženami propůjčuje v novele Family Frost zkrachovalému restauratérovi\, který si z nutnosti a trochu i na truc pronajme mrazící vůz známé firmy a živí se jako řidič. Během několika dní se jeho zbabraný život dostane do spirály událostí\, které skončí až na svatbě jeho bývalé manželky (která si bere jeho bývalého společníka). Vincent se potká i s otcem\, kterého nikdy předtím neviděl\, a setkání proběhne vpravdě nečekaným způsobem. Druhá novela\, Čarodějka z Křemelky\, si pohrává s mírně fantastickým námětem. Krásná Dominika má celý život smůlu na muže a svou přitažlivost považuje spíš za prokletí. Jako dar naopak chápe svou schopnost číst lidem myšlenky. S přibývajícími lety a vztahy to ale vypadá\, že i to druhé je spíš na obtíž – dokud nepotká ve vlaku známého spisovatele a nezamiluje se do něj. Ale dá se žít se ženou\, která doopravdy ví\, co si její muž myslí?
URL:https://www.luxor.cz/blog/akce/liberec-autogramiada-michala-viewegha--1108/
LOCATION:Knihkupectví Forum\, OC Forum\, Liberec\, 46001\, Česká republika
ORGANIZER;CN="Luxor":MAILTO:info@luxor.cz
END:VEVENT
BEGIN:VEVENT
DTSTART;TZID=Europe/Prague:20180522T170000
DTEND;TZID=Europe/Prague:20180522T170000
DTSTAMP:20260423T122540
CREATED:20190831T152508Z
LAST-MODIFIED:20190831T152508Z
UID:1750-1527008400-1527008400@www.luxor.cz
SUMMARY:Autogramiáda Miroslava Bobka a křest jeho knihy Zoopisník
DESCRIPTION:Zoopisník ředitele Zoo Praha obsahuje přes sedmdesát kapitol\, ve kterých vás autor seznámí s mnoha pozoruhodnými zvířaty a lidmi. Poznáte zákulisí pražské zoologické zahrady a seznámíte se s dobrodružným světem pouští a pralesů. Více i méně vážná témata\, která autor podává neotřelou a odlehčenou formou\, zakončují překvapivé pointy a poprvé je doplňují zcela unikátní fotografie.Víte\, kudy cestují kvakoši? Jak to bylo s lanovkou v pražské zoo? Kdo založil muzeum bobků? Kdy se slaví Světový den luskounů? Jak se daří pražským koním Převalského v Mongolsku? Který živočich je nejrychlejší? Kudy v Kamerunu jezdí Toulavý autobus? Kolik má Zoo Praha zvířecích obyvatel? To všechno a mnohem víc se dozvíte\, když si přečtete nový Zoopisník Miroslava Bobka.
URL:https://www.luxor.cz/blog/akce/autogramiada-miroslava-bobka-a-krest-jeho-knihy-zoopisnik--1113/
LOCATION:Palác knih Luxor\, Václavské náměstí 820/41\, Praha 1\, 11000\, Česká republika
ORGANIZER;CN="Luxor":MAILTO:info@luxor.cz
END:VEVENT
BEGIN:VEVENT
DTSTART;TZID=Europe/Prague:20180523T170000
DTEND;TZID=Europe/Prague:20180523T170000
DTSTAMP:20260423T122540
CREATED:20190831T152511Z
LAST-MODIFIED:20190831T152511Z
UID:1754-1527094800-1527094800@www.luxor.cz
SUMMARY:Autogramiáda Ester Geislerové a Josefiny Bakošové ke knize Terapie sdílením
DESCRIPTION:Za projektem Terapie sdílením\, aktuální internetovou senzací\, stojí kreativní dvojice Ester Geislerová a Josefina Bakošová. Před několika\nměsíci vystavily na svých sociálních sítích několik mrazivých\, a zároveň\n cynický úsměv vzbuzujících vět\, kterými se jistý muž rozešel s jejich\nkamarádkou. Toto malé gesto spustilo lavinu: během následujících týdnů\njim čtenáři začali posílat své rozchodové věty a hashtag „terapie\nsdilenim“ se stal doslova kultovním. Kniha je věrným obrazem\nautentického prostředí internetových chatů a messengerů\, kde se dnes tak\n často odehrávají trpké konce vztahů. Sebrané věty opravdu fungují jako\nsvébytná terapie: při četbě a úlevném smíchu si člověk rád připomene\, že\n tak zle na tom přece jen ještě není. Kniha je doplněna texty obou\nautorek\, esejí mediálního teoretika Tomáše Dvořáka\, osobními fotkami\,\nvzkazy a dalšími materiály.
URL:https://www.luxor.cz/blog/akce/autogramiada-ester-geislerove-a-josefiny-bakosove-ke-knize-terapie-sdilenim--1117/
LOCATION:Palác knih Luxor\, Václavské náměstí 820/41\, Praha 1\, 11000\, Česká republika
ORGANIZER;CN="Luxor":MAILTO:info@luxor.cz
END:VEVENT
BEGIN:VEVENT
DTSTART;TZID=Europe/Prague:20180524T090000
DTEND;TZID=Europe/Prague:20180524T090000
DTSTAMP:20260423T122540
CREATED:20190831T152512Z
LAST-MODIFIED:20190831T152512Z
UID:1756-1527152400-1527152400@www.luxor.cz
SUMMARY:MLADÁ BOLESLAV: Otevíráme novou pobočku knihkupectví Luxor
DESCRIPTION:
URL:https://www.luxor.cz/blog/akce/mlada-boleslav-otevirame-novou-pobocku-luxor--1119/
LOCATION:Knihkupectví Bondy Centrum\, OC Bondy\, Mladá Boleslav\, 29301\, Česká republika
ORGANIZER;CN="Luxor":MAILTO:info@luxor.cz
END:VEVENT
BEGIN:VEVENT
DTSTART;TZID=Europe/Prague:20180528T163000
DTEND;TZID=Europe/Prague:20180528T163000
DTSTAMP:20260423T122540
CREATED:20190831T152513Z
LAST-MODIFIED:20190831T152513Z
UID:1759-1527525000-1527525000@www.luxor.cz
SUMMARY:Autogramiáda Tomáše Kozáka a křest jeho nové knihy Prokletí Jantarové komnaty
DESCRIPTION:Jantarová komnata – perla evropského umění\, která záhadně zmizela na konci druhé světové války\, je snem snad všech romantiků a sběratelů.\nMezi ně se počítá i hlavní hrdina strhujícího mysteriózního thrilleru\nTomáše Kozáka. Když se této vzácnosti dostane shodou okolností na stopu\,\n netuší\, že po ní vyjma amatérských hledačů pokladů pasou i členové\nprastarého tajného řádu\, profesionální zabijáci\, kteří neváhají\nnemilosrdně odstranit každého\, kdo jim stojí v cestě. Bude rychlejší než\n oni? A přežije tento dostih vůbec?
URL:https://www.luxor.cz/blog/akce/autogramiada-tomase-kozaka-a-krest-jeho-nove-knihy-prokleti-jantarove-komnaty--1125/
LOCATION:Palác knih Luxor\, Václavské náměstí 820/41\, Praha 1\, 11000\, Česká republika
ORGANIZER;CN="Luxor":MAILTO:info@luxor.cz
END:VEVENT
BEGIN:VEVENT
DTSTART;TZID=Europe/Prague:20180530T170000
DTEND;TZID=Europe/Prague:20180530T170000
DTSTAMP:20260423T122540
CREATED:20190831T152510Z
LAST-MODIFIED:20190831T152510Z
UID:1751-1527699600-1527699600@www.luxor.cz
SUMMARY:Autogramiáda Pavla Kohouta a křest jeho knihy To byl můj život?
DESCRIPTION:Pavel Kohout bilancuje. V roce\, kdy se spisovatel dožívá významného životního jubilea\, vydáváme souborně jeho paměti. Svazek obsahuje oba díly Kohoutových vzpomínek To byl můj život? na léta 1928–1979 a 1979–1992\, dále text Předběžná bilance z roku 2011 a konečně autorův „dovětek“ P. S. Autor vtipným způsobem komentuje události ze svého života\, vytahuje střípky paměti\, které dohromady utvářejí pozoruhodný obraz dvacátého století…
URL:https://www.luxor.cz/blog/akce/autogramiada-pavla-kohouta-a-krest-jeho-knihy-to-byl-muj-zivot--1114/
LOCATION:Palác knih Luxor\, Václavské náměstí 820/41\, Praha 1\, 11000\, Česká republika
ORGANIZER;CN="Luxor":MAILTO:info@luxor.cz
END:VEVENT
BEGIN:VEVENT
DTSTART;TZID=Europe/Prague:20180531T170000
DTEND;TZID=Europe/Prague:20180531T170000
DTSTAMP:20260423T122540
CREATED:20190831T152510Z
LAST-MODIFIED:20190831T152510Z
UID:1752-1527786000-1527786000@www.luxor.cz
SUMMARY:Beseda a autogramiáda ke knize Jaroslava Kmenty Boss Babiš
DESCRIPTION:Boss Babiš je reportážní kniha o temném světe miliardáře a politika Andreje Babiše. Shrnuje\, v čem je oligarcha Babiš nebezpečný\, jak zbohatl\, s kým se zapletl a co všechno ještě tají. Popisuje nejen jeho skutečný podnikatelský zrod a nemilosrdné praktiky v byznysu\, ale přibližuje i jeho roli ve polosvětě kolem kmotrů Františka Mrázka\, Tomáše Pitra či Radovana Krejčíře. Kniha je zčásti postavená na reportážích časopisu Reportér. Přináší však celou řadu novinek a dosud nepublikovaných informací\, které tvoří zatím nejucelenější obraz oligarchy Babiše.
URL:https://www.luxor.cz/blog/akce/beseda-a-autogramiada-ke-knize-jaroslava-kmenty-boss-babis--1115/
LOCATION:Palác knih Luxor\, Václavské náměstí 820/41\, Praha 1\, 11000\, Česká republika
ORGANIZER;CN="Luxor":MAILTO:info@luxor.cz
END:VEVENT
END:VCALENDAR