BEGIN:VCALENDAR
VERSION:2.0
PRODID:-//Blog knihkupectví Luxor - ECPv6.15.20//NONSGML v1.0//EN
CALSCALE:GREGORIAN
METHOD:PUBLISH
X-WR-CALNAME:Blog knihkupectví Luxor
X-ORIGINAL-URL:https://www.luxor.cz/blog
X-WR-CALDESC:Akce na Blog knihkupectví Luxor
REFRESH-INTERVAL;VALUE=DURATION:PT1H
X-Robots-Tag:noindex
X-PUBLISHED-TTL:PT1H
BEGIN:VTIMEZONE
TZID:Europe/Prague
BEGIN:DAYLIGHT
TZOFFSETFROM:+0100
TZOFFSETTO:+0200
TZNAME:CEST
DTSTART:20170326T010000
END:DAYLIGHT
BEGIN:STANDARD
TZOFFSETFROM:+0200
TZOFFSETTO:+0100
TZNAME:CET
DTSTART:20171029T010000
END:STANDARD
BEGIN:DAYLIGHT
TZOFFSETFROM:+0100
TZOFFSETTO:+0200
TZNAME:CEST
DTSTART:20180325T010000
END:DAYLIGHT
BEGIN:STANDARD
TZOFFSETFROM:+0200
TZOFFSETTO:+0100
TZNAME:CET
DTSTART:20181028T010000
END:STANDARD
BEGIN:DAYLIGHT
TZOFFSETFROM:+0100
TZOFFSETTO:+0200
TZNAME:CEST
DTSTART:20190331T010000
END:DAYLIGHT
BEGIN:STANDARD
TZOFFSETFROM:+0200
TZOFFSETTO:+0100
TZNAME:CET
DTSTART:20191027T010000
END:STANDARD
END:VTIMEZONE
BEGIN:VEVENT
DTSTART;TZID=Europe/Prague:20180302T150000
DTEND;TZID=Europe/Prague:20180302T150000
DTSTAMP:20260423T181938
CREATED:20190831T152038Z
LAST-MODIFIED:20190831T152040Z
UID:1677-1520002800-1520002800@www.luxor.cz
SUMMARY:Křest učebnice New Maturita Activator
DESCRIPTION:Kapacita je omezena na 25 osob. \nVíce informací a možnost registrace na: https://www.venturesbooks.cz/konference-a-vzdelavani/krest-new-maturita-activator-praha
URL:https://www.luxor.cz/blog/akce/krest-ucebnice-new-maturita-activator--1072/
LOCATION:Palác knih Luxor\, Václavské náměstí 820/41\, Praha 1\, 11000\, Česká republika
ORGANIZER;CN="Luxor":MAILTO:info@luxor.cz
END:VEVENT
BEGIN:VEVENT
DTSTART;TZID=Europe/Prague:20180306T170000
DTEND;TZID=Europe/Prague:20180306T170000
DTSTAMP:20260423T181938
CREATED:20190831T152038Z
LAST-MODIFIED:20190831T152040Z
UID:1678-1520355600-1520355600@www.luxor.cz
SUMMARY:Křest a autogramiáda knihy o Janu Nerudovi Srdce v kleci
DESCRIPTION:Zahoďte veškeré školní představy o rozšafném pánovi s plnovousem a hůlkou\, jenž laskavě popisuje komické figurky malostranských obyvatel! V tomto příběhu poznáte skutečného Jana Nerudu\, mladého rebela\, vzpurného darebáka a výtržníka\, znalce pivnic a vináren\, cynického ironika\, vášnivého tanečníka\, svůdce žen a prokletého básníka\, jenž dlouho a bolestně hledal své místo v životě\, jenž prožíval osudové a nešťastně končící lásky\, často se pohyboval po tenké hraně mezi životem a smrtí\, aby konečně našel svou cestu\, která nejen obrazně\, ale naprosto reálně mířila ke hvězdám.
URL:https://www.luxor.cz/blog/akce/krest-a-autogramiada-knihy-o-janu-nerudovi-srdce-v-kleci--1073/
LOCATION:Palác knih Luxor\, Václavské náměstí 820/41\, Praha 1\, 11000\, Česká republika
ORGANIZER;CN="Luxor":MAILTO:info@luxor.cz
END:VEVENT
BEGIN:VEVENT
DTSTART;TZID=Europe/Prague:20180307T160000
DTEND;TZID=Europe/Prague:20180307T160000
DTSTAMP:20260423T181938
CREATED:20190831T152045Z
LAST-MODIFIED:20190831T152047Z
UID:1697-1520438400-1520438400@www.luxor.cz
SUMMARY:ZLÍN: Autogramiáda autora Retra Michala Petrova
DESCRIPTION:
URL:https://www.luxor.cz/blog/akce/zlin-autogramiada-autora-retra-michala-petrova--1082/
LOCATION:Knihkupectví Zlaté Jablko\, OC Zlaté Jablko\, Zlín\, 76001\, Česká republika
ORGANIZER;CN="Luxor":MAILTO:info@luxor.cz
END:VEVENT
BEGIN:VEVENT
DTSTART;TZID=Europe/Prague:20180307T170000
DTEND;TZID=Europe/Prague:20180307T170000
DTSTAMP:20260423T181938
CREATED:20190831T152031Z
LAST-MODIFIED:20190831T152033Z
UID:1660-1520442000-1520442000@www.luxor.cz
SUMMARY:Křest a autogramiáda knihy Tary: příběh parkouristy
DESCRIPTION:Průvodce životem youtubera Taryho i fenomenální disciplínou parkour \nStaňte se parkouristy a poznejte neobyčejný život známého youtubera Taryho! Kluk\, který už od dětství hltal akční filmy\, je členem akrobatické skupiny Urban Sense a účastnil se soutěže Česko Slovensko má talent. Pro mladého youtubera\, jehož kanál sleduje více než 400 000 odběratelů\, je parkour symbolem svobody a volnosti pohybu. Ve své knize Taras Tary Povoroznyk odhalil nejen svůj životní příběh\, ale i ty nejlepší postupy provedení vybraných prvků.
URL:https://www.luxor.cz/blog/akce/krest-a-autogramiada-knihy-tary-pribeh-parkouristy--1064/
LOCATION:Palác knih Luxor\, Václavské náměstí 820/41\, Praha 1\, 11000\, Česká republika
ORGANIZER;CN="Luxor":MAILTO:info@luxor.cz
END:VEVENT
BEGIN:VEVENT
DTSTART;TZID=Europe/Prague:20180308T170000
DTEND;TZID=Europe/Prague:20180308T170000
DTSTAMP:20260423T181938
CREATED:20190831T152031Z
LAST-MODIFIED:20190831T152032Z
UID:1657-1520528400-1520528400@www.luxor.cz
SUMMARY:Andrea Verešová pokřtí knihu Aleny Klenot Jsem příliš mladá\, abych zestárla
DESCRIPTION:Jak si udržet vitalitu a zdraví po celýživot? Jak z něj vytěžit maximum? Existuje spousta knih se „zaručenými radami“\,\njak omládnout a starat se o sebe. Málokterá z nich však vychází z natolik\nosobních a niterních zkušeností jako publikace Jsem příliš mladá\, abych zestárla mezinárodně úspěšné stylistky a\nvizážistky Aleny Klenot. Pokud máte\npocit\, že svůj život jen přežíváte a nikoliv prožíváte\, je novinka z Nakladatelského domu GRADA tím správným\nimpulzem ke změně.   \nAlena\nKlenot žije přes třicet let v zahraničí\, procestovala však celý svět.\nNěkolik měsíců žila v Asii\, na Filipínách a v Hong Kongu. Navštívila\nJižní Koreu a pracovala také v Austrálii. Díky svým zkušenostem získala\nnávod na fyzickou i duševní vitalitu a mimo jiné také přehled\, co se děje s\nženami všude na světě\, jak o sebe pečují a jaké mají názory na stárnutí. 
URL:https://www.luxor.cz/blog/akce/andrea-veresova-pokrti-knihu-aleny-klenot-jsem-prilis-mlada-abych-zestarla--1060/
LOCATION:Palác knih Luxor\, Václavské náměstí 820/41\, Praha 1\, 11000\, Česká republika
ORGANIZER;CN="Luxor":MAILTO:info@luxor.cz
END:VEVENT
BEGIN:VEVENT
DTSTART;TZID=Europe/Prague:20180313T170000
DTEND;TZID=Europe/Prague:20180313T170000
DTSTAMP:20260423T181938
CREATED:20190831T152039Z
LAST-MODIFIED:20190831T152040Z
UID:1679-1520960400-1520960400@www.luxor.cz
SUMMARY:Michal Čagánek pokřtí knihu Strom štěstí
DESCRIPTION:
URL:https://www.luxor.cz/blog/akce/michal-caganek-pokrti-knihu-strom-zivota--1074/
LOCATION:Palác knih Luxor\, Václavské náměstí 820/41\, Praha 1\, 11000\, Česká republika
ORGANIZER;CN="Luxor":MAILTO:info@luxor.cz
END:VEVENT
BEGIN:VEVENT
DTSTART;TZID=Europe/Prague:20180315T170000
DTEND;TZID=Europe/Prague:20180315T170000
DTSTAMP:20260423T181938
CREATED:20190831T152039Z
LAST-MODIFIED:20190831T152040Z
UID:1680-1521133200-1521133200@www.luxor.cz
SUMMARY:Autogramiáda a křest knihy Jiřího Slívy Rádio opět hlásí
DESCRIPTION:Známý český kreslíř poprvé připravil druhou autorskou knihubásniček a kreseb. Slívův kreslený humor je obvykle postaven na paradoxu –\npostavení jinak seriózních a běžných námětů do nečekaných kontrastů. \nJeho nadhled a inteligentní pohled na svět kolem nás vytváří\nv jeho kresbách a grafikách jemný gentlemanský humor\, který v dnešní době\ntrochu chybí. \nVýznamný český grafik\, výtvarník\, ilustrátor a karikaturista\nJiří Slíva se ve své knize představuje jako autor kresleného humoru a mistr\nslovní zkratky a břitkého\, ač vlastně laskavého vtipu.. 
URL:https://www.luxor.cz/blog/akce/autogramiada-a-krest-knihy-jiriho-slivy-radio-hlasi--1075/
LOCATION:Palác knih Luxor\, Václavské náměstí 820/41\, Praha 1\, 11000\, Česká republika
ORGANIZER;CN="Luxor":MAILTO:info@luxor.cz
END:VEVENT
BEGIN:VEVENT
DTSTART;TZID=Europe/Prague:20180319T170000
DTEND;TZID=Europe/Prague:20180319T170000
DTSTAMP:20260423T181938
CREATED:20190831T152046Z
LAST-MODIFIED:20190831T152047Z
UID:1700-1521478800-1521478800@www.luxor.cz
SUMMARY:Křest a autogramiáda knihy Falešný sňatek Magdaleny Mintové
DESCRIPTION:
URL:https://www.luxor.cz/blog/akce/krest-a-autogramiada-knihy-falesny-snatek-magdaleny-mintove--1085/
LOCATION:Palác knih Luxor\, Václavské náměstí 820/41\, Praha 1\, 11000\, Česká republika
ORGANIZER;CN="Luxor":MAILTO:info@luxor.cz
END:VEVENT
BEGIN:VEVENT
DTSTART;TZID=Europe/Prague:20180320T170000
DTEND;TZID=Europe/Prague:20180320T170000
DTSTAMP:20260423T181938
CREATED:20190831T152039Z
LAST-MODIFIED:20190831T152040Z
UID:1681-1521565200-1521565200@www.luxor.cz
SUMMARY:Křest knihy Motorkářský průvodce po Slovensku
DESCRIPTION:Po dvou úspěšných Motorkářských průvodcích po Čechách a Moravě se autor rozhodl zmapovat také nejkrásnější trasy Slovenska. Kromě popisu krás přírody a nejhezčích historických pamětihodností uvádí opět nejlepší hotely a penziony\, v nichž se dá přenocovat za nepříliš drahý peníz\, hospody a hospůdky\, kde je možné se dobře najíst\, a samozřejmě nevynechá ani příhody\, které zažil se svými kamarády při toulkách po Slovensku. Průvodce je doplněn množstvím barevných fotografií.
URL:https://www.luxor.cz/blog/akce/krest-knihy-motorkarsky-pruvodce-po-slovensku--1076/
LOCATION:Palác knih Luxor\, Václavské náměstí 820/41\, Praha 1\, 11000\, Česká republika
ORGANIZER;CN="Luxor":MAILTO:info@luxor.cz
END:VEVENT
BEGIN:VEVENT
DTSTART;TZID=Europe/Prague:20180321T160000
DTEND;TZID=Europe/Prague:20180321T160000
DTSTAMP:20260423T181938
CREATED:20190831T152046Z
LAST-MODIFIED:20190831T152047Z
UID:1698-1521648000-1521648000@www.luxor.cz
SUMMARY:ZLÍN: Autogramiáda Jaroslava Kmenty a knihy Boss Babiš
DESCRIPTION:Boss Babiš je reportážní kniha o temném světe miliardáře a politika Andreje Babiše. Shrnuje\, v čem je oligarcha Babiš nebezpečný\, jak zbohatl\, s kým se zapletl a co všechno ještě tají. Popisuje nejen jeho skutečný podnikatelský zrod a nemilosrdné praktiky v byznysu\, ale přibližuje i jeho roli ve polosvětě kolem kmotrů Františka Mrázka\, Tomáše Pitra či Radovana Krejčíře. Kniha je zčásti postavená na reportážích časopisu Reportér. Přináší však celou řadu novinek a dosud nepublikovaných informací\, které tvoří zatím nejucelenější obraz oligarchy Babiše.
URL:https://www.luxor.cz/blog/akce/zlin-autogramiada-jaroslava-kmenty-a-knihy-boss-babis--1083/
LOCATION:Knihkupectví Zlaté Jablko\, OC Zlaté Jablko\, Zlín\, 76001\, Česká republika
ORGANIZER;CN="Luxor":MAILTO:info@luxor.cz
END:VEVENT
BEGIN:VEVENT
DTSTART;TZID=Europe/Prague:20180321T173000
DTEND;TZID=Europe/Prague:20180321T173000
DTSTAMP:20260423T181938
CREATED:20190831T152042Z
LAST-MODIFIED:20190831T152044Z
UID:1687-1521653400-1521653400@www.luxor.cz
SUMMARY:Autogramiáda Jana Krause a jeho knihy Můj soukromý buzynes
DESCRIPTION:  Knížka o veškerém mém byznysu. O tom\, který jsem dělal ve škole\, na jízdárně\, s mým otcem\, s vojáky\, s mojí první ženou\, s bytem\, s komputerem\, s Italy\, s divadlem i s televizí. Nejsem a nechtěl jsem být byznysmenem. Ale byznys mi pořád lezl do života. Buď proto\, že nebylo na živobytí\, nebo proto\, že padl komunismus. Pokaždé mi výrazně změnil život. Byznys nejsou jen příjmy\, výdaje\, zisky atd. Ale především příběh\, který chodí s ním.
URL:https://www.luxor.cz/blog/akce/jan-kraus-pokrti-knihu-muj-soukromy-buzynes--1077/
LOCATION:Palác knih Luxor\, Václavské náměstí 820/41\, Praha 1\, 11000\, Česká republika
ORGANIZER;CN="Luxor":MAILTO:info@luxor.cz
END:VEVENT
BEGIN:VEVENT
DTSTART;TZID=Europe/Prague:20180322T150000
DTEND;TZID=Europe/Prague:20180322T150000
DTSTAMP:20260423T181938
CREATED:20190831T152042Z
LAST-MODIFIED:20190831T152044Z
UID:1688-1521730800-1521730800@www.luxor.cz
SUMMARY:Křest knihy Zakázané uvolnění Jitky Ludvíkové
DESCRIPTION:Zakázané uvolnění je soubor hořkosladkých povídek o lásce\, vášni\, nenávisti\, žárlivosti\, bolesti i zklamání. Kniha ukazuje různé pohledy na partnerské vztahy a naše osobní limity. Jedno však mají všechny povídky společné\, překvapivé rozuzlení příběhu\, vtip a ironii\, které jsou pro tvorbu spisovatelky Jitky Ludvíkové tak typické. Co jsme ochotni obětovat? Co si necháme líbit a co jsme schopni unést? Kde jsou naše hranice? Jak dlouho lze snášet bolest? Jak dlouho můžeme věřit? Co je láska? Nejen nad těmito otázkami se autorka knihy zamýšlí.
URL:https://www.luxor.cz/blog/akce/krest-knihy-zakazane-uvolneni-jitky-ludvikove--1078/
LOCATION:Palác knih Luxor\, Václavské náměstí 820/41\, Praha 1\, 11000\, Česká republika
ORGANIZER;CN="Luxor":MAILTO:info@luxor.cz
END:VEVENT
BEGIN:VEVENT
DTSTART;TZID=Europe/Prague:20180322T170000
DTEND;TZID=Europe/Prague:20180322T170000
DTSTAMP:20260423T181938
CREATED:20190831T152043Z
LAST-MODIFIED:20190831T152044Z
UID:1689-1521738000-1521738000@www.luxor.cz
SUMMARY:Křest knihy Styly interiérů architektky Veroniky Haroldové
DESCRIPTION:Kniha je napsaná pro Vás všechny\, které nejen baví a zajímá interiérový design\, ale současně rádi přemýšlíte o souvislostech mezi svým domovem a životem. Publikace přehledně shrnující současné styly interiérů na trhu dosud citelně chyběla. Kniha plná atraktivních fotografií podrobně představuje sedmnáct interiérových stylů\, které přehledně rozděluje do čtyř skupin: moderní\, venkovské\, romantické a avantgardní. Stranou zůstává pouze eklektický styl\, který ostatní styly svobodně míchá. Výpravná publikace nabízí přehledné a podrobné informace o jednotlivých stylech\, jejich typických materiálech\, barevnosti\, nábytku\, svítidlech\, doplňcích a textilu\, zkrátka o všem\, co s tvorbou a charakterem stylu souvisí. V úvodu kapitoly je každý styl propojen s typem osobnosti\, pro kterou se ideálně hodí\, které se bude líbit a bude jí nejlépe vyhovovat. \nVydavatelství Baron ve své produkci primárně oprašuje staré časy pomocí dobových pohlednic prostřednictvím jedinečné knižní edice. Od roku 1997 vydalo 9745 druhů místopisných pohlednic ČR.
URL:https://www.luxor.cz/blog/akce/krest-knihy-styly-interieru-architektky-veroniky-haroldove--1079/
LOCATION:Palác knih Luxor\, Václavské náměstí 820/41\, Praha 1\, 11000\, Česká republika
ORGANIZER;CN="Luxor":MAILTO:info@luxor.cz
END:VEVENT
BEGIN:VEVENT
DTSTART;TZID=Europe/Prague:20180327T160000
DTEND;TZID=Europe/Prague:20180327T160000
DTSTAMP:20260423T181938
CREATED:20190831T152043Z
LAST-MODIFIED:20190831T152044Z
UID:1690-1522166400-1522166400@www.luxor.cz
SUMMARY:Křest Nové české knihy těhotenství a mateřství
DESCRIPTION:Zodpovědní rodiče chtějí být na příchod svého potomka připraveni. Tato moderní barevná publikace vám poskytne všechny nezbytné informace. Tandem zkušených odborníků a vyhledávaných autorů přináší aktuální gynekologické a pediatrické poznatky\, uspořádané do vyčerpávající\, přehledné a graficky atraktivní příručky\, která vás provede těhotenstvím i péčí o dítě od novorozeneckého do předškolního věku.
URL:https://www.luxor.cz/blog/akce/krest-nove-ceske-knihy-tehotenstvi-a-materstvi--1080/
LOCATION:Palác knih Luxor\, Václavské náměstí 820/41\, Praha 1\, 11000\, Česká republika
ORGANIZER;CN="Luxor":MAILTO:info@luxor.cz
END:VEVENT
BEGIN:VEVENT
DTSTART;TZID=Europe/Prague:20180329T170000
DTEND;TZID=Europe/Prague:20180329T170000
DTSTAMP:20260423T181938
CREATED:20190831T152043Z
LAST-MODIFIED:20190831T152044Z
UID:1691-1522342800-1522342800@www.luxor.cz
SUMMARY:Křest knihy Výlety s tajenkou
DESCRIPTION:Konec unuděných dětí na výletech! \nTa nejlepší zábava pro celou rodinu! Nenechte se mýlit\, nejedná se jen o tipy na 15 celoročních výletů\, v knize vás čekají i dětské mapy\, vyplňování doplňovaček\, luštění tajenek\, zadání úkolů v průběhu trasy\, a hledání skrytých obrázků v textu. Krátké\, atraktivní trasy jsou vhodné pro rodiny s malými výletníky již od 3 let. Vše je napsáno rodičem s porozuměním pro ostatní rodiče\, testováno a připomínkováno stovkami dětí pro další kamarády.
URL:https://www.luxor.cz/blog/akce/krest-knihy-vylety-s-tajenkou--1081/
LOCATION:Palác knih Luxor\, Václavské náměstí 820/41\, Praha 1\, 11000\, Česká republika
ORGANIZER;CN="Luxor":MAILTO:info@luxor.cz
END:VEVENT
BEGIN:VEVENT
DTSTART;TZID=Europe/Prague:20180331T235900
DTEND;TZID=Europe/Prague:20180331T235900
DTSTAMP:20260423T181938
CREATED:20190831T152046Z
LAST-MODIFIED:20190831T152047Z
UID:1699-1522540740-1522540740@www.luxor.cz
SUMMARY:Dinno puzzle se slevou 50 %
DESCRIPTION:Proto u nás seženete celý březen všechny Dino puzzle kromě deskových za 50%! Akce platí tady na eshopu na zboží níže. I ve všech kamenných prodejnách knihkupectví Luxor. Od 1. 3. do 31. 3. nebo do vyprodání zásob.
URL:https://www.luxor.cz/blog/akce/dinno-puzzle-se-slevou-50--1084/
ORGANIZER;CN="Luxor":MAILTO:info@luxor.cz
END:VEVENT
END:VCALENDAR