BEGIN:VCALENDAR
VERSION:2.0
PRODID:-//Blog knihkupectví Luxor - ECPv6.15.20//NONSGML v1.0//EN
CALSCALE:GREGORIAN
METHOD:PUBLISH
X-ORIGINAL-URL:https://www.luxor.cz/blog
X-WR-CALDESC:Akce na Blog knihkupectví Luxor
REFRESH-INTERVAL;VALUE=DURATION:PT1H
X-Robots-Tag:noindex
X-PUBLISHED-TTL:PT1H
BEGIN:VTIMEZONE
TZID:Europe/Prague
BEGIN:DAYLIGHT
TZOFFSETFROM:+0100
TZOFFSETTO:+0200
TZNAME:CEST
DTSTART:20170326T010000
END:DAYLIGHT
BEGIN:STANDARD
TZOFFSETFROM:+0200
TZOFFSETTO:+0100
TZNAME:CET
DTSTART:20171029T010000
END:STANDARD
BEGIN:DAYLIGHT
TZOFFSETFROM:+0100
TZOFFSETTO:+0200
TZNAME:CEST
DTSTART:20180325T010000
END:DAYLIGHT
BEGIN:STANDARD
TZOFFSETFROM:+0200
TZOFFSETTO:+0100
TZNAME:CET
DTSTART:20181028T010000
END:STANDARD
BEGIN:DAYLIGHT
TZOFFSETFROM:+0100
TZOFFSETTO:+0200
TZNAME:CEST
DTSTART:20190331T010000
END:DAYLIGHT
BEGIN:STANDARD
TZOFFSETFROM:+0200
TZOFFSETTO:+0100
TZNAME:CET
DTSTART:20191027T010000
END:STANDARD
END:VTIMEZONE
BEGIN:VEVENT
DTSTART;TZID=Europe/Prague:20180104T170000
DTEND;TZID=Europe/Prague:20180104T170000
DTSTAMP:20260423T181113
CREATED:20190831T152023Z
LAST-MODIFIED:20190831T152025Z
UID:1638-1515085200-1515085200@www.luxor.cz
SUMMARY:Debata ke knize Hradní pan Brouček a jiná monstra
DESCRIPTION:Kniha Hradní pan Brouček a jiná monstra představuje průkopnický příspěvek k novému oboru – české politické monstrologii. Tato odborná disciplína se zabývá studiem a klasifikací monster\, která se v uplynulých letech objevovala na naší politické (ob)scéně a v našem veřejném životě\, jako je „Hradní pan Brouček“ (Miloš Zeman)\, „Apoštol svobody“ (Václav Klaus)\, Kindlova právnická mafie\, pražský magistrát a mnohá další. Kniha sestává z textů filozofa Václava Němce z posledních deseti let\, které vznikaly právě při jeho občanském a intelektuálním potýkání s těmito monstry. \nV knize se jedinečným způsobem spojují filozofické reflexe (nejen) české politiky s osobním svědectvím o událostech a kauzách\, jichž byl autor sám svědkem či aktérem. Ačkoli jednotlivé texty reagují na konkrétní dobové události\, kauzy či výroky veřejných činitelů\, tvoří kamínky mozaiky\, která ve svém celku představuje výmluvný dokument doby a podává svědectví o určité fázi dějin novodobé české demokracie\, na jejímž pomyslném vrcholu či dně se nyní nacházíme. Kniha tak poskytuje zasvěcený vhled do nedávných českých dějin\, které významně ovlivňují naši přítomnost a které nepochybně budou mít vliv i na naši blízkou budoucnost. \n„Podobně jako pan Brouček\, literární postava Svatopluka Čecha\, podniká Miloš Zeman epochální výlet do minulosti\, ovšem s tím rozdílem\, že tak činí zcela záměrně\, že do něj s sebou zavléká i ostatní občany této země a že jej činí nikoli na své vlastní nebezpečí a náklady\, ale na úkor nás všech a naší budoucnosti.“ (Václav Němec)
URL:https://www.luxor.cz/blog/akce/krest-knihy-hradni-pan-broucek-a-jina-monstra--1049/
LOCATION:Palác knih Luxor\, Václavské náměstí 820/41\, Praha 1\, 11000\, Česká republika
ORGANIZER;CN="Luxor":MAILTO:info@luxor.cz
END:VEVENT
BEGIN:VEVENT
DTSTART;TZID=Europe/Prague:20180108T170000
DTEND;TZID=Europe/Prague:20180108T170000
DTSTAMP:20260423T181113
CREATED:20190831T152024Z
LAST-MODIFIED:20190831T152025Z
UID:1639-1515430800-1515430800@www.luxor.cz
SUMMARY:Autogramiáda a křest knihy Jak zhubnout a už nikdy nepřibrat
DESCRIPTION:Která z žen by neznala obávaný jojo-efekt? Celoživotně bojujete s váhou\, a když už se konečně dostanete na tu svou vysněnou\, najednou se váha „zhoupne“ a jste tam\, kde jste byly. Můžete začít nanovo. \nLhali bychom\, kdybychom vám tvrdili\, že boj s nadváhou bude nyní „procházka růžovým sadem“. Bude to dřina\, ale poradíme vám\, jak tu dřinu zvládnout co nejlépe a pokud možno s dlouhotrvajícím účinkem. Jak říká autorka této publikace: „Každá z nás s něčím v životě bojuje\, a my\, které bojujeme s nadváhou\, bychom si měly uvědomit\, že hubnutí není sprint\, ale běh na dlouhou trať.“ A proto radí: \nMějte se rády a pochvalte se! \nHodně spěte a taky někdy lenošte! \nNestresujte se kvůli maličkostem! \nNezapomínejte na své přátele! \nDejte si občas skleničku vína\, kávu\, čokoládu a užijte si to!
URL:https://www.luxor.cz/blog/akce/autogramiada-a-krest-knihy-jak-zhubnout-a-uz-nikdy-nepribrat--1050/
LOCATION:Palác knih Luxor\, Václavské náměstí 820/41\, Praha 1\, 11000\, Česká republika
ORGANIZER;CN="Luxor":MAILTO:info@luxor.cz
END:VEVENT
BEGIN:VEVENT
DTSTART;TZID=Europe/Prague:20180115T100000
DTEND;TZID=Europe/Prague:20180115T100000
DTSTAMP:20260423T181113
CREATED:20190831T152024Z
LAST-MODIFIED:20190831T152025Z
UID:1641-1516010400-1516010400@www.luxor.cz
SUMMARY:(Vel)Mistr E a ztracená šifra dokonalosti
DESCRIPTION:Podaří se Klárce nalézt ztracenou šifru a vysvobodit Království Etikety ze zakletí? \nStal se zázrak! Klárka si myslela\, že už se nikdy nevrátí do Království Etikety\, kde strávila spoustu času. Zničehonic se však objevil Mistr E a požádal ji o pomoc. Aby beznadějně začarované království bylo vysvobozeno\, je třeba najít ztracenou šifru dokonalosti. A to je právě Klárčin úkol. Jak se ale hledá něco\, o čem netušíte\, jak to vypadá? Vydejte se s ní na dobrodružnou cestu\, u které si doplníte vaše znalosti etikety… Tak hurá za Klárkou!
URL:https://www.luxor.cz/blog/akce/velmistr-e-a-ztracena-sifra-dokonalosti--1054/
LOCATION:Palác knih Luxor\, Václavské náměstí 820/41\, Praha 1\, 11000\, Česká republika
ORGANIZER;CN="Luxor":MAILTO:info@luxor.cz
END:VEVENT
BEGIN:VEVENT
DTSTART;TZID=Europe/Prague:20180124T170000
DTEND;TZID=Europe/Prague:20180124T170000
DTSTAMP:20260423T181113
CREATED:20190831T152024Z
LAST-MODIFIED:20190831T152025Z
UID:1640-1516813200-1516813200@www.luxor.cz
SUMMARY:Autogramiáda knihy Hejno bílých vran
DESCRIPTION:Kniha obsahuje deset příběhů lidí\, kteří prošli výchovou v dětském domově a následně ve svém životě uspěli. Neznamená to\, že jsou celebritami\, ale že žijí normální život… Naučili se zdravě hospodařit\, mají práci\, rodinu a plní si postupně své sny o spokojeném životě. Jsou to věci\, které společnost bere jako samozřejmé\, ale pro ně to mnohdy znamenalo jít dlouze proti proudu. Proto rozhovory mnohdy nahánějí husí kůži. \nKniha je autentická\, osobní\, citlivě podaná\, protože všichni autoři k ní přistupovali tak\, aby tyto vlastnosti zachovali. Pro čtenáře bude jistě velkou inspirací a důvodem k zamyšlení. Jednou z ambicí vydavatele je pomoci překonávat předsudky veřejnosti vůči dětem z dětských domovů.
URL:https://www.luxor.cz/blog/akce/autogramiada-knihy-hejno-bilych-vran--1052/
LOCATION:Palác knih Luxor\, Václavské náměstí 820/41\, Praha 1\, 11000\, Česká republika
ORGANIZER;CN="Luxor":MAILTO:info@luxor.cz
END:VEVENT
END:VCALENDAR