BEGIN:VCALENDAR
VERSION:2.0
PRODID:-//Blog knihkupectví Luxor - ECPv6.15.20//NONSGML v1.0//EN
CALSCALE:GREGORIAN
METHOD:PUBLISH
X-ORIGINAL-URL:https://www.luxor.cz/blog
X-WR-CALDESC:Akce na Blog knihkupectví Luxor
REFRESH-INTERVAL;VALUE=DURATION:PT1H
X-Robots-Tag:noindex
X-PUBLISHED-TTL:PT1H
BEGIN:VTIMEZONE
TZID:Europe/Prague
BEGIN:DAYLIGHT
TZOFFSETFROM:+0100
TZOFFSETTO:+0200
TZNAME:CEST
DTSTART:20160327T010000
END:DAYLIGHT
BEGIN:STANDARD
TZOFFSETFROM:+0200
TZOFFSETTO:+0100
TZNAME:CET
DTSTART:20161030T010000
END:STANDARD
BEGIN:DAYLIGHT
TZOFFSETFROM:+0100
TZOFFSETTO:+0200
TZNAME:CEST
DTSTART:20170326T010000
END:DAYLIGHT
BEGIN:STANDARD
TZOFFSETFROM:+0200
TZOFFSETTO:+0100
TZNAME:CET
DTSTART:20171029T010000
END:STANDARD
BEGIN:DAYLIGHT
TZOFFSETFROM:+0100
TZOFFSETTO:+0200
TZNAME:CEST
DTSTART:20180325T010000
END:DAYLIGHT
BEGIN:STANDARD
TZOFFSETFROM:+0200
TZOFFSETTO:+0100
TZNAME:CET
DTSTART:20181028T010000
END:STANDARD
END:VTIMEZONE
BEGIN:VEVENT
DTSTART;TZID=Europe/Prague:20171201T160000
DTEND;TZID=Europe/Prague:20171201T160000
DTSTAMP:20260423T193831
CREATED:20190831T152013Z
LAST-MODIFIED:20190831T152014Z
UID:1611-1512144000-1512144000@www.luxor.cz
SUMMARY:Křest knihy Kosmonauti NULA
DESCRIPTION:
URL:https://www.luxor.cz/blog/akce/krest-knihy-kosmonauti-nula--1035/
LOCATION:Palác knih Luxor\, Václavské náměstí 820/41\, Praha 1\, 11000\, Česká republika
ORGANIZER;CN="Luxor":MAILTO:info@luxor.cz
END:VEVENT
BEGIN:VEVENT
DTSTART;TZID=Europe/Prague:20171204T160000
DTEND;TZID=Europe/Prague:20171204T160000
DTSTAMP:20260423T193831
CREATED:20190831T152020Z
LAST-MODIFIED:20190831T152021Z
UID:1627-1512403200-1512403200@www.luxor.cz
SUMMARY:Autogramiáda Petra Síse a křest knihy Robinson
DESCRIPTION:Petr Sís ve své nejnovější knize pro malé děti proplétá legendární příběh Robinsona Crusoe se zážitkem z vlastního dětství. Po jednom školním maškarním bálu se hrdina ocitne na pustém tropickém ostrově\, který se stane jeho novým domovem. Uprostřed exotické přírody se učí\, jak nalézt potravu\, postavit si přístřešek a obstarat vše potřebné k životu. Autor vytvořil poetickou a barvitou poctu klasickým dobrodružným románům i osvobozené barvě evropského fauvismu. Nádherně ilustrovaný příběh objevuje skutečnou hodnotu soběstačnosti\, samoty a přátelství. „Dodnes jsem naplněn nadějí\, kdykoli zahlédnu obrázek Robinsona\, jak hledá cestu na osamělém pobřeží…“
URL:https://www.luxor.cz/blog/akce/autogramiada-petra-sise-a-krest-knihy-robinson--1042/
LOCATION:Palác knih Luxor\, Václavské náměstí 820/41\, Praha 1\, 11000\, Česká republika
ORGANIZER;CN="Luxor":MAILTO:info@luxor.cz
END:VEVENT
BEGIN:VEVENT
DTSTART;TZID=Europe/Prague:20171204T180000
DTEND;TZID=Europe/Prague:20171204T180000
DTSTAMP:20260423T193831
CREATED:20190831T152017Z
LAST-MODIFIED:20190831T152018Z
UID:1621-1512410400-1512410400@www.luxor.cz
SUMMARY:Autogramiáda a beseda Ferdinanda Lefflera\, autora knihy Žijte ve své zahradě
DESCRIPTION:Hledáte inspiraci pro svou novou zahradu\, nebo chcete něco udělat s tou stávající? Anebo se chcete prostě jen zasnít a nechat se unášet krásou zahradních scenerií? Tato velkoryse vypravená publikace přináší svěží a veskrze současný pohled na zahradu jako na přátelské místo\, kde se vám bude dobře žít a kde budete trávit příjemné chvíle se svými blízkými. Na pečlivě vybraných snímcích špičkových fotografů se podařilo zachytit nejen ten nejkvalitnější design\, ale i podmanivou atmosféru\, jemnou krásu a genia loci mnoha kouzelných zahradních zákoutí. Kniha vás provede od prvotních úvah a plánování přes ukázky realizovaných zahrad až k praktickým radám a tipům. Průvodcem na cestě k vysněné zahradě\, která vašemu životu dodá nový rozměr\, je Ferdinand Leffler\, úspěšný a známý zahradní architekt\, autor mnoha oceněných projektů a realizací v České republice i v zahraničí\, tvář televizního pořadu Ferdinandovy zahrady a majitel ateliéru Flera
URL:https://www.luxor.cz/blog/akce/krest-knihy-ferdinanda-lefflera-zijte-ve-sve-zahrade--1041/
LOCATION:Palác knih Luxor\, Václavské náměstí 820/41\, Praha 1\, 11000\, Česká republika
ORGANIZER;CN="Luxor":MAILTO:info@luxor.cz
END:VEVENT
BEGIN:VEVENT
DTSTART;TZID=Europe/Prague:20171205T170000
DTEND;TZID=Europe/Prague:20171205T170000
DTSTAMP:20260423T193831
CREATED:20190831T152013Z
LAST-MODIFIED:20190831T152014Z
UID:1610-1512493200-1512493200@www.luxor.cz
SUMMARY:Křest a autogramiáda knihy Purpurové doteky
DESCRIPTION:
URL:https://www.luxor.cz/blog/akce/krest-a-autogramiada-knihy-purpurove-doteky--1034/
LOCATION:Palác knih Luxor\, Václavské náměstí 820/41\, Praha 1\, 11000\, Česká republika
ORGANIZER;CN="Luxor":MAILTO:info@luxor.cz
END:VEVENT
BEGIN:VEVENT
DTSTART;TZID=Europe/Prague:20171205T210000
DTEND;TZID=Europe/Prague:20171205T210000
DTSTAMP:20260423T193831
CREATED:20190831T152013Z
LAST-MODIFIED:20190831T152014Z
UID:1608-1512507600-1512507600@www.luxor.cz
SUMMARY:Autogramiáda Jeffa Kinneyho - autora Poseroutky
DESCRIPTION:
URL:https://www.luxor.cz/blog/akce/autogramiada-jeffa-kinneyho-autora-poserousty--1032/
LOCATION:Palác knih Luxor\, Václavské náměstí 820/41\, Praha 1\, 11000\, Česká republika
ORGANIZER;CN="Luxor":MAILTO:info@luxor.cz
END:VEVENT
BEGIN:VEVENT
DTSTART;TZID=Europe/Prague:20171206T160000
DTEND;TZID=Europe/Prague:20171206T160000
DTSTAMP:20260423T193831
CREATED:20190831T152016Z
LAST-MODIFIED:20190831T152018Z
UID:1617-1512576000-1512576000@www.luxor.cz
SUMMARY:Autogramiáda tvůrce Čtyřlístku Jaroslava Němečka
DESCRIPTION:
URL:https://www.luxor.cz/blog/akce/autogramiada-tvurce-ctyrlistku-jaroslava-nemecka--1037/
LOCATION:Palác knih Luxor\, Václavské náměstí 820/41\, Praha 1\, 11000\, Česká republika
ORGANIZER;CN="Luxor":MAILTO:info@luxor.cz
END:VEVENT
BEGIN:VEVENT
DTSTART;TZID=Europe/Prague:20171206T180000
DTEND;TZID=Europe/Prague:20171206T180000
DTSTAMP:20260423T193831
CREATED:20190831T152016Z
LAST-MODIFIED:20190831T152018Z
UID:1618-1512583200-1512583200@www.luxor.cz
SUMMARY:Křest knihy Marie Terezie - Miluj a panuj
DESCRIPTION:Kniha mapuje životní osudy Marie Terezie\, jedné z nejvýznamnějších postav novodobé Evropy\, jež po více než 40 let úspěšně vládla říši rozkládající se na území dnešních 12 evropských států. Příběh začíná v roce 1723 korunovací Karla VI. českým králem. Od této chvíle se rozvíjí láska mezi Marií Terezií a Štěpánem Lotrinským\, kteří se navzdory politickým machinacím nakonec spojí v plodném manželském svazku\, ze kterého vzejde 16 dětí. Kniha ovšem zachycuje i Mariino nastoupení vladařské cesty a spletité politické zákulisí na císařském dvoře. Souběžně s knihou vznikl dvoudílný televizní film.
URL:https://www.luxor.cz/blog/akce/krest-knihy-marie-terezie-miluj-a-panuj--1038/
LOCATION:Palác knih Luxor\, Václavské náměstí 820/41\, Praha 1\, 11000\, Česká republika
ORGANIZER;CN="Luxor":MAILTO:info@luxor.cz
END:VEVENT
BEGIN:VEVENT
DTSTART;TZID=Europe/Prague:20171207T170000
DTEND;TZID=Europe/Prague:20171207T170000
DTSTAMP:20260423T193831
CREATED:20190831T152020Z
LAST-MODIFIED:20190831T152021Z
UID:1628-1512666000-1512666000@www.luxor.cz
SUMMARY:Křest knihy Muka v ráji
DESCRIPTION:Velmi napínavý skutečný příběh dvojice jachtařů. Více jak dvacet let se Henrike a Stefan toulali světem na své plachetnici. Navštívili místa\, která se po právu nazývají ráje na zemi. Skrápěla je tríšt světových oceánů\, čelili větru světových moří. Dvacet let žili svůj sen. Ale ten sen jednoho dne roku 2014 skončil. U Filipín byli zajati islámskými teroristy a 6 měsíců drženi v zajetí a mučeni. Byla jsem přesvědčená\, že umřeme. Neviděla jsem už jinou cestu. Ale i přes tu všechnu hrůzu a utrpení jsem si říkala: Měli jsme v živote štěstí. Měli jsme jeden druhého a viděli jsme ta nejkrásnější místa na planetě. Únosci nás rozdělili. Když mě odváděli od Stefana\, tušila jsem to nejhorší. Ne náhodou. Řekli mi: „Nechceme\, abys viděla\, co s ním uděláme.“ To mohlo znamenat jediné: chtěli ho zabít. A já jsem se neměla stát svědkyní jejich ukrutného činu. Nezabili ho\, ale mučili ho. Vrátil se naprosto duchem nepřítomný a v hrozném fyzickém stavu. Čeho tím chtěli dosáhnout? Jistě\, jde o výkupné. To někdo musí zaplatit – my nemůžeme. Ale když výkupné nedostanou\, jsme pro ně bezcenní jako špína pod nohama. Zřejmě ještě stále probíhají jednání\, o kterých nic nevíme. Jinak by Stefana zabili. A mne taky. Ale my ještě žijeme…
URL:https://www.luxor.cz/blog/akce/krest-knihy-muka-v-raji--1043/
LOCATION:Palác knih Luxor\, Václavské náměstí 820/41\, Praha 1\, 11000\, Česká republika
ORGANIZER;CN="Luxor":MAILTO:info@luxor.cz
END:VEVENT
BEGIN:VEVENT
DTSTART;TZID=Europe/Prague:20171208T150000
DTEND;TZID=Europe/Prague:20171208T150000
DTSTAMP:20260423T193831
CREATED:20190831T152017Z
LAST-MODIFIED:20190831T152018Z
UID:1620-1512745200-1512745200@www.luxor.cz
SUMMARY:Autogramiáda Laca Decziho a knihy Totálně vytroubený mozek
DESCRIPTION:Životní rozhovor s legendárním jazzovým trumpetistou  \nLaco Déczi je sprosťák\, hulvát a křikloun\, říká novinář Tomáš Poláček\, autor knižního rozhovoru Totálně vytroubený mozek. Slavný trumpetista pozval Poláčka do amerického Connecticutu\, kde posledních třicet let žije. Lovili mušle v oceánu\, vysedávali u ohně\, poslouchali jazz\, a během jejich rozhovoru se Laco Déczi otevřel. Odhodil masku burana\, říká Poláček\, a já poznal svobodnou\, něžnou a hravou duši. A taková je i kniha – sprostá\, politicky nekorektní\, hravá a něžná.
URL:https://www.luxor.cz/blog/akce/autogramiada-laca-decziho-a-knihy-totalne-vytroubeny-mozek--1040/
LOCATION:Palác knih Luxor\, Václavské náměstí 820/41\, Praha 1\, 11000\, Česká republika
ORGANIZER;CN="Luxor":MAILTO:info@luxor.cz
END:VEVENT
BEGIN:VEVENT
DTSTART;TZID=Europe/Prague:20171208T170000
DTEND;TZID=Europe/Prague:20171208T170000
DTSTAMP:20260423T193831
CREATED:20190831T152013Z
LAST-MODIFIED:20190831T152014Z
UID:1609-1512752400-1512752400@www.luxor.cz
SUMMARY:Autogramiáda Roberta Bryndzy a křest novinky Temné hlubiny
DESCRIPTION:
URL:https://www.luxor.cz/blog/akce/autogramiada-roberta-bryndzy-a-krest-novinky-temne-hlubiny--1033/
LOCATION:Palác knih Luxor\, Václavské náměstí 820/41\, Praha 1\, 11000\, Česká republika
ORGANIZER;CN="Luxor":MAILTO:info@luxor.cz
END:VEVENT
BEGIN:VEVENT
DTSTART;TZID=Europe/Prague:20171211T160000
DTEND;TZID=Europe/Prague:20171211T160000
DTSTAMP:20260423T193831
CREATED:20190831T152020Z
LAST-MODIFIED:20190831T152021Z
UID:1630-1513008000-1513008000@www.luxor.cz
SUMMARY:Křest a autogramiáda Továrny na debilno Dominika Landsmana & TMBK
DESCRIPTION:Továrna na debilno \nNejtřaskavější společensko-politická satira od dob Švejka od\nautora deníčků moderního fotra a kolážového mága TMBK. Továrna na debilno\nvytvořila rekord na největším českém crowdfundingovém portálu Hit Hit\, kdy se\njí podařilo vybrat téměř 900 000 Kč\, přičemž na vydání knihy přispělo přes 2000\nlidí.
URL:https://www.luxor.cz/blog/akce/krest-a-autogramiada-tovarny-na-debilno-dominika-landsmana-tmbk/
LOCATION:Palác knih Luxor\, Václavské náměstí 820/41\, Praha 1\, 11000\, Česká republika
ORGANIZER;CN="Luxor":MAILTO:info@luxor.cz
END:VEVENT
BEGIN:VEVENT
DTSTART;TZID=Europe/Prague:20171211T180000
DTEND;TZID=Europe/Prague:20171211T180000
DTSTAMP:20260423T193831
CREATED:20190831T152020Z
LAST-MODIFIED:20190831T152021Z
UID:1629-1513015200-1513015200@www.luxor.cz
SUMMARY:Autogramiáda Dary Rolins a jejího diáře pro rok 2018
DESCRIPTION:Rok podle Dary 2018 – diář\n28 stran fotografií ze soukromí\, 25 stran textu – zamyšlení\, rady\, postřehy a 11 oblíbených receptů. Dařiny tipy na zdravý životní styl. Dostatek místa na vlastní poznámky\, recepty a nápady. Horizontílní týdenní kalendárium. Papírová kapsa na vizitky. Uzavírání na gumičku a jako bonus – nepostradatelné zrcátko a sada motivačních samolepek.
URL:https://www.luxor.cz/blog/akce/autogramiada-dary-rolins-a-jejiho-diare-pro-rok-2018--1044/
LOCATION:Palác knih Luxor\, Václavské náměstí 820/41\, Praha 1\, 11000\, Česká republika
ORGANIZER;CN="Luxor":MAILTO:info@luxor.cz
END:VEVENT
BEGIN:VEVENT
DTSTART;TZID=Europe/Prague:20171214T130000
DTEND;TZID=Europe/Prague:20171214T130000
DTSTAMP:20260423T193831
CREATED:20190831T152020Z
LAST-MODIFIED:20190831T152021Z
UID:1631-1513256400-1513256400@www.luxor.cz
SUMMARY:Křest a autogramiáda V síti 2 Ivana Langera
DESCRIPTION:Kniha Ivana Langera V síti je promyšlenou mozaikou postřehů a provokativních šlehů\, jimiž bývalý ministr vnitra a někdejší místopředseda ODS komentuje veřejné dění. Originální sbírka facebookových statusů a hlášek se věnuje domácí politice\, pobrexitovému vření v EU či postojům státníků k migrační krizi. Kritickými poznámkami Ivan Langer častuje i některá tuzemská média a jejich vlastníky. Text je proložen řadou odkazů na novinové články a zpravodajské spoty\, které knihu oživujícím způsobem usazují do časového a věcného kontextu. Autor znovu veřejně přiznává své výtvarné sklony – publikaci vybavil vlastními kresbami. V síti je určena lidem\, kteří na veřejné dění rádi nahlížejí z různých úhlů.
URL:https://www.luxor.cz/blog/akce/krest-a-autogramiada-v-siti-2-ivana-langera--1047/
LOCATION:Palác knih Luxor\, Václavské náměstí 820/41\, Praha 1\, 11000\, Česká republika
ORGANIZER;CN="Luxor":MAILTO:info@luxor.cz
END:VEVENT
BEGIN:VEVENT
DTSTART;TZID=Europe/Prague:20171224T134200
DTEND;TZID=Europe/Prague:20171224T134200
DTSTAMP:20260423T193831
CREATED:20190831T152023Z
LAST-MODIFIED:20190831T152025Z
UID:1637-1514122920-1514122920@www.luxor.cz
SUMMARY:Přijď si pro 250 Kč
DESCRIPTION:Přemýšlíte\, kam vyrazit pro knižní dárky? Vyrazte k nám\, do Luxoru! Od 11. 12. do 24. 12. probíhá totiž v knihkupectvích Luxor v Praze\, Plzni\, Hradci\, Liberci a na Kladně akce „Přijď si pro 250 Kč. \nPři nákupu nad 250 Kč od nás dostanete poukázku v hodnotě 250 Kč na nákup potravin u Košík.cz. Poukázka na Košík.cz lze poté uplatnit při nákupu nad 1250 Kč. \nŠtědrý den tak budete mít vyřešený! Dárky pod stromeček obstaráte u nás a jídlo na sváteční večeři vám Košík.cz přiveze až domů! \nDopřejte si Vánoce v klidu a pohodě. My vám s tím pomůžeme!
URL:https://www.luxor.cz/blog/akce/prijd-si-pro-250-kc--1048/
LOCATION:Knihkupectví Nový Smíchov\, OC Nový Smíchov\, Praha 5\, 15000\, Česká republika
ORGANIZER;CN="Luxor":MAILTO:info@luxor.cz
END:VEVENT
BEGIN:VEVENT
DTSTART;TZID=Europe/Prague:20171231T085200
DTEND;TZID=Europe/Prague:20171231T085200
DTSTAMP:20260423T193831
CREATED:20190831T151748Z
LAST-MODIFIED:20190831T151748Z
UID:1225-1514710320-1514710320@www.luxor.cz
SUMMARY:Každá pátá káva zdarma
DESCRIPTION:Když si z našeho nápojového lístku vyberete občerstvení v hodnotě alespoň 150 Kč a součástí objednávky bude minimálně jedna káva\, dostanete od nás kartičku\, díky které budete mít každou 5. kávu zdarma. Akce platí pouze na nealkoholické kávy\, lze ji uplatnit v kavárně v Paláci knih Luxor a platí do konce roku 2017.
URL:https://www.luxor.cz/blog/akce/kazda-pata-kava-zdarma--776/
LOCATION:Palác knih Luxor\, Václavské náměstí 820/41\, Praha 1\, 11000\, Česká republika
ORGANIZER;CN="Luxor":MAILTO:info@luxor.cz
END:VEVENT
END:VCALENDAR