BEGIN:VCALENDAR
VERSION:2.0
PRODID:-//Blog knihkupectví Luxor - ECPv6.15.20//NONSGML v1.0//EN
CALSCALE:GREGORIAN
METHOD:PUBLISH
X-WR-CALNAME:Blog knihkupectví Luxor
X-ORIGINAL-URL:https://www.luxor.cz/blog
X-WR-CALDESC:Akce na Blog knihkupectví Luxor
REFRESH-INTERVAL;VALUE=DURATION:PT1H
X-Robots-Tag:noindex
X-PUBLISHED-TTL:PT1H
BEGIN:VTIMEZONE
TZID:Europe/Prague
BEGIN:DAYLIGHT
TZOFFSETFROM:+0100
TZOFFSETTO:+0200
TZNAME:CEST
DTSTART:20160327T010000
END:DAYLIGHT
BEGIN:STANDARD
TZOFFSETFROM:+0200
TZOFFSETTO:+0100
TZNAME:CET
DTSTART:20161030T010000
END:STANDARD
BEGIN:DAYLIGHT
TZOFFSETFROM:+0100
TZOFFSETTO:+0200
TZNAME:CEST
DTSTART:20170326T010000
END:DAYLIGHT
BEGIN:STANDARD
TZOFFSETFROM:+0200
TZOFFSETTO:+0100
TZNAME:CET
DTSTART:20171029T010000
END:STANDARD
BEGIN:DAYLIGHT
TZOFFSETFROM:+0100
TZOFFSETTO:+0200
TZNAME:CEST
DTSTART:20180325T010000
END:DAYLIGHT
BEGIN:STANDARD
TZOFFSETFROM:+0200
TZOFFSETTO:+0100
TZNAME:CET
DTSTART:20181028T010000
END:STANDARD
END:VTIMEZONE
BEGIN:VEVENT
DTSTART;TZID=Europe/Prague:20170719T170000
DTEND;TZID=Europe/Prague:20170719T170000
DTSTAMP:20260424T021909
CREATED:20190831T151905Z
LAST-MODIFIED:20190831T151906Z
UID:1419-1500483600-1500483600@www.luxor.cz
SUMMARY:Autorské čtení Rock History
DESCRIPTION:Přijďte si užít hezké kulturní odpoledne do Paláce knih Luxor. Ve středu 19. července tu od 17:00 proběhne autorské čtení z Rock History. Na programu je i ochutnávka vína z Mělnického Vinařství Vondrák vína a doprovodné hraní na kytaru.
URL:https://www.luxor.cz/blog/akce/autorske-cteni-rock-history--930/
LOCATION:Palác knih Luxor\, Václavské náměstí 820/41\, Praha 1\, 11000\, Česká republika
ORGANIZER;CN="Luxor":MAILTO:info@luxor.cz
END:VEVENT
BEGIN:VEVENT
DTSTART;TZID=Europe/Prague:20170731T101200
DTEND;TZID=Europe/Prague:20170731T101200
DTSTAMP:20260424T021909
CREATED:20190831T151902Z
LAST-MODIFIED:20190831T151903Z
UID:1410-1501495920-1501495920@www.luxor.cz
SUMMARY:Sleva 30 % na Dino Toys
DESCRIPTION:Léto\, voda\, pláž a hry neodmyslitelně patří k sobě. Chystáte se s přáteli/rodinou na cesty či budete lenošit na zahradě v trávě? V tom případě se vám určitě bude hodit pořádná zábava. Využijte proto naší speciální akci 30% slevy na společenské cestovní hry: Zápalky\, Uzly\, Gummy Twist a Rébusy. \n \n\nakce platí v kamenných obchodech\nsleva se nesčítá s dalšími\nnelze využít na nákup dárkových poukázek\nneplatí na pokladnách KK\nplatí do 31. 7. nebo do vydání zásob
URL:https://www.luxor.cz/blog/akce/sleva-30-na-dino-toys--926/
ORGANIZER;CN="Luxor":MAILTO:info@luxor.cz
END:VEVENT
BEGIN:VEVENT
DTSTART;TZID=Europe/Prague:20170731T154900
DTEND;TZID=Europe/Prague:20170731T154900
DTSTAMP:20260424T021909
CREATED:20190831T151902Z
LAST-MODIFIED:20190831T151903Z
UID:1411-1501516140-1501516140@www.luxor.cz
SUMMARY:Výlety po Čechách 1+1
DESCRIPTION:V měsíci červenci proběhne ve spolupráci s Euromedií akce Výlety po Čechách – 1+1 zdarma. Při nákupu 2 knih obdržíte tu levnější zdarma. Pokud si vyberete více knih v sudém počtu\, každou druhou (levnější) budete mít zdarma.  \n\nsleva se nesčítá s ostatními\nakce platí také na pokladnách Knižního klubu\nplatí do 31. července nebo do vyprodání zásob
URL:https://www.luxor.cz/blog/akce/vylety-po-cechach-1--927/
ORGANIZER;CN="Luxor":MAILTO:info@luxor.cz
END:VEVENT
END:VCALENDAR