BEGIN:VCALENDAR
VERSION:2.0
PRODID:-//Blog knihkupectví Luxor - ECPv6.15.20//NONSGML v1.0//EN
CALSCALE:GREGORIAN
METHOD:PUBLISH
X-ORIGINAL-URL:https://www.luxor.cz/blog
X-WR-CALDESC:Akce na Blog knihkupectví Luxor
REFRESH-INTERVAL;VALUE=DURATION:PT1H
X-Robots-Tag:noindex
X-PUBLISHED-TTL:PT1H
BEGIN:VTIMEZONE
TZID:Europe/Prague
BEGIN:DAYLIGHT
TZOFFSETFROM:+0100
TZOFFSETTO:+0200
TZNAME:CEST
DTSTART:20160327T010000
END:DAYLIGHT
BEGIN:STANDARD
TZOFFSETFROM:+0200
TZOFFSETTO:+0100
TZNAME:CET
DTSTART:20161030T010000
END:STANDARD
BEGIN:DAYLIGHT
TZOFFSETFROM:+0100
TZOFFSETTO:+0200
TZNAME:CEST
DTSTART:20170326T010000
END:DAYLIGHT
BEGIN:STANDARD
TZOFFSETFROM:+0200
TZOFFSETTO:+0100
TZNAME:CET
DTSTART:20171029T010000
END:STANDARD
BEGIN:DAYLIGHT
TZOFFSETFROM:+0100
TZOFFSETTO:+0200
TZNAME:CEST
DTSTART:20180325T010000
END:DAYLIGHT
BEGIN:STANDARD
TZOFFSETFROM:+0200
TZOFFSETTO:+0100
TZNAME:CET
DTSTART:20181028T010000
END:STANDARD
END:VTIMEZONE
BEGIN:VEVENT
DTSTART;TZID=Europe/Prague:20170503T130000
DTEND;TZID=Europe/Prague:20170503T130000
DTSTAMP:20260424T052448
CREATED:20190831T151843Z
LAST-MODIFIED:20190831T151845Z
UID:1362-1493816400-1493816400@www.luxor.cz
SUMMARY:Prezentace knihy Extrémní sport ve starobním důchodu
DESCRIPTION:Tato kniha podněcuje k dosažení zdravého\, výkonného a šťastného stáří. Shrnuje životní příběhy sportujících veteránů\, například 90letého maratonce\, 76letého běžkaře\, jenž stál na startu všech padesáti Jizerských padesátek\, 82letého vytrvalostního běžce\, který předbíhá v Běchovicích soupeře o desítky let mladší\, 68letého cyklisty\, jenž vyniká na Králi Šumavy i Author Cupu\, 78leté otužilecké a vytrvalostní plavkyně\, 66leté běžkařky s titulem Tvář Jizerské padesátky\, která se na start postavila poprvné v 53 letech\, a 70letého ironmana\, jehož výkony doma i v zahraničí berou dech. \nHosté: nejstarší český maratonec Jiří Soukup (90)\, vytrvalostní běžec Vítězslav Jantsch (82)\, padesátinásobný účastník Jizerské padesátky Ladislav Míka (76)\, ironman Miloslav Bayer (70)\, cyklista Radek Šrot (68)\, vytrvalostní plavkyně BlankaVyskočilová (78)\, běžkyně na lyžích Květa Fryčová (66) a d
URL:https://www.luxor.cz/blog/akce/prezentace-knihy-extremni-sport-ve-starobnim-duchodu--894/
LOCATION:Palác knih Luxor\, Václavské náměstí 820/41\, Praha 1\, 11000\, Česká republika
ORGANIZER;CN="Luxor":MAILTO:info@luxor.cz
END:VEVENT
BEGIN:VEVENT
DTSTART;TZID=Europe/Prague:20170504T170000
DTEND;TZID=Europe/Prague:20170504T170000
DTSTAMP:20260424T052448
CREATED:20190831T151843Z
LAST-MODIFIED:20190831T151845Z
UID:1363-1493917200-1493917200@www.luxor.cz
SUMMARY:Křest knihy Mileny Štráfeldové
DESCRIPTION:ŽivotJeronýma Pražského – jak jeho jméno napovídá – je spjato se Starým Městem\, kde\nse narodil a prožil dětství. Později se během studií na Karlově učení stává\npřítelem Jana Husa a seznamuje se s myšlenkami anglického reformisty Jana\nViklefa\, které jej strhnou natolik\, že se vypraví studovat na Oxfordskou\nuniverzitu. Hned po návratu z Anglie se tento nestálý duch rozhodne\npodniknout další výpravu – tentokrát až do samotné Svaté země a města\nJeruzaléma. Exotickou cestu doprovází řada dobrodružství\, ale ani po návratu\nz ní Jeronýma nic neudrží v Praze\, dokonce ani dávná láska z dětství.\nSbírá mistrovské tituly na univerzitách v Paříži\, Kolíně nad Rýnem a\nHeidelbergu\, vydává se do Uher\, k sousedům do Polska či k pravoslavným\nRuthenům. A jako čtenáři prožíváme s Jeronýmem i jeho cestu poslední\, na\nkostnický koncil.
URL:https://www.luxor.cz/blog/akce/krest-knihy-mileny-strafeldovej--895/
LOCATION:Palác knih Luxor\, Václavské náměstí 820/41\, Praha 1\, 11000\, Česká republika
ORGANIZER;CN="Luxor":MAILTO:info@luxor.cz
END:VEVENT
BEGIN:VEVENT
DTSTART;TZID=Europe/Prague:20170509T170000
DTEND;TZID=Europe/Prague:20170509T170000
DTSTAMP:20260424T052448
CREATED:20190831T151844Z
LAST-MODIFIED:20190831T151845Z
UID:1364-1494349200-1494349200@www.luxor.cz
SUMMARY:Křest knihy herečky Zdenky Procházkové
DESCRIPTION:Česká herečka\, která v minulém roce oslavila životní jubileum\, se zamýšlí nad svým zajímavým životem\, nad tím\, jak se v jeho průběhu změnil svět\, přístup k lásce\, k přátelství\, jak se změnily vztahy mezi ženami a muži. Kniha je unikátní tím\, že v ní porovnává své zkušenosti devadesátiletá herečka s pohledem na svět své mladé\, pětadvacetileté přítelkyně.
URL:https://www.luxor.cz/blog/akce/krest-knihy-herecky-zdenky-prochazkove--896/
LOCATION:Palác knih Luxor\, Václavské náměstí 820/41\, Praha 1\, 11000\, Česká republika
ORGANIZER;CN="Luxor":MAILTO:info@luxor.cz
END:VEVENT
BEGIN:VEVENT
DTSTART;TZID=Europe/Prague:20170510T170000
DTEND;TZID=Europe/Prague:20170510T170000
DTSTAMP:20260424T052448
CREATED:20190831T151844Z
LAST-MODIFIED:20190831T151845Z
UID:1365-1494435600-1494435600@www.luxor.cz
SUMMARY:Prezentace knihy Miroslava Singera
DESCRIPTION:Tato kniha přišla na svět během autorovy „postguvernérské velké dovolené“ a připomíná důležité události i významné osobnosti ekonomického\, politického a společenského světa posledních třiceti let. Nabízí mimo jiné guvernérův pohled na tři české prezidenty\, většinu polistopadových premiérů či hvězdy světového i domácího bankovního nebe. Vedle toho Miroslav Singer píše otevřeně o svém soukromí: o oblíbené hudbě\, vztahu k vínu nebo o tom\, jak se pere s nadváhou. Ve zvláštní kapitole vysvětluje\, proč centrální banka pod jeho vedením přistoupila k oslabení národní měny.
URL:https://www.luxor.cz/blog/akce/prezentace-knihy-miroslava-singera--897/
LOCATION:Palác knih Luxor\, Václavské náměstí 820/41\, Praha 1\, 11000\, Česká republika
ORGANIZER;CN="Luxor":MAILTO:info@luxor.cz
END:VEVENT
BEGIN:VEVENT
DTSTART;TZID=Europe/Prague:20170517T170000
DTEND;TZID=Europe/Prague:20170517T170000
DTSTAMP:20260424T052448
CREATED:20190831T151844Z
LAST-MODIFIED:20190831T151845Z
UID:1366-1495040400-1495040400@www.luxor.cz
SUMMARY:Křest životopisné knihy Ludmily Vaňkové
DESCRIPTION:Vlastní životopis Ludmily Vaňkové začíná jako román o dětském ráji. Její otec byl ředitel několika finančních ústavů a později člen nejužšího vedení České národní banky. V jeho bohaté knihovně se záhy seznamovala s literaturou a historií a v jejích dětských snech nechybělo přání zachytit literárně celou českou historii. Rodina žila v harmonii\, taťka pracovně vytížený si vždycky udělal čas na své dcery Blanku a Ludmilu. Mamka se starala o taťku\, o rodinu\, angažovala se v ženském hnutí\, dobře se znala s Miladou Horákovou a její osobní zálibou byla hudba\, hra na klavír. Obě dcery po ní zdědily hudební nadání\, Blanka se profesionálně věnovala zpěvu a Ludmila\, s matematickým talentem po otci\, tíhla k divadlu a literatuře. Pak ale přišel pád do propasti\, inferno\, taťka byl za heydrichiády popraven\, rodina zůstala bez živitele\, matka s dcerami se musela vystěhovat z Prahy do Řevnic. Hodně jim tehdy pomáhal Oldřich Pecl\, který byl v odboji stejně jako taťka a krutý osud na něj dopadl až v padesátých letech\, kdy byl popraven v procesu s Miladou Horákovou. Po válce studovala Ludmila Vaňková na Filozofické fakultě Univerzity Karlovy\, opět se setkala se zmizelou přítelkyní Hanou Proškovou\, mezi studenty měla řadu zahraničních přátel\, ale mohla se s nimi znovu vidět až po čtyřiceti letech. Rok 1948 pro ni znamenal vyloučení z vysoké školy a svůj doktorát dostala až po listopadu 89.
URL:https://www.luxor.cz/blog/akce/krest-zivotopisne-knihy-ludmily-vankove--898/
LOCATION:Palác knih Luxor\, Václavské náměstí 820/41\, Praha 1\, 11000\, Česká republika
ORGANIZER;CN="Luxor":MAILTO:info@luxor.cz
END:VEVENT
BEGIN:VEVENT
DTSTART;TZID=Europe/Prague:20170520T140000
DTEND;TZID=Europe/Prague:20170520T140000
DTSTAMP:20260424T052448
CREATED:20190831T151847Z
LAST-MODIFIED:20190831T151848Z
UID:1372-1495288800-1495288800@www.luxor.cz
SUMMARY:Autogramiáda Lorny Byrne
DESCRIPTION:Andělé nás nabádají\, abychom se každý den na chvíli zamysleli nad tím\, že jsme duchovní bytosti a naše myšlenky dávají životu tvar a barvu. Zastavme se s touto krásnou dárkovou knížkou plnou povzbuzujících slov a naslouchejme láskyplným radám nebeských pomocníků.
URL:https://www.luxor.cz/blog/akce/autogramiada-lorny-byrne-2/
LOCATION:Palác knih Luxor\, Václavské náměstí 820/41\, Praha 1\, 11000\, Česká republika
ORGANIZER;CN="Luxor":MAILTO:info@luxor.cz
END:VEVENT
BEGIN:VEVENT
DTSTART;TZID=Europe/Prague:20170524T170000
DTEND;TZID=Europe/Prague:20170524T170000
DTSTAMP:20260424T052448
CREATED:20190831T151840Z
LAST-MODIFIED:20190831T151842Z
UID:1356-1495645200-1495645200@www.luxor.cz
SUMMARY:Prezentace knihy Pavla Taussiga
DESCRIPTION:Pohnuté osudy a zapomenutá hrdinství známých i méně známých osobností! Žijí mezi námi a vždy žili – skuteční hrdinové\, na které se velmi brzy zapomnělo\, či zůstali dosud úplně neznámými. Je však též mnoho vpravdě překvapivých hrdinských příběhů ze života poměrně známých osobností. Existuje i nespočet příběhů opravdových hrdinů\, kteří stáli na okraji dějinných událostí\, ale zůstali téměř neznámými. 
URL:https://www.luxor.cz/blog/akce/prezentace-knihy-pavla-taussiga--893/
LOCATION:Palác knih Luxor\, Václavské náměstí 820/41\, Praha 1\, 11000\, Česká republika
ORGANIZER;CN="Luxor":MAILTO:info@luxor.cz
END:VEVENT
BEGIN:VEVENT
DTSTART;TZID=Europe/Prague:20170530T160000
DTEND;TZID=Europe/Prague:20170530T160000
DTSTAMP:20260424T052448
CREATED:20190831T151847Z
LAST-MODIFIED:20190831T151848Z
UID:1373-1496160000-1496160000@www.luxor.cz
SUMMARY:Křest knihy Václava Klause
DESCRIPTION:Nová kniha Václava Klause navazuje na jeho velmi úspěšnou „Modrou\, nikoli zelenou planetu“\, která vyšla česky v roce 2007 a dočkala se osmnácti cizojazyčných vydání. \nZa těch deset let Václav Klaus své přesvědčení\, že přes masivní manipulaci a propagandu údajného globálního oteplování není ohroženo klima\, ale naše svoboda\, nezměnil. Smyslem této jeho nové knihy není převyprávění knihy „staré“. Jde o originální autorův pokus podělit se s čtenáři o to\, co všechno se za uplynulých deset let ve světě na základě bezohledné indoktrinace lidí\, mládeže a zejména dětí ideology klimatického alarmismu změnilo a jaké škody byly napáchány. \nAutor se detailně věnuje nejen souboji klimatického alarmismu s myšlenkami lidské racionality a svobody ve sféře vědy\, ekonomiky\, politiky i vzdělání\, ale důsledky tohoto souboje posuzuje i v širších společenských souvislostech.
URL:https://www.luxor.cz/blog/akce/krest-knihy-vaclava-klause-2/
LOCATION:Palác knih Luxor\, Václavské náměstí 820/41\, Praha 1\, 11000\, Česká republika
ORGANIZER;CN="Luxor":MAILTO:info@luxor.cz
END:VEVENT
BEGIN:VEVENT
DTSTART;TZID=Europe/Prague:20170531T135800
DTEND;TZID=Europe/Prague:20170531T135800
DTSTAMP:20260424T052448
CREATED:20190831T151847Z
LAST-MODIFIED:20190831T151849Z
UID:1374-1496239080-1496239080@www.luxor.cz
SUMMARY:Květen měsíc z pera žen
DESCRIPTION:Akce probíhá po celý měsíc květen. Při nákupu 2 knih obdržíte tu levnějšízdarma. Pokud si vyberete více knih v sudém počtu\, každou druhou (levnější) budete mít\nzdarma.  \nSlevy se nesčítají – nelze kombinovat s jinými akcemi.  Akce platí v kamenným prodejnách a také na pokladnách Knižního\nklubu. 
URL:https://www.luxor.cz/blog/akce/kveten-mesic-z-pera-zen--901/
ORGANIZER;CN="Luxor":MAILTO:info@luxor.cz
END:VEVENT
BEGIN:VEVENT
DTSTART;TZID=Europe/Prague:20170531T170000
DTEND;TZID=Europe/Prague:20170531T170000
DTSTAMP:20260424T052448
CREATED:20190831T151855Z
LAST-MODIFIED:20190831T151855Z
UID:1393-1496250000-1496250000@www.luxor.cz
SUMMARY:Představené knihy Trio pro jednoho
DESCRIPTION:Vydavatelství Grada ve spolupráci s Národním divadlem vydalo knihuTrio pro jednoho\, která je věnována 15tiletému působení Petra\nZusky v čele Baletu Národního divadla. \nReprezentativní\, exkluzivní\, barevná publikace\, není souborem odborných\nstudií na téma „balet“\, ale naopak – vytváří plastický a zajímavý obraz\nvýjimečné osobnosti choreografa\, tanečníka i šéfa souboru Baletu ND Petra\nZusky\, k završení jeho 15tiletého působení v těchto rolích:  je to portrét svého druhu\, nejen profesní\,\nale i osobní. 
URL:https://www.luxor.cz/blog/akce/predstavene-knihy-trio-pro-jednoho--911/
LOCATION:Palác knih Luxor\, Václavské náměstí 820/41\, Praha 1\, 11000\, Česká republika
ORGANIZER;CN="Luxor":MAILTO:info@luxor.cz
END:VEVENT
END:VCALENDAR