BEGIN:VCALENDAR
VERSION:2.0
PRODID:-//Blog knihkupectví Luxor - ECPv6.15.20//NONSGML v1.0//EN
CALSCALE:GREGORIAN
METHOD:PUBLISH
X-ORIGINAL-URL:https://www.luxor.cz/blog
X-WR-CALDESC:Akce na Blog knihkupectví Luxor
REFRESH-INTERVAL;VALUE=DURATION:PT1H
X-Robots-Tag:noindex
X-PUBLISHED-TTL:PT1H
BEGIN:VTIMEZONE
TZID:Europe/Prague
BEGIN:DAYLIGHT
TZOFFSETFROM:+0100
TZOFFSETTO:+0200
TZNAME:CEST
DTSTART:20160327T010000
END:DAYLIGHT
BEGIN:STANDARD
TZOFFSETFROM:+0200
TZOFFSETTO:+0100
TZNAME:CET
DTSTART:20161030T010000
END:STANDARD
BEGIN:DAYLIGHT
TZOFFSETFROM:+0100
TZOFFSETTO:+0200
TZNAME:CEST
DTSTART:20170326T010000
END:DAYLIGHT
BEGIN:STANDARD
TZOFFSETFROM:+0200
TZOFFSETTO:+0100
TZNAME:CET
DTSTART:20171029T010000
END:STANDARD
BEGIN:DAYLIGHT
TZOFFSETFROM:+0100
TZOFFSETTO:+0200
TZNAME:CEST
DTSTART:20180325T010000
END:DAYLIGHT
BEGIN:STANDARD
TZOFFSETFROM:+0200
TZOFFSETTO:+0100
TZNAME:CET
DTSTART:20181028T010000
END:STANDARD
END:VTIMEZONE
BEGIN:VEVENT
DTSTART;TZID=Europe/Prague:20170404T170000
DTEND;TZID=Europe/Prague:20170404T170000
DTSTAMP:20260424T080817
CREATED:20190831T151833Z
LAST-MODIFIED:20190831T151834Z
UID:1333-1491325200-1491325200@www.luxor.cz
SUMMARY:Křest knihy Markéty Harasimové
DESCRIPTION:Violina minulost je opředena tajemstvím – její matka odmítá mluvit o rodině zemřelého otce. První střípky pravdy tak Viola nečekaně odhalí až\n ve chvíli\, kdy se jako dospělá ocitá na dramatické životní křižovatce.\nVýchodisko z těžké situace vidí v nečekané závěti svého dědečka\, o jehož\n existenci neměla ponětí. Do klína jí spadly vzácné vinohrady\, ale také\npolorozbořený vinný sklep. Třebaže o vinařském řemesle nic neví\,\nrozhodne se Viola z ruin vybudovat nové vinařství a navázat na rodinnou\ntradici. \n Střetne se s řadou překážek a předsudků\, nepřízní osudu i lidskou\nzákeřností. Zažívá žhavá erotická vzplanutí a poznává odvrácenou tvář\nlásky\, ale také skutečné přátelství. Na scéně se však objevuje\nchladnokrevný násilník zaměřený na mladé ženy a Viola se ocitá v jeho\nhledáčku. Jako mrazivé poselství ze záhrobí se jí navíc začíná zjevovat\nduch zesnulého dědy s tajemnými vzkazy\, které je potřeba rozluštit. Nad\nViolou se postupně stahují temné mraky a začíná jí hrozit smrtelné\nnebezpečí… \n Ponořte se do napínavého příběhu plného emocí\, dráždivé erotiky\, tajemna i nečekaných zvratů…
URL:https://www.luxor.cz/blog/akce/krest-knihy-markety-harasimove-2/
LOCATION:Palác knih Luxor\, Václavské náměstí 820/41\, Praha 1\, 11000\, Česká republika
ORGANIZER;CN="Luxor":MAILTO:info@luxor.cz
END:VEVENT
BEGIN:VEVENT
DTSTART;TZID=Europe/Prague:20170409T085800
DTEND;TZID=Europe/Prague:20170409T085800
DTSTAMP:20260424T080817
CREATED:20190831T151830Z
LAST-MODIFIED:20190831T151831Z
UID:1326-1491728280-1491728280@www.luxor.cz
SUMMARY:20% sleva na vše při nákupu nad 399 Kč
DESCRIPTION:Co máte udělat\, abyste měli nárok na tuto slevu? \nKód k této slevě získáte prostřednictvím aplikace O2 Extra výhody\, a nebo na webových stránkách http://www.o2extravyhody.cz/.  \nTato nabídka je součástí programu Extra výhody\, díky kterému můžete získat spoustu bonusů a zážitků u partnerů O2 po celé republice. Například slevy\, které nikdo jiný mít nebude (jako je ta u nás v Neoluxoru)\, speciální nabídky nebo atraktivní zážitky. \nTato naše mimořádná nabídka platí od 17. března 2017 do 9. dubna 2017 a věříme\, že si ji nenecháte ujít. Slevu lze čerpat 4 × po dobu platnosti nabídky. Neplatí na již zlevněné zboží a učebnice. Slevy platí pouze v kamenných prodejnách. Slevy nelze kombinovat navzájem s dalšími slevami. Slevy nelze uplatnit na pokladnách Knižního klubu.
URL:https://www.luxor.cz/blog/akce/20-sleva-na-vse-pri-nakupu-nad-399-kc-3/
ORGANIZER;CN="Luxor":MAILTO:info@luxor.cz
END:VEVENT
BEGIN:VEVENT
DTSTART;TZID=Europe/Prague:20170411T160000
DTEND;TZID=Europe/Prague:20170411T160000
DTSTAMP:20260424T080817
CREATED:20190831T151833Z
LAST-MODIFIED:20190831T151834Z
UID:1334-1491926400-1491926400@www.luxor.cz
SUMMARY:Křest nové knihy Čtyřlístku
DESCRIPTION:Reedice knížky\, která poprvé vyšla v malém formátu v roce 1990. Naši čtyři hrdinové se díky kouzelnéprůpovídce dostanou do pohádkové říše a prožijí tam různá dobrodružství.
URL:https://www.luxor.cz/blog/akce/krest-nove-knihy-ctyrlistku--881/
LOCATION:Palác knih Luxor\, Václavské náměstí 820/41\, Praha 1\, 11000\, Česká republika
ORGANIZER;CN="Luxor":MAILTO:info@luxor.cz
END:VEVENT
BEGIN:VEVENT
DTSTART;TZID=Europe/Prague:20170412T170000
DTEND;TZID=Europe/Prague:20170412T170000
DTSTAMP:20260424T080817
CREATED:20190831T151833Z
LAST-MODIFIED:20190831T151834Z
UID:1335-1492016400-1492016400@www.luxor.cz
SUMMARY:Prezentace knihy Zahradnictví
DESCRIPTION:„Vycházel jsem ze vzpomínek mých rodičůna moje prarodiče\, je to asi nejosobnější\nvěc\, na které jsem kdy pracoval\,“ říká\nscenárista a autor Petr Jarchovský o trilogii\nZahradnictví. Filmové i literární zpracování\nmůžeme vnímat jako pravdivý příběh\nkonkrétních lidí v převratné historické\ndobě mezi roky 1939 a 1959. Rodinná sága\npokrývající plochu dvaceti let je rozvržena\ndo tří samostatných\, nicméně propojených\nlinií: Rodinný přítel\, Dezertér a Nápadník.\nMezi aktéry snadno poznáme například\nodbojáře Jindřicha z kultovních Pelíšků\,\ntentokrát je však více v popředí ženský\nelement: tři sestry\, mezi nimi také autorova\nmatka. Tu sledujeme od jejího narození\na válečného dětství až po dospělost\, kdy se\nv padesátých letech stává hlavní hrdinkou\npříběhu Nápadník.\nStrhující příběhy plné nečekaných zvratů\nse odehrávají z velké části v rodinném\nzahradnictví v Jaroměři a v rovněž\nrodinném kadeřnickém salonu v Praze.\nVzdor svízelné době a krutým osudům\nprotagonistů nechybí osvědčený autorův\nhumor a zejména situační komika.
URL:https://www.luxor.cz/blog/akce/prezentace-knihy-zahradnictvi/
LOCATION:Palác knih Luxor\, Václavské náměstí 820/41\, Praha 1\, 11000\, Česká republika
ORGANIZER;CN="Luxor":MAILTO:info@luxor.cz
END:VEVENT
BEGIN:VEVENT
DTSTART;TZID=Europe/Prague:20170413T140000
DTEND;TZID=Europe/Prague:20170413T140000
DTSTAMP:20260424T080817
CREATED:20190831T151840Z
LAST-MODIFIED:20190831T151841Z
UID:1354-1492092000-1492092000@www.luxor.cz
SUMMARY:Festival Praha slyší neslyšící
DESCRIPTION:PRAHA SLYŠÍ NESLYŠÍCÍ je ultižánrový\nfestival\, který se bude konat ve čtvrtek 13. dubna 2017 v době od 14:00\ndo 18:00 v Galerii Harfa. Ta se stane na jeden den místem\nsetkání pro lidi slyšící i neslyšící\, tentokrát bez bariér\, předsudků a\nvymezování. \nV rámci\nhlavního programu na pódiu\, kterým bude provádět Jaroslav Dušek ve spolupráci s\nneslyšícími moderátory\, proběhnou prezentace kurzů zajišťujících výuku českého\nznakového jazyka v Praze\, ukázky hudby tlumočené do českého znakového\njazyka a vystoupení osobností komunity neslyšících přibližujících svůj životní\npříběh.  \nA taktéž autogramiáda Jaroslava\nDuška. Jednak k jeho knihám a jednak ke knize A proto skáču! od\nHigašida Naoki\, ze které bude předčítat. Toto\npředčítání začne cca v 16:00 hodin\, pak bude následovat autogramiáda.
URL:https://www.luxor.cz/blog/akce/festival-praha-slysi-neslysici--891/
LOCATION:Knihkupectví Galerie Harfa\, Galerie Harfa\, Praha 9\, 19093\, Česká republika
ORGANIZER;CN="Luxor":MAILTO:info@luxor.cz
END:VEVENT
BEGIN:VEVENT
DTSTART;TZID=Europe/Prague:20170418T170000
DTEND;TZID=Europe/Prague:20170418T170000
DTSTAMP:20260424T080817
CREATED:20190831T151833Z
LAST-MODIFIED:20190831T151834Z
UID:1336-1492534800-1492534800@www.luxor.cz
SUMMARY:Křest knihy Podsvětí
DESCRIPTION:V pražském metru se děje něco zvláštního. Výpadky světel\, podivné oltáře v tunelech\, ozvěny a stihomamy jsou však jen předzvěstí blížící se\napokalypsy. Vedoucí techniků\, starší muž přezdívaný Haďák\, mladá úspěšná\n farmaceutička Nina\, osudově přitahovaná metrem\, a člen pořádkové\npolicie pracující v metru nazývaný Kerber spolu na první pohled nemají\nnic společného. Jejich vazby jsou však daleko hlubší a osud nasměroval\njejich kroky do vražedné temnoty tunelů – za tajemnými Stíny i jejich\nnohsledy\, kteří se nezastaví před ničím.Mysteriózní thriller Michala\nŠefary přináší zcela nový\, neotřelý pohled na pražské metro\, a po jeho\npřečtení už vám žádná ze stanic ani cesta tunely nebudou připadat stejně\n fádní jako předtím.
URL:https://www.luxor.cz/blog/akce/krest-knihy-podsveti/
LOCATION:Palác knih Luxor\, Václavské náměstí 820/41\, Praha 1\, 11000\, Česká republika
ORGANIZER;CN="Luxor":MAILTO:info@luxor.cz
END:VEVENT
BEGIN:VEVENT
DTSTART;TZID=Europe/Prague:20170419T170000
DTEND;TZID=Europe/Prague:20170419T170000
DTSTAMP:20260424T080817
CREATED:20190831T151836Z
LAST-MODIFIED:20190831T151838Z
UID:1342-1492621200-1492621200@www.luxor.cz
SUMMARY:Autogramiáda Miloše Urbana
DESCRIPTION:Závěrka je milostná novela o prokletí doby\, kdy se každý může stát fotografem a udělat alespoň jednu dobrou fotku. Důležitá je motivace.\nMotivací Matěje Runda je Věra\, půvabná mladá žena\, která si neuvědomuje\nsvou fotogeničnost – svou krásu „na druhý pohled“. Matěj tento její dar\nobjeví\, ale má zásadní problém: neumí fotit. Přesto začne Věru\nfotografovat. Jeho snímky jsou překvapivě dobré a čím dál lepší\,\nvzbuzují pozornost\, obdiv\, ale i odsouzení. Jsou nepokrytě erotické\, ale\n i sexistické. Nefotografa i jeho nemodelku dostihne internetové renomé\,\n snad i sláva\, ale čím větší je jejich úspěch\, tím hůř k sobě nacházejí\ncestu. Profesionální vztah tak může skončit jen dvojím způsobem: buď\nláskou\, anebo nenávistí.
URL:https://www.luxor.cz/blog/akce/autogramiada-milose-urbana--884/
LOCATION:Palác knih Luxor\, Václavské náměstí 820/41\, Praha 1\, 11000\, Česká republika
ORGANIZER;CN="Luxor":MAILTO:info@luxor.cz
END:VEVENT
BEGIN:VEVENT
DTSTART;TZID=Europe/Prague:20170420T163000
DTEND;TZID=Europe/Prague:20170420T163000
DTSTAMP:20260424T080817
CREATED:20190831T151836Z
LAST-MODIFIED:20190831T151838Z
UID:1343-1492705800-1492705800@www.luxor.cz
SUMMARY:Prezentace kuchařky Martina Škody
DESCRIPTION:Druhá kniha Martinovi vychází v jeho 22 letech a je stejně originální a nekonvenční jako autor sám. Škoda nevařit 2 – Kuchařka plná akce\npředstavuje dvacet nadupaných kapitol\, kdy každá kapitola znázorňuje\njednu konkrétní akci s jídlem v hlavní roli. AKCE\, pestrost receptů\,\ndostupnost surovin a variace příležitostí i prostředí\, to jsou hlavní\natributy zbrusu nové kuchařky\, jejímž speciálním hostem se stal známý\nkuchař Marcel Ihnačák\, který spolu s Martinem v jedné z kapitol uvařil\nsvé oblíbené recepty.
URL:https://www.luxor.cz/blog/akce/prezentace-kucharky-martina-skody--885/
LOCATION:Palác knih Luxor\, Václavské náměstí 820/41\, Praha 1\, 11000\, Česká republika
ORGANIZER;CN="Luxor":MAILTO:info@luxor.cz
END:VEVENT
BEGIN:VEVENT
DTSTART;TZID=Europe/Prague:20170423T135200
DTEND;TZID=Europe/Prague:20170423T135200
DTSTAMP:20260424T080817
CREATED:20190831T151840Z
LAST-MODIFIED:20190831T151841Z
UID:1355-1492955520-1492955520@www.luxor.cz
SUMMARY:Sleva 20 % při nákupu nad 399 Kč
DESCRIPTION:Navštivte ve dnech 18. – 23. dubna naší čerstvě zrekonstruovanou pobočku v nákupním centru Novodvorská Plaza a odneste si domů nákup nad 399 Kč se slevou 20 %.  \nAkce se vztahuje na veškeré zboží (neplatí na pokladnách KK a není možné slevu sčítat s ostatními).
URL:https://www.luxor.cz/blog/akce/sleva-20-pri-nakupu-nad-399-kc--892/
LOCATION:Knihkupectví Novodvorská Plaza\, OC Novodvorská Plaza\, Praha 4\, 14200\, Česká republika
ORGANIZER;CN="Luxor":MAILTO:info@luxor.cz
END:VEVENT
BEGIN:VEVENT
DTSTART;TZID=Europe/Prague:20170424T170000
DTEND;TZID=Europe/Prague:20170424T170000
DTSTAMP:20260424T080817
CREATED:20190831T151836Z
LAST-MODIFIED:20190831T151838Z
UID:1344-1493053200-1493053200@www.luxor.cz
SUMMARY:Křest knihy Zdeňka Svěráka
DESCRIPTION:Nebojte se číst nahlas!				Tiché šlapací království napsal Zdeněk Svěrák v šedesátých letech\njako rozhlasovou pohádku. Ta byla v roce 1968 smazána jako nežádoucí.\nJejí obsah totiž až příliš připomínal situaci v tehdejším\nČeskoslovensku.\n				Pohádka vypráví o divném království\, kde se nesmí mluvit nahlas. Ti\,\n kteří tento zákaz poruší\, jdou díky Špiclovi do vězení.\n				Věříme\, že příběh má stále co říci i dnes – nejen chytrým dětem\, ale\n i jejich chytrým rodičům…
URL:https://www.luxor.cz/blog/akce/krest-knihy-zdenka-sveraka-2/
LOCATION:Palác knih Luxor\, Václavské náměstí 820/41\, Praha 1\, 11000\, Česká republika
ORGANIZER;CN="Luxor":MAILTO:info@luxor.cz
END:VEVENT
BEGIN:VEVENT
DTSTART;TZID=Europe/Prague:20170425T170000
DTEND;TZID=Europe/Prague:20170425T170000
DTSTAMP:20260424T080817
CREATED:20190831T151837Z
LAST-MODIFIED:20190831T151838Z
UID:1345-1493139600-1493139600@www.luxor.cz
SUMMARY:Prezentace knihy známého kouče
DESCRIPTION:Věděli jste\, že pozitivní přístup navyšuje produktivitu až o jednu třetinu? Bývalý prezident evropského Microsoftu\, Jan Mühlfeit\, shrnul\nsvé mnohaleté zkušenosti ve vedení lidí do čtyř kroků. Odhalte\, jak\ninspirovat vlastní tým\, jak dosáhnout vytyčených výsledků a přitom si\nzachovat rovnováhu mezi úspěchem a štěstím. Zjistěte jak se zbavit\nstresu a negativismu a odemkněte potenciál u sebe i u lidí\, kteří vás\nobklopují.
URL:https://www.luxor.cz/blog/akce/prezentace-knihy-znameho-kouce--887/
LOCATION:Palác knih Luxor\, Václavské náměstí 820/41\, Praha 1\, 11000\, Česká republika
ORGANIZER;CN="Luxor":MAILTO:info@luxor.cz
END:VEVENT
BEGIN:VEVENT
DTSTART;TZID=Europe/Prague:20170426T170000
DTEND;TZID=Europe/Prague:20170426T170000
DTSTAMP:20260424T080817
CREATED:20190831T151837Z
LAST-MODIFIED:20190831T151838Z
UID:1346-1493226000-1493226000@www.luxor.cz
SUMMARY:Beseda se švédskou spisovatelkou s českými kořeny
DESCRIPTION:Švédský román o pomstě\, intrikách ve světě byznysu a zakázané lásce. V nelítostném světě švédských financí se nevyzná nikdo lépe než David\nHammar. I přes svůj dělnický původ se vypracoval na pozici jednoho z\nnejbohatších švédských finančníků. Nemilosrdný a nezastavitelný hráč už\nroky pase po jediném\, urvat pro sebe Investum\, obchodní společnost\naristokratické rodiny De la Grip. K získání impéria potřebuje ještě\nposlední krok – přetáhnout na svou stranu někoho z vysoce postavené\nrodiny…
URL:https://www.luxor.cz/blog/akce/beseda-se-svedskou-spisovatelkou-s-ceskymi-koreny--888/
LOCATION:Palác knih Luxor\, Václavské náměstí 820/41\, Praha 1\, 11000\, Česká republika
ORGANIZER;CN="Luxor":MAILTO:info@luxor.cz
END:VEVENT
BEGIN:VEVENT
DTSTART;TZID=Europe/Prague:20170427T170000
DTEND;TZID=Europe/Prague:20170427T170000
DTSTAMP:20260424T080817
CREATED:20190831T151840Z
LAST-MODIFIED:20190831T151841Z
UID:1352-1493312400-1493312400@www.luxor.cz
SUMMARY:Křest knihy Lucie Kaletové
DESCRIPTION:Když na vás začnou hovořit duše stromů\, kdyžvás smradlavý obr chce odnést na záhadné místo\nv lese a před tím ještě sní všechno jídlo z lednice –\nmáte dvě možnosti. Myslet si\, že jste se zbláznili\,\nanebo přemýšlet\, zda to\, co vidíte\, je skutečné.\nJenže to není všechno! V trafice u stanice tramvaje\nsedí věštkyně a předpoví vám z oslizlé žvýkačky\,\nže možná zemřete. Duch kluka z devátého\nstoletí vám tvrdí\, že se znáte. Staré lípy propustí\nze zajetí svých kořenů upíra a poradí vám\, ať si ho\nochočíte. Že je to přitažené za vlasy? A co když\njste nuceni skočit do děsivého víru pro prastarý\nmeč\, spolkne vás obří had a potom musíte svést\nsouboj s temným Černobogem a jeho sluhy?\nMožná při tom zjistíte\, že nejste tím\, kým jste\nsi mysleli\, že jste\, což je dost šokující. Objevíte\nmísto\, odkud pocházíte. To místo je brána a skrz\nni může projít na svět dobro\, nebo zlo. A kde je od\nté brány klíč? Ten klíč jste vy. Pokud se jmenujete\nJosefína Slámová. Anebo pokud… máte chuť\nprožít ten příběh s ní.
URL:https://www.luxor.cz/blog/akce/krest-knihy-lucie-kaletove--889/
LOCATION:Palác knih Luxor\, Václavské náměstí 820/41\, Praha 1\, 11000\, Česká republika
ORGANIZER;CN="Luxor":MAILTO:info@luxor.cz
END:VEVENT
BEGIN:VEVENT
DTSTART;TZID=Europe/Prague:20170430T095200
DTEND;TZID=Europe/Prague:20170430T095200
DTSTAMP:20260424T080817
CREATED:20190831T151840Z
LAST-MODIFIED:20190831T151841Z
UID:1353-1493545920-1493545920@www.luxor.cz
SUMMARY:Ke každé knize Čtyřlístku DVD zdarma
DESCRIPTION:Od 1. 4. 2017 až do vydání zásob nabízíme ve všech našich kamenných knihkupectvích DVD Čtyřlístek ve službách krále zdarma k nákupu jakékoliv vázané knihy Čtyřlístku. Akce platí i na pokladnách Knižního klubu.
URL:https://www.luxor.cz/blog/akce/ke-kazde-knize-ctyrlistku-dvd-zdarma--890/
ORGANIZER;CN="Luxor":MAILTO:info@luxor.cz
END:VEVENT
END:VCALENDAR