BEGIN:VCALENDAR
VERSION:2.0
PRODID:-//Blog knihkupectví Luxor - ECPv6.15.20//NONSGML v1.0//EN
CALSCALE:GREGORIAN
METHOD:PUBLISH
X-WR-CALNAME:Blog knihkupectví Luxor
X-ORIGINAL-URL:https://www.luxor.cz/blog
X-WR-CALDESC:Akce na Blog knihkupectví Luxor
REFRESH-INTERVAL;VALUE=DURATION:PT1H
X-Robots-Tag:noindex
X-PUBLISHED-TTL:PT1H
BEGIN:VTIMEZONE
TZID:Europe/Prague
BEGIN:DAYLIGHT
TZOFFSETFROM:+0100
TZOFFSETTO:+0200
TZNAME:CEST
DTSTART:20160327T010000
END:DAYLIGHT
BEGIN:STANDARD
TZOFFSETFROM:+0200
TZOFFSETTO:+0100
TZNAME:CET
DTSTART:20161030T010000
END:STANDARD
BEGIN:DAYLIGHT
TZOFFSETFROM:+0100
TZOFFSETTO:+0200
TZNAME:CEST
DTSTART:20170326T010000
END:DAYLIGHT
BEGIN:STANDARD
TZOFFSETFROM:+0200
TZOFFSETTO:+0100
TZNAME:CET
DTSTART:20171029T010000
END:STANDARD
BEGIN:DAYLIGHT
TZOFFSETFROM:+0100
TZOFFSETTO:+0200
TZNAME:CEST
DTSTART:20180325T010000
END:DAYLIGHT
BEGIN:STANDARD
TZOFFSETFROM:+0200
TZOFFSETTO:+0100
TZNAME:CET
DTSTART:20181028T010000
END:STANDARD
END:VTIMEZONE
BEGIN:VEVENT
DTSTART;TZID=Europe/Prague:20170202T163000
DTEND;TZID=Europe/Prague:20170202T163000
DTSTAMP:20260424T095116
CREATED:20190831T151823Z
LAST-MODIFIED:20190831T151823Z
UID:1308-1486053000-1486053000@www.luxor.cz
SUMMARY:Křest knihy SPARTA – SLAVIA
DESCRIPTION:Už třicet let je v pozadí větších sportovních klání ojedinělé silvestrovské derby pražských fotbalových týmů Sparty a Slavie. Nejde o\ntriumf\, jde o sport. Na stránkách této jedinečné knihy se setkáte s\nostřílenými hráči veterány a žijícími legendami obou týmů. Text od\nzasvěceného sportovního novináře Stanislava Sigmunda doplňuje řada\nunikátních\, dosud nepublikovaných fotografií.
URL:https://www.luxor.cz/blog/akce/krest-knihy-sparta-slavia--860/
LOCATION:Palác knih Luxor\, Václavské náměstí 820/41\, Praha 1\, 11000\, Česká republika
ORGANIZER;CN="Luxor":MAILTO:info@luxor.cz
END:VEVENT
BEGIN:VEVENT
DTSTART;TZID=Europe/Prague:20170208T170000
DTEND;TZID=Europe/Prague:20170208T170000
DTSTAMP:20260424T095116
CREATED:20190831T151823Z
LAST-MODIFIED:20190831T151823Z
UID:1309-1486573200-1486573200@www.luxor.cz
SUMMARY:Prezentace úspěšné knihy o Grónsku
DESCRIPTION:Grónsko se manželům Aleně a Jaroslavu Klempířovým stalo doslova druhým domovem. Za roky pracovních pobytů poznali krásu grónské přírody\,\npolární dny i kouzlo polární noci. Tolik drsné\, přitom fascinující\,\nnezapomenutelné. Poznali život Gróňanů a toto poznání jim nadobro\nzměnilo pohled na život. Stali se zajatci své touhy po blýskajícím se\nledu\, zářivém polárním slunci\, polární noci a hlavně po lidech tak\npřátelských. Během let bádání shromáždili mnoho písemných dokumentů z\nhistorie i současnosti Grónska.
URL:https://www.luxor.cz/blog/akce/prezentace-uspesne-knihy-o-gronsku--861/
LOCATION:Palác knih Luxor\, Václavské náměstí 820/41\, Praha 1\, 11000\, Česká republika
ORGANIZER;CN="Luxor":MAILTO:info@luxor.cz
END:VEVENT
BEGIN:VEVENT
DTSTART;TZID=Europe/Prague:20170214T115600
DTEND;TZID=Europe/Prague:20170214T115600
DTSTAMP:20260424T095116
CREATED:20190831T151825Z
LAST-MODIFIED:20190831T151825Z
UID:1315-1487073360-1487073360@www.luxor.cz
SUMMARY:Valentýnská sleva
DESCRIPTION:Ve všech našich kamenných knihkupectvích a při osobním odběru online objednávky (musí být vyzvednuta v době trvání akce) platí od 11. do 14. 2. 2017 20% sleva na romány pro ženy při koupi alespoň 2 knih tohoto žánru. Sleva neplatí na již zlevněný sortiment a nelze ji kombinovat s dalšími slevami. Neplatí na pokladnách Knižní klubu.
URL:https://www.luxor.cz/blog/akce/valentynska-sleva-2/
ORGANIZER;CN="Luxor":MAILTO:info@luxor.cz
END:VEVENT
BEGIN:VEVENT
DTSTART;TZID=Europe/Prague:20170214T160000
DTEND;TZID=Europe/Prague:20170214T160000
DTSTAMP:20260424T095116
CREATED:20190831T151823Z
LAST-MODIFIED:20190831T151823Z
UID:1310-1487088000-1487088000@www.luxor.cz
SUMMARY:Křest knihy Evy Samkové
DESCRIPTION:Demonstraci cviků provádí Eva Samková\, vítězka OH v Soči ve\nsnowboardcrossu. V knize jsou uvedeny fotografie cviků\, anatomické kresby\nsvalových partií a popis provedení cviků podle pokynů autora knihy\, který je\njejím kondičním trenérem. Účinnost uvedených cvičení byla ověřena metodou\npovrchové elektromyografie. \nPřehled cviků a příkladů tréninkových\nprogramů je jedinečný tím\, že účinnost uvedených cvičení byla ověřena metodou\npovrchové elektromyografie. Funkce svalů je na rozdíl od mechanického odvození\npouze ze znalosti jejich začátků a úponů objektivizována. \nV knize jsou fotografie cviku\,\nanatomické kresby svalových partií a popis provedení cviku. Trenér vybere\nvhodné listy a sestaví z nich vlastní tréninkový plán. Demonstraci cviků\nprovádí Eva Samková\, vítězka OH v Soči ve snowboardcrossu. Autor je jejím kondičním\ntrenérem.
URL:https://www.luxor.cz/blog/akce/krest-knihy-evy-samkove--862/
LOCATION:Palác knih Luxor\, Václavské náměstí 820/41\, Praha 1\, 11000\, Česká republika
ORGANIZER;CN="Luxor":MAILTO:info@luxor.cz
END:VEVENT
BEGIN:VEVENT
DTSTART;TZID=Europe/Prague:20170215T163000
DTEND;TZID=Europe/Prague:20170215T163000
DTSTAMP:20260424T095116
CREATED:20190831T151824Z
LAST-MODIFIED:20190831T151824Z
UID:1311-1487176200-1487176200@www.luxor.cz
SUMMARY:Křest knihy Michala Čagánka
DESCRIPTION:Román vypráví napínavý\, přitom velmi jemný lidský příběh muže\, který za svůj život projde skutečně vším možným. Narodil se na palubě letadla\,\nvyrůstal na farmě bez adresy\, několikrát málem zemřel\, aby se mohl znovu\n zrodit… Pavel Plyšatý není obyčejný člověk. Snad by takový raději\nbyl\, opravdu upřímně se snaží. Marně. Nikdo
URL:https://www.luxor.cz/blog/akce/krest-knihy-michala-caganka--863/
LOCATION:Palác knih Luxor\, Václavské náměstí 820/41\, Praha 1\, 11000\, Česká republika
ORGANIZER;CN="Luxor":MAILTO:info@luxor.cz
END:VEVENT
BEGIN:VEVENT
DTSTART;TZID=Europe/Prague:20170221T160000
DTEND;TZID=Europe/Prague:20170221T160000
DTSTAMP:20260424T095116
CREATED:20190831T151826Z
LAST-MODIFIED:20190831T151826Z
UID:1316-1487692800-1487692800@www.luxor.cz
SUMMARY:Křest knihy Jana Bauera
DESCRIPTION:Po nečekané smrti Rudolfa Habsburského řečeného Kaše\nse na český trůn vrátil Jindřich Korutanský\, manžel nejstarší dcery Václava II.\nAnny Přemyslovny. Melichar z Roupova i nadále zůstává v jeho službách\njako královský soudce\, ovšem jeho postavení je velmi nejisté. Nový opat\nstrahovského kláštera Gerard\, původem Francouz\, ho požádá o vyšetření záhadných\nvražd\, k nimž u strahovských premonstrátů došlo a které vypadají\, jako by\nse jich dopustil sám ďábel. Jaké pekelné rejdy se na Strahově dějí? Chce snad\nněkdo odtud řád premonstrátů vypudit? Soudce Melichar a jeho pomocník Božetěch\nstojí před nelehkým úkolem. Přitom jim prchlivý král Jindřich Korutanský vyhrožuje\,\nže pokud nevyřeší tajemný případ v klášteře\, zbaví je jejich úřadu. Pro\nMelichara by to byla možná úleva\, ale jeho ješitnost mu nedá\, aby se pátraní po\ntajemných vrazích či vrahovi vzdal.
URL:https://www.luxor.cz/blog/akce/krest-knihy-jana-bauera-3/
LOCATION:Palác knih Luxor\, Václavské náměstí 820/41\, Praha 1\, 11000\, Česká republika
ORGANIZER;CN="Luxor":MAILTO:info@luxor.cz
END:VEVENT
BEGIN:VEVENT
DTSTART;TZID=Europe/Prague:20170221T173000
DTEND;TZID=Europe/Prague:20170221T173000
DTSTAMP:20260424T095116
CREATED:20190831T151825Z
LAST-MODIFIED:20190831T151825Z
UID:1312-1487698200-1487698200@www.luxor.cz
SUMMARY:Křest knihy zpěvačky Ivy Frühlingové
DESCRIPTION:Malé dítě bývá zátěžovým testem nejen pro psychiku\, ale hlavně pro partnerský vztah. A právě to se stane i hrdince knihy\, která otěhotněla a\n vdala se brzy po seznámení. Ustojí tuhle krizi? Miluje svého manžela i\ndítě\, přesto má pocit\, že jí něco schází. Začne se na sebe dívat jinou\noptikou a hledá pravé hodnoty života. Zkouší nové sexuální praktiky\,\nnajde si milence… Nic z toho jí ale nedává\, po čem touží doopravdy ?\nzdravé pouto v rodině a klid v duši. Někdy je totiž největší výhrou\nnajít a přijmout sebe sama! Život je houpačka. Nahoru – dolů a tak stále\n dokola. Takhle to chodí – a nehrajte si na to\, že ne! Tohle je realita.\n Tohle je život…
URL:https://www.luxor.cz/blog/akce/krest-knihy-zpevacky-ivy-fruhlingove--864/
LOCATION:Palác knih Luxor\, Václavské náměstí 820/41\, Praha 1\, 11000\, Česká republika
ORGANIZER;CN="Luxor":MAILTO:info@luxor.cz
END:VEVENT
BEGIN:VEVENT
DTSTART;TZID=Europe/Prague:20170223T163000
DTEND;TZID=Europe/Prague:20170223T163000
DTSTAMP:20260424T095116
CREATED:20190831T151825Z
LAST-MODIFIED:20190831T151825Z
UID:1313-1487867400-1487867400@www.luxor.cz
SUMMARY:Křest knihy o hudební legendě Kučerovci
DESCRIPTION:Kučerovci byli slavní. Nepředstavitelně. V encyklopediích o nich mnoho nenajdete\, teoretici si s nimi nevědí rady\, ale posluchači je\nmilovali a milují. Nahrávky Vokálně instrumentální skupiny Václava\nKučery jste ve své době našli v téměř každé domácnosti a jejich koncerty\n navštěvovaly desetitisíce diváků. Například v Polsku odehráli za jediný\n měsíc 94 vyprodaných představení. Zažili narvané stadiony nadšených\nposluchačů a měli statisíce prodaných desek. \nSkupinu založili těsně po druhé světové\nválce v roce 1946 Václav a Marta Kučerovi\, vystupovali zpočátku\npředevším po estrádách a v cirkusech\, ale brzy nahrávali i desky a mj.\nspolupracovali s cestovatelskou dvojicí Hanzelka & Zikmund. V 50.\nletech se stali fenoménem. \nV knize Jiřího Vlastníka najdete více než\npůlstoletou historii skupiny\, poznáte významné osobnosti a zásadní\nudálosti z bohaté a spletité historie této hudební skupiny\, nechybí ani\ndobová obrazová dokumentace a diskografie.
URL:https://www.luxor.cz/blog/akce/krest-knihy-o-hudebni-legende-kucerovci--865/
LOCATION:Palác knih Luxor\, Václavské náměstí 820/41\, Praha 1\, 11000\, Česká republika
ORGANIZER;CN="Luxor":MAILTO:info@luxor.cz
END:VEVENT
BEGIN:VEVENT
DTSTART;TZID=Europe/Prague:20170228T160000
DTEND;TZID=Europe/Prague:20170228T160000
DTSTAMP:20260424T095116
CREATED:20190831T151825Z
LAST-MODIFIED:20190831T151825Z
UID:1314-1488297600-1488297600@www.luxor.cz
SUMMARY:Křest knihy o vzácné nemoci
DESCRIPTION:Autorkou knihy Spinální svalová atrofie v souvislostech je Mgr. Helena\nKočová\, Ph.D. dobrovolná konzultantka\, poradce domácí péče u dětí s\nnervosvalovými onemocněními (Spinální muskulární atrofie – SMA a svalové\ndystrofie). \nPro křest knihy jsme zvolili termín 28. 2.\, což je Den vzácných onemocnění a\nspinální atrofie se k vzácným nemocem řadí. \nKnihu\npokřtí prof. MUDr. Vladimír Komárek\, CSc – děkan 2. LF UK Praha\, PhDr.\nJiřina Prekopová – psycholožka a doprovázející rodiny s SMA a doc.\nPaeDr.Vanda Hájková\, Ph.D\, předsedkyně Somatopedické společnosti a zástupce\nvedoucí katedry  Speciální pedagogiky UK Praha.
URL:https://www.luxor.cz/blog/akce/krest-knihy-o-vzacne-nemoci--866/
LOCATION:Palác knih Luxor\, Václavské náměstí 820/41\, Praha 1\, 11000\, Česká republika
ORGANIZER;CN="Luxor":MAILTO:info@luxor.cz
END:VEVENT
END:VCALENDAR