BEGIN:VCALENDAR
VERSION:2.0
PRODID:-//Blog knihkupectví Luxor - ECPv6.15.20//NONSGML v1.0//EN
CALSCALE:GREGORIAN
METHOD:PUBLISH
X-ORIGINAL-URL:https://www.luxor.cz/blog
X-WR-CALDESC:Akce na Blog knihkupectví Luxor
REFRESH-INTERVAL;VALUE=DURATION:PT1H
X-Robots-Tag:noindex
X-PUBLISHED-TTL:PT1H
BEGIN:VTIMEZONE
TZID:Europe/Prague
BEGIN:DAYLIGHT
TZOFFSETFROM:+0100
TZOFFSETTO:+0200
TZNAME:CEST
DTSTART:20150329T010000
END:DAYLIGHT
BEGIN:STANDARD
TZOFFSETFROM:+0200
TZOFFSETTO:+0100
TZNAME:CET
DTSTART:20151025T010000
END:STANDARD
BEGIN:DAYLIGHT
TZOFFSETFROM:+0100
TZOFFSETTO:+0200
TZNAME:CEST
DTSTART:20160327T010000
END:DAYLIGHT
BEGIN:STANDARD
TZOFFSETFROM:+0200
TZOFFSETTO:+0100
TZNAME:CET
DTSTART:20161030T010000
END:STANDARD
BEGIN:DAYLIGHT
TZOFFSETFROM:+0100
TZOFFSETTO:+0200
TZNAME:CEST
DTSTART:20170326T010000
END:DAYLIGHT
BEGIN:STANDARD
TZOFFSETFROM:+0200
TZOFFSETTO:+0100
TZNAME:CET
DTSTART:20171029T010000
END:STANDARD
END:VTIMEZONE
BEGIN:VEVENT
DTSTART;TZID=Europe/Prague:20160815T104800
DTEND;TZID=Europe/Prague:20160815T104800
DTSTAMP:20260424T183727
CREATED:20190831T151747Z
LAST-MODIFIED:20190831T151747Z
UID:1223-1471258080-1471258080@www.luxor.cz
SUMMARY:20% sleva na vše při nákupu nad 399 Kč
DESCRIPTION:Co máte udělat\, abyste měli nárok na tuto slevu? \nKód k této slevě získáte prostřednictvím aplikace O2 Extra výhody\, a nebo na webových stránkách http://www.o2extravyhody.cz/. Získat ho můžete i zasláním sms ve tvaru NEOLUXOR na 999 009. \nTato nabídka je součástí programu Extra výhody\, díky kterému můžete získat spoustu bonusů a zážitků u partnerů O2 po celé republice. Například slevy\, které nikdo jiný mít nebude (jako je ta u nás v Neoluxoru)\, speciální nabídky nebo atraktivní zážitky. \nTato naše mimořádná nabídka platí od 15. července 2016 do 15. srpna 2016 a věříme\, že si ji nenecháte ujít. Slevu lze čerpat 4x po dobu platnosti nabídky. Neplatí na již zlevněné zboží. Slevy platí pouze v kamenných prodejnách. Slevy nelze kombinovat navzájem s dalšími slevami. Slevy nelze uplatnit na pokladnách Knižního klubu.
URL:https://www.luxor.cz/blog/akce/20-sleva-na-vse-pri-nakupu-nad-399-kc--774/
ORGANIZER;CN="Luxor":MAILTO:info@luxor.cz
END:VEVENT
BEGIN:VEVENT
DTSTART;TZID=Europe/Prague:20160823T132300
DTEND;TZID=Europe/Prague:20160823T132300
DTSTAMP:20260424T183727
CREATED:20190831T151752Z
LAST-MODIFIED:20190831T151752Z
UID:1233-1471958580-1471958580@www.luxor.cz
SUMMARY:Back to school s Presco Group
DESCRIPTION:Pokud si v Paláci knih Luxor\, v knihkupectví Palladium nebo Chodov koupíte učebnice nebo papírenské zboží v hodnotě alespoň 499 Kč\, získáte dárek od Presco Group. Pro prvních 1000 zákazníků\, kteří nakoupí od 17. srpna 2016 máme batohy nebo tašky s rozvrhem hodin pro kluky i holky. Neplatí na pokladnách Knižního klubu.
URL:https://www.luxor.cz/blog/akce/back-to-school--784/
LOCATION:Knihkupectví Chodov\, Centrum Chodov\, Praha 4\, 14000\, Česká republika
ORGANIZER;CN="Luxor":MAILTO:info@luxor.cz
END:VEVENT
BEGIN:VEVENT
DTSTART;TZID=Europe/Prague:20160825T170000
DTEND;TZID=Europe/Prague:20160825T170000
DTSTAMP:20260424T183727
CREATED:20190831T151748Z
LAST-MODIFIED:20190831T151748Z
UID:1226-1472144400-1472144400@www.luxor.cz
SUMMARY:Prezentace jedinečné umělecké publikace
DESCRIPTION:Předmětem bádání\, jehož výstup dostal podobu česko-anglické monografie s\n bohatou obrazovou přílohou\, je soubor 26 komorních kreseb a malířských\nprací obsažených v knížce mající podobu formátem nevelké pamětní knihy\,\njejíž vazba nese znaky výtvarného klimatu secese a jejíž nejstarší\nvýtvarné záznamy jsou krom signatur autorů doprovozeny i podpisy\npařížského obchodníka s uměním Ambroise Vollarda a otisky razítka\nudávajícího adresu jeho obchodu.
URL:https://www.luxor.cz/blog/akce/prezentace-jedinecne-umelecke-publikace--777/
LOCATION:Palác knih Luxor\, Václavské náměstí 820/41\, Praha 1\, 11000\, Česká republika
ORGANIZER;CN="Luxor":MAILTO:info@luxor.cz
END:VEVENT
BEGIN:VEVENT
DTSTART;TZID=Europe/Prague:20160831T112800
DTEND;TZID=Europe/Prague:20160831T112800
DTSTAMP:20260424T183727
CREATED:20190831T151748Z
LAST-MODIFIED:20190831T151748Z
UID:1224-1472642880-1472642880@www.luxor.cz
SUMMARY:Velká letní soutěž o 27 LED televizí a více než 1000 knih
DESCRIPTION:Kupte si do 31. 8. 2016 v našich knihkupectvích (nebo v e-shopu – platí jen pro osobní odběr zdarma) jakoukoliv knihu z Edice světový bestseller a zapojte se do letní tipovací soutěže. Na účtenku\, kterou dostanete u pokladny\, napište odhad\, kolik knih z této edice se prodá v knihkupectví\, kde jste nakoupili\, v období od 1. 7. 2016 do 31. 8. 2016. Každé knihkupectví pak vybere 6 výherců s nejbližším tipem\, nejpřesnější odhad získá novou LED televizi s 100 cm úhlopříčkou\, dalších pět tipující vyhraje 10 knih z Edice světový bestseller a nakladatelství Euromedia. Akce platí i na pokladnách Knižního klubu\, neplatí v knihkupectví Nový Smíchov (pouze v prodejně v přízemí). \n \nVšechny knihy z  z Edice světový bestseller najdete v naší speciální kategorii na webu.\n \n \nPravidla soutěže \n1. Firma Neoluxor\, s.r.o. je organizátorem vědomostní/tipovací soutěže „Velká letní soutěž o 27 LED televizí a více než 1000 knih“. \n2. Soutěž probíhá v kamenných prodejnách sítě knihkupectví Neoluxor včetně pokladen Knižního klubu \n3. Soutěž probíhá v období 1.7. – 31.8. 2016. Výhrami v soutěži je 27 LED televizorů a 1350 knih. \n4. Podmínky zapojení do soutěže : \na) nákup alespoň 1 ks knihy z Edice Světový bestseller(dále ESB) \nb) vyplnění soutěžního kupónu\, který je součástí účtenky a zodpovězení tipovací otázky : Kolik kusů knih Edice světový bestseller se prodá v období konání soutěže\, tedy za dny 1.7. – 31.8.2016 \nc) odevzdání správně a čitelně vyplněného kuponu do připravené krabičky \nd) zákazník se může do soutěže zapojit opakovaně\, nákupem dalších kusů knih ESB na jedné nebo dalších pobočkách\, případně opakovaným nákupem na e-shopu \n5. Nesprávně vyplněné\, nečitelné kupóny jsou ze soutěže vyřazeny \n6. Soutěže se nesmí zúčastnit zaměstnanci firmy Neoluxor ani jejich rodinní příslušníci… \n7. Výhercem se stává správný nebo nejbližší správný tip prodaného počtu kusů. V případě shody výherních tipů rozhoduje datum a čas nákupu – dřívější shodný tip vyhrává \n8. Provozovatel si vyhrazuje právo s konečnou platností rozhodnout o všech záležitostech týkajících se této soutěže.  \n9. Provozovatel je zároveň oprávněn soutěž kdykoliv změnit\, zrušit či upravit pravidla. Vymáhání účasti a výher v soutěži soudní cestou je vyloučeno. \n10. Při nesplnění podmínek této soutěže\, nečitelnosti vyplněné odpovědi nebo kontaktních údajů nebo duplicitě odpovědí ztrácí účastník nárok na výhru.
URL:https://www.luxor.cz/blog/akce/velka-letni-soutez-o-27-led-televizi-a-vice-nez-1000-knih--775/
LOCATION:Knihkupectví Nový Smíchov\, OC Nový Smíchov\, Praha 5\, 15000\, Česká republika
ORGANIZER;CN="Luxor":MAILTO:info@luxor.cz
END:VEVENT
END:VCALENDAR