BEGIN:VCALENDAR
VERSION:2.0
PRODID:-//Blog knihkupectví Luxor - ECPv6.15.20//NONSGML v1.0//EN
CALSCALE:GREGORIAN
METHOD:PUBLISH
X-ORIGINAL-URL:https://www.luxor.cz/blog
X-WR-CALDESC:Akce na Blog knihkupectví Luxor
REFRESH-INTERVAL;VALUE=DURATION:PT1H
X-Robots-Tag:noindex
X-PUBLISHED-TTL:PT1H
BEGIN:VTIMEZONE
TZID:Europe/Prague
BEGIN:DAYLIGHT
TZOFFSETFROM:+0100
TZOFFSETTO:+0200
TZNAME:CEST
DTSTART:20200329T010000
END:DAYLIGHT
BEGIN:STANDARD
TZOFFSETFROM:+0200
TZOFFSETTO:+0100
TZNAME:CET
DTSTART:20201025T010000
END:STANDARD
BEGIN:DAYLIGHT
TZOFFSETFROM:+0100
TZOFFSETTO:+0200
TZNAME:CEST
DTSTART:20210328T010000
END:DAYLIGHT
BEGIN:STANDARD
TZOFFSETFROM:+0200
TZOFFSETTO:+0100
TZNAME:CET
DTSTART:20211031T010000
END:STANDARD
BEGIN:DAYLIGHT
TZOFFSETFROM:+0100
TZOFFSETTO:+0200
TZNAME:CEST
DTSTART:20220327T010000
END:DAYLIGHT
BEGIN:STANDARD
TZOFFSETFROM:+0200
TZOFFSETTO:+0100
TZNAME:CET
DTSTART:20221030T010000
END:STANDARD
END:VTIMEZONE
BEGIN:VEVENT
DTSTART;TZID=Europe/Prague:20210720T170000
DTEND;TZID=Europe/Prague:20210720T180000
DTSTAMP:20260422T095136
CREATED:20210708T055105Z
LAST-MODIFIED:20210708T055218Z
UID:15836-1626800400-1626804000@www.luxor.cz
SUMMARY:Josef Káďa Kadeřábek: S motorkářem u stolu
DESCRIPTION:Motorkář  Josef Káďa Kadeřábek pokřtí v Paláci knih Luxor svoji další knihu!  Jmenuje se S motorkářem u stolu a kmotry jí budou Jitka Zelenková\, Iveta  Lutovská Vítová\, Jakub Smolík\, Zdeněk Podhůrský a Martin Gondek! Budeme  se na vás těšit! \n\n\n\nHumorné  historky a příběhy lidí\, kteří mají jako svého koníčka cestování na  dvou kolech se silným motorem\, se v knižní novince točí okolo  neodmyslitelné součásti každého výletu –  chutného jídla.
URL:https://www.luxor.cz/blog/akce/josef-kada-kaderabek-s-motorkarem-u-stolu/
LOCATION:Palác knih Luxor\, Václavské náměstí 820/41\, Praha 1\, 11000\, Česká republika
ATTACH;FMTTYPE=image/jpeg:https://www.luxor.cz/blog/wp-content/uploads/s-motorkarem-u-stolu_banner_Luxor-1200x628.jpg
END:VEVENT
END:VCALENDAR