BEGIN:VCALENDAR
VERSION:2.0
PRODID:-//Blog knihkupectví Luxor - ECPv6.15.20//NONSGML v1.0//EN
CALSCALE:GREGORIAN
METHOD:PUBLISH
X-WR-CALNAME:Blog knihkupectví Luxor
X-ORIGINAL-URL:https://www.luxor.cz/blog
X-WR-CALDESC:Akce na Blog knihkupectví Luxor
REFRESH-INTERVAL;VALUE=DURATION:PT1H
X-Robots-Tag:noindex
X-PUBLISHED-TTL:PT1H
BEGIN:VTIMEZONE
TZID:Europe/Prague
BEGIN:DAYLIGHT
TZOFFSETFROM:+0100
TZOFFSETTO:+0200
TZNAME:CEST
DTSTART:20200329T010000
END:DAYLIGHT
BEGIN:STANDARD
TZOFFSETFROM:+0200
TZOFFSETTO:+0100
TZNAME:CET
DTSTART:20201025T010000
END:STANDARD
BEGIN:DAYLIGHT
TZOFFSETFROM:+0100
TZOFFSETTO:+0200
TZNAME:CEST
DTSTART:20210328T010000
END:DAYLIGHT
BEGIN:STANDARD
TZOFFSETFROM:+0200
TZOFFSETTO:+0100
TZNAME:CET
DTSTART:20211031T010000
END:STANDARD
BEGIN:DAYLIGHT
TZOFFSETFROM:+0100
TZOFFSETTO:+0200
TZNAME:CEST
DTSTART:20220327T010000
END:DAYLIGHT
BEGIN:STANDARD
TZOFFSETFROM:+0200
TZOFFSETTO:+0100
TZNAME:CET
DTSTART:20221030T010000
END:STANDARD
END:VTIMEZONE
BEGIN:VEVENT
DTSTART;TZID=Europe/Prague:20210616T170000
DTEND;TZID=Europe/Prague:20210616T180000
DTSTAMP:20260422T062617
CREATED:20210610T061150Z
LAST-MODIFIED:20210610T061151Z
UID:15567-1623862800-1623866400@www.luxor.cz
SUMMARY:AZYL 78: Jitka Kosíková a Marek Uhlíř - Břehy nejsou na dohled
DESCRIPTION:Jménem nakladatelství Universum a knihkupectví Luxor vás srdečně zveme na křest knihy Jitky Kosíkové a Marka Uhlíře BŘEHY NEJSOU NA DOHLED. \n\n\n\nKřest se uskuteční  ve středu 16. června od 17:00 v džungli BKAO\, při letní scéně Azyl 78\, na Výstavišti v Holešovicích (ve Stromovce). \n\n\n\nKnihu pokřtí zástupci organizací Lékaři bez hranic a Cesta\ndomů.
URL:https://www.luxor.cz/blog/akce/azyl-78-jitka-kosikova-a-marek-uhlir-brehy-nejsou-na-dohled/
ATTACH;FMTTYPE=image/jpeg:https://www.luxor.cz/blog/wp-content/uploads/brehy_banner_Luxor-1200x628-ST.jpg
END:VEVENT
END:VCALENDAR