BEGIN:VCALENDAR
VERSION:2.0
PRODID:-//Blog knihkupectví Luxor - ECPv6.15.20//NONSGML v1.0//EN
CALSCALE:GREGORIAN
METHOD:PUBLISH
X-ORIGINAL-URL:https://www.luxor.cz/blog
X-WR-CALDESC:Akce na Blog knihkupectví Luxor
REFRESH-INTERVAL;VALUE=DURATION:PT1H
X-Robots-Tag:noindex
X-PUBLISHED-TTL:PT1H
BEGIN:VTIMEZONE
TZID:Europe/Prague
BEGIN:DAYLIGHT
TZOFFSETFROM:+0100
TZOFFSETTO:+0200
TZNAME:CEST
DTSTART:20200329T010000
END:DAYLIGHT
BEGIN:STANDARD
TZOFFSETFROM:+0200
TZOFFSETTO:+0100
TZNAME:CET
DTSTART:20201025T010000
END:STANDARD
BEGIN:DAYLIGHT
TZOFFSETFROM:+0100
TZOFFSETTO:+0200
TZNAME:CEST
DTSTART:20210328T010000
END:DAYLIGHT
BEGIN:STANDARD
TZOFFSETFROM:+0200
TZOFFSETTO:+0100
TZNAME:CET
DTSTART:20211031T010000
END:STANDARD
BEGIN:DAYLIGHT
TZOFFSETFROM:+0100
TZOFFSETTO:+0200
TZNAME:CEST
DTSTART:20220327T010000
END:DAYLIGHT
BEGIN:STANDARD
TZOFFSETFROM:+0200
TZOFFSETTO:+0100
TZNAME:CET
DTSTART:20221030T010000
END:STANDARD
END:VTIMEZONE
BEGIN:VEVENT
DTSTART;TZID=Europe/Prague:20210610T170000
DTEND;TZID=Europe/Prague:20210610T180000
DTSTAMP:20260422T062649
CREATED:20210608T045248Z
LAST-MODIFIED:20210608T045341Z
UID:15553-1623344400-1623348000@www.luxor.cz
SUMMARY:Martina Formanová - Nalakuj to narůžovo
DESCRIPTION:„Je to moje nejintimnější kniha.“  \n\n\n\nAutogramiáda Martiny Formanové k nové autobiografické knize NALAKUJ TO NA RŮŽOVO proběhne v Paláci knih Luxor.  \n\n\n\nV\nnové knize\, kterou Martina Formanová navazuje na předchozí autobiografické\nprózy Skladatelka voňavého prádla a Snědla dětem sladkosti\, se\nsetkáváme se zralou ženou reflektující svůj život po smrti manžela Miloše\nFormana. S pomocí deníku zpracovává svůj smutek a prázdnotu ze ztráty člověka\,\npo jehož boku strávila dvacet tři let a s nímž vychovala dva syny. První zápis\nje ze srpna 2018\, poslední z letošního\, již pandemického února. S nadsázkou\,\nsebeironií a upřímností autorka popisuje cestu k zotavení. Nečekanou součástí\nduševní terapie se pro ni stávají lekce stand-upu\, který spojil její touhu po\nkomunikaci\, smysl pro humor i dávné vzpomínky na chvíle strávené v dětském\nrecitačním kroužku v rodném Brně.  \n\n\n\nAutorčino\nnejintimnější dílo doprovází řada fotografií.
URL:https://www.luxor.cz/blog/akce/martina-formanova-nalakuj-to-naruzovo/
LOCATION:Palác knih Luxor\, Václavské náměstí 820/41\, Praha 1\, 11000\, Česká republika
ATTACH;FMTTYPE=image/png:https://www.luxor.cz/blog/wp-content/uploads/Martina_Nalakuj_banner_1200x628.png
END:VEVENT
END:VCALENDAR