BEGIN:VCALENDAR
VERSION:2.0
PRODID:-//Blog knihkupectví Luxor - ECPv6.15.20//NONSGML v1.0//EN
CALSCALE:GREGORIAN
METHOD:PUBLISH
X-ORIGINAL-URL:https://www.luxor.cz/blog
X-WR-CALDESC:Akce na Blog knihkupectví Luxor
REFRESH-INTERVAL;VALUE=DURATION:PT1H
X-Robots-Tag:noindex
X-PUBLISHED-TTL:PT1H
BEGIN:VTIMEZONE
TZID:Europe/Prague
BEGIN:DAYLIGHT
TZOFFSETFROM:+0100
TZOFFSETTO:+0200
TZNAME:CEST
DTSTART:20190331T010000
END:DAYLIGHT
BEGIN:STANDARD
TZOFFSETFROM:+0200
TZOFFSETTO:+0100
TZNAME:CET
DTSTART:20191027T010000
END:STANDARD
BEGIN:DAYLIGHT
TZOFFSETFROM:+0100
TZOFFSETTO:+0200
TZNAME:CEST
DTSTART:20200329T010000
END:DAYLIGHT
BEGIN:STANDARD
TZOFFSETFROM:+0200
TZOFFSETTO:+0100
TZNAME:CET
DTSTART:20201025T010000
END:STANDARD
BEGIN:DAYLIGHT
TZOFFSETFROM:+0100
TZOFFSETTO:+0200
TZNAME:CEST
DTSTART:20210328T010000
END:DAYLIGHT
BEGIN:STANDARD
TZOFFSETFROM:+0200
TZOFFSETTO:+0100
TZNAME:CET
DTSTART:20211031T010000
END:STANDARD
END:VTIMEZONE
BEGIN:VEVENT
DTSTART;TZID=Europe/Prague:20201008T170000
DTEND;TZID=Europe/Prague:20201008T180000
DTSTAMP:20260422T011304
CREATED:20200908T101447Z
LAST-MODIFIED:20201005T071202Z
UID:14334-1602176400-1602180000@www.luxor.cz
SUMMARY:ZRUŠENO: BRNO: Tomáš Řepka - autogramiáda
DESCRIPTION:Kniha Deník ze dna je osobní zpovědí bývalého fotbalového reprezentanta\, kapitána Sparty\, hráče italské Fiorentiny a anglického West Hamu i legendárního obránce Tomáše Řepky. Všechny návštěvníky autogramiády prosíme o dodržování předepsaných bezpečnostních opatření. Děkujeme!
URL:https://www.luxor.cz/blog/akce/brno-tomas-repka-autogramiada/
LOCATION:Knihkupectví Královo Pole\, Cimburkova 4\, Brno\, 61200\, Česká republika
ATTACH;FMTTYPE=image/jpeg:https://www.luxor.cz/blog/wp-content/uploads/Repka-FB_Luxor-1200x628-px_autogramiada-1.jpg
END:VEVENT
END:VCALENDAR