BEGIN:VCALENDAR
VERSION:2.0
PRODID:-//Blog knihkupectví Luxor - ECPv6.15.20//NONSGML v1.0//EN
CALSCALE:GREGORIAN
METHOD:PUBLISH
X-WR-CALNAME:Blog knihkupectví Luxor
X-ORIGINAL-URL:https://www.luxor.cz/blog
X-WR-CALDESC:Akce na Blog knihkupectví Luxor
REFRESH-INTERVAL;VALUE=DURATION:PT1H
X-Robots-Tag:noindex
X-PUBLISHED-TTL:PT1H
BEGIN:VTIMEZONE
TZID:Europe/Prague
BEGIN:DAYLIGHT
TZOFFSETFROM:+0100
TZOFFSETTO:+0200
TZNAME:CEST
DTSTART:20190331T010000
END:DAYLIGHT
BEGIN:STANDARD
TZOFFSETFROM:+0200
TZOFFSETTO:+0100
TZNAME:CET
DTSTART:20191027T010000
END:STANDARD
BEGIN:DAYLIGHT
TZOFFSETFROM:+0100
TZOFFSETTO:+0200
TZNAME:CEST
DTSTART:20200329T010000
END:DAYLIGHT
BEGIN:STANDARD
TZOFFSETFROM:+0200
TZOFFSETTO:+0100
TZNAME:CET
DTSTART:20201025T010000
END:STANDARD
BEGIN:DAYLIGHT
TZOFFSETFROM:+0100
TZOFFSETTO:+0200
TZNAME:CEST
DTSTART:20210328T010000
END:DAYLIGHT
BEGIN:STANDARD
TZOFFSETFROM:+0200
TZOFFSETTO:+0100
TZNAME:CET
DTSTART:20211031T010000
END:STANDARD
END:VTIMEZONE
BEGIN:VEVENT
DTSTART;TZID=Europe/Prague:20200924T160000
DTEND;TZID=Europe/Prague:20200924T173000
DTSTAMP:20260421T190426
CREATED:20200826T102652Z
LAST-MODIFIED:20200918T160814Z
UID:14244-1600963200-1600968600@www.luxor.cz
SUMMARY:ZRUŠENO: ZLÍN - Luboš Kulíšek - autogramiáda
DESCRIPTION:Vzhledem k nepříznivým okolnostem se tato akce bohužel ruší. Doufáme ale\, že si čas na knihy najdete tak jako tak 🙂  \n\n\n\nZnámý youtuber Luboš Kulíšek dal dohromady 10 důvodů\, které vedly k tomu\, že se stal youtuberem. V jeho deníčku s názvem Lubošova celkem fajn knížka najdete všechno\, čím si prošel – od narození až po cestu do Los Angeles. Bez obalu. Upřímně. Vážně. Vtipně. Přijďte se s Lubošem pozdravit a odneste si jeho knížku i s podpisem! Budeme se na vás těšit v knihkupectví Luxor v OC Zlaté Jablko ve Zlíně! \n\n\n\nVšechny návštěvníky autogramiády prosíme o\ndodržování Vládou předepsaných bezpečnostních opatření. Děkujeme!
URL:https://www.luxor.cz/blog/akce/lubos-kulisek-autogramiada/
LOCATION:Knihkupectví Luxor\, OC Zlaté Jablko\, Zlín\, Náměstí Míru 174\, Zlín 760 01\, Spojené státy
ATTACH;FMTTYPE=image/jpeg:https://www.luxor.cz/blog/wp-content/uploads/Lubos_celkem_fajn_kniha_BN_1200x628-1.jpg
END:VEVENT
END:VCALENDAR