BEGIN:VCALENDAR
VERSION:2.0
PRODID:-//Blog knihkupectví Luxor - ECPv6.15.20//NONSGML v1.0//EN
CALSCALE:GREGORIAN
METHOD:PUBLISH
X-WR-CALNAME:Blog knihkupectví Luxor
X-ORIGINAL-URL:https://www.luxor.cz/blog
X-WR-CALDESC:Akce na Blog knihkupectví Luxor
REFRESH-INTERVAL;VALUE=DURATION:PT1H
X-Robots-Tag:noindex
X-PUBLISHED-TTL:PT1H
BEGIN:VTIMEZONE
TZID:Europe/Prague
BEGIN:DAYLIGHT
TZOFFSETFROM:+0100
TZOFFSETTO:+0200
TZNAME:CEST
DTSTART:20190331T010000
END:DAYLIGHT
BEGIN:STANDARD
TZOFFSETFROM:+0200
TZOFFSETTO:+0100
TZNAME:CET
DTSTART:20191027T010000
END:STANDARD
BEGIN:DAYLIGHT
TZOFFSETFROM:+0100
TZOFFSETTO:+0200
TZNAME:CEST
DTSTART:20200329T010000
END:DAYLIGHT
BEGIN:STANDARD
TZOFFSETFROM:+0200
TZOFFSETTO:+0100
TZNAME:CET
DTSTART:20201025T010000
END:STANDARD
BEGIN:DAYLIGHT
TZOFFSETFROM:+0100
TZOFFSETTO:+0200
TZNAME:CEST
DTSTART:20210328T010000
END:DAYLIGHT
BEGIN:STANDARD
TZOFFSETFROM:+0200
TZOFFSETTO:+0100
TZNAME:CET
DTSTART:20211031T010000
END:STANDARD
END:VTIMEZONE
BEGIN:VEVENT
DTSTART;TZID=Europe/Prague:20200922T163000
DTEND;TZID=Europe/Prague:20200922T173000
DTSTAMP:20260421T190432
CREATED:20200916T122257Z
LAST-MODIFIED:20200921T113519Z
UID:14369-1600792200-1600795800@www.luxor.cz
SUMMARY:ZRUŠENO: Červená propiska - 100 perliček pro (ne)milovníky češtiny
DESCRIPTION:Ať už jste milovníci\, nebo nemilovníci češtiny\, v téhle knize si přijdete na své! Seznámíte se jednoduchou a zábavnou formou se stovkou nejčastějších pravopisných a gramatických chyb\, které my Češi děláme. Autorky přidaly užitečné pomůcky a tipy a celou knihu vytvořily s láskou k češtině! Kmotrem knihy se stane Michal Viewegh! \n\n\n\nVšechny návštěvníky autogramiády prosíme o dodržování předepsaných bezpečnostních opatření. Děkujeme!
URL:https://www.luxor.cz/blog/akce/cervena-propiska-100-perlicek-pro-nemilovniky-cestiny/
LOCATION:Palác knih Luxor\, Václavské náměstí 820/41\, Praha 1\, 11000\, Česká republika
ATTACH;FMTTYPE=image/jpeg:https://www.luxor.cz/blog/wp-content/uploads/Luxor_1200x628.jpg
END:VEVENT
BEGIN:VEVENT
DTSTART;TZID=Europe/Prague:20200922T180000
DTEND;TZID=Europe/Prague:20200922T190000
DTSTAMP:20260421T190432
CREATED:20200910T103005Z
LAST-MODIFIED:20200921T113458Z
UID:14342-1600797600-1600801200@www.luxor.cz
SUMMARY:ZRUŠENO: Sára Saudková - křest románu Ticho
DESCRIPTION:Sára Saudková vydává svůj další kriminální román! Titul Ticho ukazuje\, co by zdánlivě obyčejní lidé nejraději nechali navždy zapomenuté ve svých sklepech… \n\n\n\nKnihu pokřtí Beata Rajská\, Miloš Čermák a Jaroslav Svěcený.Všechny návštěvníky autogramiády prosíme o dodržování předepsaných bezpečnostních opatření. Děkujeme!
URL:https://www.luxor.cz/blog/akce/sara-saudkova-krest-romanu-ticho/
LOCATION:Palác knih Luxor\, Václavské náměstí 820/41\, Praha 1\, 11000\, Česká republika
ATTACH;FMTTYPE=image/jpeg:https://www.luxor.cz/blog/wp-content/uploads/Ticho_1200×628-px-Krest-knihy.jpg
END:VEVENT
END:VCALENDAR