BEGIN:VCALENDAR
VERSION:2.0
PRODID:-//Blog knihkupectví Luxor - ECPv6.15.20//NONSGML v1.0//EN
CALSCALE:GREGORIAN
METHOD:PUBLISH
X-ORIGINAL-URL:https://www.luxor.cz/blog
X-WR-CALDESC:Akce na Blog knihkupectví Luxor
REFRESH-INTERVAL;VALUE=DURATION:PT1H
X-Robots-Tag:noindex
X-PUBLISHED-TTL:PT1H
BEGIN:VTIMEZONE
TZID:Europe/Prague
BEGIN:DAYLIGHT
TZOFFSETFROM:+0100
TZOFFSETTO:+0200
TZNAME:CEST
DTSTART:20190331T010000
END:DAYLIGHT
BEGIN:STANDARD
TZOFFSETFROM:+0200
TZOFFSETTO:+0100
TZNAME:CET
DTSTART:20191027T010000
END:STANDARD
BEGIN:DAYLIGHT
TZOFFSETFROM:+0100
TZOFFSETTO:+0200
TZNAME:CEST
DTSTART:20200329T010000
END:DAYLIGHT
BEGIN:STANDARD
TZOFFSETFROM:+0200
TZOFFSETTO:+0100
TZNAME:CET
DTSTART:20201025T010000
END:STANDARD
BEGIN:DAYLIGHT
TZOFFSETFROM:+0100
TZOFFSETTO:+0200
TZNAME:CEST
DTSTART:20210328T010000
END:DAYLIGHT
BEGIN:STANDARD
TZOFFSETFROM:+0200
TZOFFSETTO:+0100
TZNAME:CET
DTSTART:20211031T010000
END:STANDARD
END:VTIMEZONE
BEGIN:VEVENT
DTSTART;TZID=Europe/Prague:20200909T150000
DTEND;TZID=Europe/Prague:20200909T160000
DTSTAMP:20260421T190120
CREATED:20200901T111327Z
LAST-MODIFIED:20200901T111328Z
UID:14287-1599663600-1599667200@www.luxor.cz
SUMMARY:Láďa Hruška - Průšvihy drzého záškoláka 2
DESCRIPTION:Začne to jako splněný sen – z rozhlasu se ozve hlášení\, že škola se do odvolání zavírá! Svět je vzhůru nohama\, ale Miky Marný se jen tak nedá! Tak právě takhle začíná další příběh záškoláka Mikyho\, hlavního hrdiny z oblíbené knížky Průšvihy drzého záškoláka. Knížku pro děti v Paláci knih Luxor představí a pokřtí její autor Láďa Hruška. \n\n\n\nVšechny návštěvníky autogramiády prosíme o dodržování předepsaných bezpečnostních opatření. Děkujeme!
URL:https://www.luxor.cz/blog/akce/lada-hruska-prusvihy-drzeho-zaskolaka-2/
LOCATION:Palác knih Luxor\, Václavské náměstí 820/41\, Praha 1\, 11000\, Česká republika
ATTACH;FMTTYPE=image/png:https://www.luxor.cz/blog/wp-content/uploads/Prusvihy2_1200x628.png
END:VEVENT
BEGIN:VEVENT
DTSTART;TZID=Europe/Prague:20200909T170000
DTEND;TZID=Europe/Prague:20200909T183000
DTSTAMP:20260421T190120
CREATED:20200820T083343Z
LAST-MODIFIED:20200820T083344Z
UID:14207-1599670800-1599676200@www.luxor.cz
SUMMARY:MIRO ŽBIRKA SONGBOOK – křest knihy a nového výběrového alba
DESCRIPTION:MIRO ŽBIRKA SONGBOOK je kniha mapující celou kariéru Mira Žbirky prostřednictvím textů jeho písní. Obsahuje akordové značky i příběhy o vzniku jeho alb. Spolu s knihou vychází i nové výběrové album na 3 CD a v kinech běží úspěšný film MEKY. Přijďte na setkání s hudební legendou Mirem Žbirkou a nechte si od něj knihu nebo CD podepsat!
URL:https://www.luxor.cz/blog/akce/miro-zbirka-songbook-krest-knihy-a-noveho-vyberoveho-alba/
LOCATION:Palác knih Luxor\, Václavské náměstí 820/41\, Praha 1\, 11000\, Česká republika
ATTACH;FMTTYPE=image/jpeg:https://www.luxor.cz/blog/wp-content/uploads/cover.jpg
END:VEVENT
END:VCALENDAR