BEGIN:VCALENDAR
VERSION:2.0
PRODID:-//Blog knihkupectví Luxor - ECPv6.15.20//NONSGML v1.0//EN
CALSCALE:GREGORIAN
METHOD:PUBLISH
X-WR-CALNAME:Blog knihkupectví Luxor
X-ORIGINAL-URL:https://www.luxor.cz/blog
X-WR-CALDESC:Akce na Blog knihkupectví Luxor
REFRESH-INTERVAL;VALUE=DURATION:PT1H
X-Robots-Tag:noindex
X-PUBLISHED-TTL:PT1H
BEGIN:VTIMEZONE
TZID:Europe/Prague
BEGIN:DAYLIGHT
TZOFFSETFROM:+0100
TZOFFSETTO:+0200
TZNAME:CEST
DTSTART:20190331T010000
END:DAYLIGHT
BEGIN:STANDARD
TZOFFSETFROM:+0200
TZOFFSETTO:+0100
TZNAME:CET
DTSTART:20191027T010000
END:STANDARD
BEGIN:DAYLIGHT
TZOFFSETFROM:+0100
TZOFFSETTO:+0200
TZNAME:CEST
DTSTART:20200329T010000
END:DAYLIGHT
BEGIN:STANDARD
TZOFFSETFROM:+0200
TZOFFSETTO:+0100
TZNAME:CET
DTSTART:20201025T010000
END:STANDARD
BEGIN:DAYLIGHT
TZOFFSETFROM:+0100
TZOFFSETTO:+0200
TZNAME:CEST
DTSTART:20210328T010000
END:DAYLIGHT
BEGIN:STANDARD
TZOFFSETFROM:+0200
TZOFFSETTO:+0100
TZNAME:CET
DTSTART:20211031T010000
END:STANDARD
END:VTIMEZONE
BEGIN:VEVENT
DTSTART;TZID=Europe/Prague:20200903T180000
DTEND;TZID=Europe/Prague:20200903T193000
DTSTAMP:20260422T025621
CREATED:20200807T142234Z
LAST-MODIFIED:20200807T142236Z
UID:14171-1599156000-1599161400@www.luxor.cz
SUMMARY:KLÁŠTER SV. ANEŽKY ČESKÉ: Marek Šindelka a Klára Vlasáková - autorské čtení
DESCRIPTION:Aneb dva výrazné hlasy soudobé české literární scény..Přijďte na čtení\, které proběhne v nádherné kulise zahrad Kláštera sv. Anežky České! Těšíme se na vás!Marek Šindelka (*1984) je básník a prozaik. Za prvotinu Strychnin a jiné básně mu byla roku 2006 udělena Cena Jiřího Ortena. Roku 2008 vydal debutový román Chyba (nominace na Cenu Josefa Škvoreckého 2009)\, který roku 2011 vyšel také v komiksové podobě. Dvakrát získal ocenění Magnesia Litera za prózu: poprvé roku 2012 za soubor povídek Zůstaňte s námi\, podruhé roku 2017 za román Únava materiálu. Další povídkový soubor Mapa Anny publikoval roku 2014. Roku 2018 se podílel na komiksu Svatá Barbora; autoři za něj obdrželi cenu Muriel. Prózy Marka Šindelky vyšly již ve dvanácti jazycích.Klára Vlasáková (*1990) je dramaturgyně\, publicistka a scenáristka spolupracující dlouhodobě s Českou televizí nebo Českým rozhlasem. Za svůj filmový scénář Běžná selhání obdržela ocenění Filmové nadace Hvězda zítřka a natáčení snímku se připravuje. Její povídky můžete najít ve sbornících Divočina nebo Budoucnost. Nejnovější Praskliny jsou autorčiným románovým debutem.
URL:https://www.luxor.cz/blog/akce/klaster-sv-anezky-ceske-marek-sindelka-a-klara-vlasakova-autorske-cteni/
LOCATION:Klášter sv. Anežky České\, U Milosrdných 17\, Praha 1\, Česká republika
ATTACH;FMTTYPE=image/jpeg:https://www.luxor.cz/blog/wp-content/uploads/1200x628-px-3.jpg
END:VEVENT
END:VCALENDAR