BEGIN:VCALENDAR
VERSION:2.0
PRODID:-//Blog knihkupectví Luxor - ECPv6.15.20//NONSGML v1.0//EN
CALSCALE:GREGORIAN
METHOD:PUBLISH
X-WR-CALNAME:Blog knihkupectví Luxor
X-ORIGINAL-URL:https://www.luxor.cz/blog
X-WR-CALDESC:Akce na Blog knihkupectví Luxor
REFRESH-INTERVAL;VALUE=DURATION:PT1H
X-Robots-Tag:noindex
X-PUBLISHED-TTL:PT1H
BEGIN:VTIMEZONE
TZID:Europe/Prague
BEGIN:DAYLIGHT
TZOFFSETFROM:+0100
TZOFFSETTO:+0200
TZNAME:CEST
DTSTART:20190331T010000
END:DAYLIGHT
BEGIN:STANDARD
TZOFFSETFROM:+0200
TZOFFSETTO:+0100
TZNAME:CET
DTSTART:20191027T010000
END:STANDARD
BEGIN:DAYLIGHT
TZOFFSETFROM:+0100
TZOFFSETTO:+0200
TZNAME:CEST
DTSTART:20200329T010000
END:DAYLIGHT
BEGIN:STANDARD
TZOFFSETFROM:+0200
TZOFFSETTO:+0100
TZNAME:CET
DTSTART:20201025T010000
END:STANDARD
BEGIN:DAYLIGHT
TZOFFSETFROM:+0100
TZOFFSETTO:+0200
TZNAME:CEST
DTSTART:20210328T010000
END:DAYLIGHT
BEGIN:STANDARD
TZOFFSETFROM:+0200
TZOFFSETTO:+0100
TZNAME:CET
DTSTART:20211031T010000
END:STANDARD
END:VTIMEZONE
BEGIN:VEVENT
DTSTART;TZID=Europe/Prague:20200827T170000
DTEND;TZID=Europe/Prague:20200827T180000
DTSTAMP:20260422T011240
CREATED:20200730T145747Z
LAST-MODIFIED:20200806T185522Z
UID:14141-1598547600-1598551200@www.luxor.cz
SUMMARY:KLADNO: Ondřej Závodský - Výstup na vrchol korupce
DESCRIPTION:Ondřej Závodský uvede další ze série knih vznikajících za podpory Nadačního fondu proti korupci. Renomovaný právník se v nové knize Výstup na vrchol korupce pouští do rozboru nekalostí na pozadí naší politické scény\, ale rozebírá i politickou situaci v Rusku a Číně. Těšit se můžete na besedu a autogramiádu!
URL:https://www.luxor.cz/blog/akce/ondrej-zavodsky-vystup-na-vrchol-korupce-2/
LOCATION:Knihkupectví Central Kladno\, Petra Bezruče 3388\, Kladno\, 27201\, Česká republika
ATTACH;FMTTYPE=image/jpeg:https://www.luxor.cz/blog/wp-content/uploads/Vystup_FB2.jpg
END:VEVENT
BEGIN:VEVENT
DTSTART;TZID=Europe/Prague:20200827T170000
DTEND;TZID=Europe/Prague:20200827T180000
DTSTAMP:20260422T011240
CREATED:20200806T185357Z
LAST-MODIFIED:20200806T185359Z
UID:14161-1598547600-1598551200@www.luxor.cz
SUMMARY:PLZEŇ: Barbara Nesvadbová - beseda a autogramiáda k novému románu!
DESCRIPTION:Barbara Nesvadbová vydává nový román! Knižní novinka z pera oblíbené spisovatelky a inspirativní ženy nese název Iluze a vypráví o nesobecké síle lásky i často neúspěšném odhodlání nevstoupit podruhé do stejné řeky. V knihkupectví Luxor proběhne u příležitosti vydání knihy beseda a autogramiáda! Budeme se na vás těšit!
URL:https://www.luxor.cz/blog/akce/plzen-barbara-nesvadbova-beseda-a-autogramiada-k-novemu-romanu/
LOCATION:Knihkupectví Plaza\, OC Plaza\, Plzeň\, 30100\, Česká republika
ATTACH;FMTTYPE=image/jpeg:https://www.luxor.cz/blog/wp-content/uploads/1200x628-px_v2-1.jpg
END:VEVENT
END:VCALENDAR