BEGIN:VCALENDAR
VERSION:2.0
PRODID:-//Blog knihkupectví Luxor - ECPv6.15.20//NONSGML v1.0//EN
CALSCALE:GREGORIAN
METHOD:PUBLISH
X-ORIGINAL-URL:https://www.luxor.cz/blog
X-WR-CALDESC:Akce na Blog knihkupectví Luxor
REFRESH-INTERVAL;VALUE=DURATION:PT1H
X-Robots-Tag:noindex
X-PUBLISHED-TTL:PT1H
BEGIN:VTIMEZONE
TZID:Europe/Prague
BEGIN:DAYLIGHT
TZOFFSETFROM:+0100
TZOFFSETTO:+0200
TZNAME:CEST
DTSTART:20190331T010000
END:DAYLIGHT
BEGIN:STANDARD
TZOFFSETFROM:+0200
TZOFFSETTO:+0100
TZNAME:CET
DTSTART:20191027T010000
END:STANDARD
BEGIN:DAYLIGHT
TZOFFSETFROM:+0100
TZOFFSETTO:+0200
TZNAME:CEST
DTSTART:20200329T010000
END:DAYLIGHT
BEGIN:STANDARD
TZOFFSETFROM:+0200
TZOFFSETTO:+0100
TZNAME:CET
DTSTART:20201025T010000
END:STANDARD
BEGIN:DAYLIGHT
TZOFFSETFROM:+0100
TZOFFSETTO:+0200
TZNAME:CEST
DTSTART:20210328T010000
END:DAYLIGHT
BEGIN:STANDARD
TZOFFSETFROM:+0200
TZOFFSETTO:+0100
TZNAME:CET
DTSTART:20211031T010000
END:STANDARD
END:VTIMEZONE
BEGIN:VEVENT
DTSTART;TZID=Europe/Prague:20200818T170000
DTEND;TZID=Europe/Prague:20200818T183000
DTSTAMP:20260421T142836
CREATED:20200728T160004Z
LAST-MODIFIED:20200728T160159Z
UID:14130-1597770000-1597775400@www.luxor.cz
SUMMARY:KLÁŠTER SV. ANEŽKY ČESKÉ: Šarlatán – Křest knihy za přítomnosti tvůrců filmu
DESCRIPTION:Nevšední příběh Jana Mikoláška\, výjimečného muže obdařeného léčitelskými schopnostmi\, se stal podnětem k strhujícímu filmovému dramatu. Snímek Šarlatán oceňované polské režisérky Agnieszky Holland pyšnící se skvělým hereckým obsazením (Ivan Trojan\, Josef Trojan nebo Martin Myšička) právě míří do českých kin. Josef Klíma převedl do knižní podoby scénář Marka Epsteina a právě knižní verzi příběhu uvedeme a pokřtíme za přítomnosti tvůrců filmu. Hosty budou Agnieszka Holland\, Josef Trojan\, Josef Klíma a další! \n\n\n\nVíce o knize.
URL:https://www.luxor.cz/blog/akce/klaster-sv-anezky-ceske-sarlatan-krest-knihy-za-pritomnosti-tvurcu-filmu/
LOCATION:Klášter sv. Anežky České\, U Milosrdných 17\, Praha 1\, Česká republika
ATTACH;FMTTYPE=image/jpeg:https://www.luxor.cz/blog/wp-content/uploads/sarlatan_1200x628-1.jpg
END:VEVENT
END:VCALENDAR