BEGIN:VCALENDAR
VERSION:2.0
PRODID:-//Blog knihkupectví Luxor - ECPv6.15.20//NONSGML v1.0//EN
CALSCALE:GREGORIAN
METHOD:PUBLISH
X-WR-CALNAME:Blog knihkupectví Luxor
X-ORIGINAL-URL:https://www.luxor.cz/blog
X-WR-CALDESC:Akce na Blog knihkupectví Luxor
REFRESH-INTERVAL;VALUE=DURATION:PT1H
X-Robots-Tag:noindex
X-PUBLISHED-TTL:PT1H
BEGIN:VTIMEZONE
TZID:Europe/Prague
BEGIN:DAYLIGHT
TZOFFSETFROM:+0100
TZOFFSETTO:+0200
TZNAME:CEST
DTSTART:20190331T010000
END:DAYLIGHT
BEGIN:STANDARD
TZOFFSETFROM:+0200
TZOFFSETTO:+0100
TZNAME:CET
DTSTART:20191027T010000
END:STANDARD
BEGIN:DAYLIGHT
TZOFFSETFROM:+0100
TZOFFSETTO:+0200
TZNAME:CEST
DTSTART:20200329T010000
END:DAYLIGHT
BEGIN:STANDARD
TZOFFSETFROM:+0200
TZOFFSETTO:+0100
TZNAME:CET
DTSTART:20201025T010000
END:STANDARD
BEGIN:DAYLIGHT
TZOFFSETFROM:+0100
TZOFFSETTO:+0200
TZNAME:CEST
DTSTART:20210328T010000
END:DAYLIGHT
BEGIN:STANDARD
TZOFFSETFROM:+0200
TZOFFSETTO:+0100
TZNAME:CET
DTSTART:20211031T010000
END:STANDARD
END:VTIMEZONE
BEGIN:VEVENT
DTSTART;TZID=Europe/Prague:20200805T180000
DTEND;TZID=Europe/Prague:20200805T193000
DTSTAMP:20260421T215117
CREATED:20200724T120033Z
LAST-MODIFIED:20200724T120034Z
UID:14108-1596650400-1596655800@www.luxor.cz
SUMMARY:KLÁŠTER SV. ANEŽKY ČESKÉ: Martin Řezníček - Rozpojené státy
DESCRIPTION:Na Manhattanu radil Henrymu Kissingerovi s výběrem kravaty před rozhovorem o Václavu Havlovi. V Texasu strávil během hurikánu týden v bahně a dešti s lidmi\, kteří přišli o všechno. Přinášel zprávy z kuloárů Kongresu i ze Silicon Valley – takřka každý večer po dobu pěti let coby zahraniční zpravodaj ČT v USA. Kniha Martina Řezníčka místy vyvrací\, jinde potvrzuje stereotypy\, jež o USA máme.  \n\n\n\nUvedení knihy a beseda proběhne v rámci Letního programu Národní galerie Praha s názvem NGP ― Anežka LIVE. \n\n\n\nVíce o knize.
URL:https://www.luxor.cz/blog/akce/klaster-sv-anezky-ceske-martin-reznicek-rozpojene-staty/
LOCATION:Klášter sv. Anežky České\, U Milosrdných 17\, Praha 1\, Česká republika
ATTACH;FMTTYPE=image/jpeg:https://www.luxor.cz/blog/wp-content/uploads/1200x628-px.jpg
END:VEVENT
END:VCALENDAR