BEGIN:VCALENDAR
VERSION:2.0
PRODID:-//Blog knihkupectví Luxor - ECPv6.15.20//NONSGML v1.0//EN
CALSCALE:GREGORIAN
METHOD:PUBLISH
X-WR-CALNAME:Blog knihkupectví Luxor
X-ORIGINAL-URL:https://www.luxor.cz/blog
X-WR-CALDESC:Akce na Blog knihkupectví Luxor
REFRESH-INTERVAL;VALUE=DURATION:PT1H
X-Robots-Tag:noindex
X-PUBLISHED-TTL:PT1H
BEGIN:VTIMEZONE
TZID:Europe/Prague
BEGIN:DAYLIGHT
TZOFFSETFROM:+0100
TZOFFSETTO:+0200
TZNAME:CEST
DTSTART:20180325T010000
END:DAYLIGHT
BEGIN:STANDARD
TZOFFSETFROM:+0200
TZOFFSETTO:+0100
TZNAME:CET
DTSTART:20181028T010000
END:STANDARD
BEGIN:DAYLIGHT
TZOFFSETFROM:+0100
TZOFFSETTO:+0200
TZNAME:CEST
DTSTART:20190331T010000
END:DAYLIGHT
BEGIN:STANDARD
TZOFFSETFROM:+0200
TZOFFSETTO:+0100
TZNAME:CET
DTSTART:20191027T010000
END:STANDARD
BEGIN:DAYLIGHT
TZOFFSETFROM:+0100
TZOFFSETTO:+0200
TZNAME:CEST
DTSTART:20200329T010000
END:DAYLIGHT
BEGIN:STANDARD
TZOFFSETFROM:+0200
TZOFFSETTO:+0100
TZNAME:CET
DTSTART:20201025T010000
END:STANDARD
END:VTIMEZONE
BEGIN:VEVENT
DTSTART;TZID=Europe/Prague:20191121T160000
DTEND;TZID=Europe/Prague:20191121T180000
DTSTAMP:20260421T190248
CREATED:20191112T104624Z
LAST-MODIFIED:20191112T104624Z
UID:5342-1574352000-1574359200@www.luxor.cz
SUMMARY:Čtyřlístek: První půlstoletí v Třeskoprskách
DESCRIPTION:Tato elegantně vyvedená a bohatě ilustrovaná kniha vychází u příležitosti padesátého výročí vydání prvního sešitu komiksového časopisu Čtyřlístek. V šesti rozsáhlých oddílech se čtenář stane svědkem vzniku i rozmachu „fenoménu Čtyřlístek“. Kniha tak mapuje v podstatě celé tvůrčí období otce seriálu pana Jaroslava Němečka. Její součástí je i speciální příloha obsahující například faksimile prvního vydání nebo grafický list s podpisem pana Němečka. Vše je navíc uloženo v nápaditě zpracovaném ochranném pouzdru. Přílohy: • Grafický list s podpisem Jaroslava Němečka • Faksimile prvního vydání Čtyřlístku • Čtyřlístek EXTRA • Sada pohlednic • Plakát\, do kterého jsou přílohy vloženy Formát knihy včetně pouzdra 245 × 280 mm \n 
URL:https://www.luxor.cz/blog/akce/ctyrlistek-prvni-pulstoleti-v-treskoprskach/
LOCATION:Palác knih Luxor\, Václavské náměstí 820/41\, Praha 1\, 11000\, Česká republika
ATTACH;FMTTYPE=image/jpeg:https://www.luxor.cz/blog/wp-content/uploads/1200x628.jpg
END:VEVENT
BEGIN:VEVENT
DTSTART;TZID=Europe/Prague:20191121T170000
DTEND;TZID=Europe/Prague:20191121T180000
DTSTAMP:20260421T190248
CREATED:20191104T135648Z
LAST-MODIFIED:20191104T135729Z
UID:5209-1574355600-1574359200@www.luxor.cz
SUMMARY:SMÍCHOV: Hvězdy dětem – křest charitativního kalendáře s báječnými hosty
DESCRIPTION:
URL:https://www.luxor.cz/blog/akce/hvezdy-detem-krest-charitativniho-kalendare-s-bajecnymi-hosty/
LOCATION:Knihkupectví Nový Smíchov\, OC Nový Smíchov\, Praha 5\, 15000\, Česká republika
ATTACH;FMTTYPE=image/jpeg:https://www.luxor.cz/blog/wp-content/uploads/1200x628px-oc.jpg
END:VEVENT
END:VCALENDAR