BEGIN:VCALENDAR
VERSION:2.0
PRODID:-//Blog knihkupectví Luxor - ECPv6.15.20//NONSGML v1.0//EN
CALSCALE:GREGORIAN
METHOD:PUBLISH
X-ORIGINAL-URL:https://www.luxor.cz/blog
X-WR-CALDESC:Akce na Blog knihkupectví Luxor
REFRESH-INTERVAL;VALUE=DURATION:PT1H
X-Robots-Tag:noindex
X-PUBLISHED-TTL:PT1H
BEGIN:VTIMEZONE
TZID:Europe/Prague
BEGIN:DAYLIGHT
TZOFFSETFROM:+0100
TZOFFSETTO:+0200
TZNAME:CEST
DTSTART:20180325T010000
END:DAYLIGHT
BEGIN:STANDARD
TZOFFSETFROM:+0200
TZOFFSETTO:+0100
TZNAME:CET
DTSTART:20181028T010000
END:STANDARD
BEGIN:DAYLIGHT
TZOFFSETFROM:+0100
TZOFFSETTO:+0200
TZNAME:CEST
DTSTART:20190331T010000
END:DAYLIGHT
BEGIN:STANDARD
TZOFFSETFROM:+0200
TZOFFSETTO:+0100
TZNAME:CET
DTSTART:20191027T010000
END:STANDARD
BEGIN:DAYLIGHT
TZOFFSETFROM:+0100
TZOFFSETTO:+0200
TZNAME:CEST
DTSTART:20200329T010000
END:DAYLIGHT
BEGIN:STANDARD
TZOFFSETFROM:+0200
TZOFFSETTO:+0100
TZNAME:CET
DTSTART:20201025T010000
END:STANDARD
END:VTIMEZONE
BEGIN:VEVENT
DTSTART;TZID=Europe/Prague:20191119T160000
DTEND;TZID=Europe/Prague:20191119T170000
DTSTAMP:20260421T132615
CREATED:20191030T163525Z
LAST-MODIFIED:20191030T163525Z
UID:5165-1574179200-1574182800@www.luxor.cz
SUMMARY:Michal Petrov - Jeans Story
DESCRIPTION:Džíny a rokenrol jsou mocnější než Rudá armáda\, řekl kdysi francouzský filozof Régis Debray a je fakt\, že zatímco armáda s rudou hvězdou z Československa odtáhla\, džíny zůstaly. Při jejich invazi nebyly vidět hlavně pušek\, nýbrž pačesaté hlavy prvních odvážlivců. Žádné zákazy téhle vlně nedokázaly učinit přítrž\, žádná překážka nebyla dost vysoká\, aby ji modré nohavice nepřekročily. Ani v Československu\, ani jinde ve východním bloku\, jak dokazuje Michal Petrov ve své poslední knize.
URL:https://www.luxor.cz/blog/akce/michal-petrov-jeans-story/
LOCATION:Palác knih Luxor\, Václavské náměstí 820/41\, Praha 1\, 11000\, Česká republika
ATTACH;FMTTYPE=image/png:https://www.luxor.cz/blog/wp-content/uploads/JS_1200x628_krest.png
END:VEVENT
BEGIN:VEVENT
DTSTART;TZID=Europe/Prague:20191119T170000
DTEND;TZID=Europe/Prague:20191119T180000
DTSTAMP:20260421T132615
CREATED:20191101T055621Z
LAST-MODIFIED:20191101T062258Z
UID:5175-1574182800-1574186400@www.luxor.cz
SUMMARY:SMÍCHOV: Dušan Kadlec - Ze dna ke hvězdám
DESCRIPTION:Tato kniha ti ukáže\, jak překonat těžké časy a zdolat i to zdánlivě nepřekonatelné. Je o tom\, jak v životě zazářit i navzdory všemu tomu špatnému\, co se nám v něm přihodí. O tom\, jak si svůj život zamilovat i přesto\, že je těžký. O tom\, jak vyletět ke hvězdám\, i když se nás problémy snaží stáhnout na dno. O tom\, jak být šťastní\, i když se nám to občas zdá nemožné. Proč jsem ji napsal: Život je úžasný dar. Ten nejcennější a nejúchvatnější. Hotový zázrak. Plný radosti\, štěstí a chvil\, které nám berou dech. Plný lásky\, zábavy a úžasných rozhovorů. Je zkrátka skvělý a nádherný. Ale pravdou je\, že nám občas rozdá rány tak tvrdé\, jako by nás mučila nepřátelská kontrarozvědka. Jako bychom právě bojovali v ringu se šampiónem těžké váhy o titul. Nikdo z nás zkrátka životem neprojde bez zranění. Bez škrábanců. Bez zlomenin. Bez utržených ran. A právě tady přichází na scénu tato knížka. S čím ti dokáže tato kniha pomoci: Ukáže ti\, jak se z kolen postavit opět na vlastní nohy. Přivede tě od zlomeného k nezlomnému. Od slabého k silnému. Od bezradného k rozhodnému. Od nespokojeného k vděčnému. Od momentu\, kdy to máš chuť všechno vzdát\, k momentu\, kdy budeš svůj život znovu milovat. Dodá ti odvahu\, aby ses svým problémům postavil čelem. Pomůže ti podívat se svým démonům do očí a říct: „Stačilo!“. Pomůže ti vyhnat všechny ty kostlivce ze skříně. Avšak pozor\, samotná kniha tě nezachrání. Ukáže ti\, jak se můžeš zachránit sám. Protože přesně to potřebuješ nejvíce. Vyhrnout si rukávy a poprat se o své štěstí. Co se v knize dozvíš: Dočteš se\, jaký smysl těžké časy v našich životech mají. Jak důležité jsou pro naše přežití. Jak klíčové jsou pro naše konečné štěstí. A jak dokážeš všechnu tu bolest a to neštěstí využít ve svůj prospěch. Řádky v knize budou o akceptování těžkých pravd. O práci na sobě. O překonávání se. O zdolávání vnitřních soubojů. O zvládání zátěžových situací. O bolesti\, která nám pomůže růst. O vítězstvích\, která získáme skrz porážky. O moudrosti nasbírané prostřednictvím tvrdé a nechtěné lekce. Kniha není psaná odborně či složitě. Žádné jazykolomné výrazy. Je psaná jednoduše a poutavě. Zajímavě a zábavně. Uchvátí tě hodnotnými informacemi\, získá si tě silnými příběhy a rozesměje tě pokaždé\, když si uvědomíš\, jak jednoduché je vypořádat se s nepřízní osudu a těžkými časy a začít konečně žít život\, který ti bude opět dělat radost. Nenajdeš v ní bláboly. Nebudu ti mazat med kolem pusy\, ani ukazovat svět přes růžové brýle. Žádné zavádění nebo polopravdy. Najdeš v ní jen čistou pravdu a slova\, která tě povzbudí. Dodají ti sílu. Odvahu. Odhodlání. Řádky nasáklé optimismem a pozitivní energií. Inspiraci bojovat a snažit se dále. Důvody nevzdat to. A hlavně informace\, které ti pomohou zdolávat všechny ty pohoří ležící na cestě za tvým štěstím. A pokud si stále na vážkách\, dovol\, abych ti rozhodování ulehčil. Stáhni si úryvek z knihy ve formě e-knihy a nech slova v něm\, ať tě přesvědčí!
URL:https://www.luxor.cz/blog/akce/smichov-dusan-kadlec-ze-dna-ke-hvezdam/
LOCATION:Knihkupectví Nový Smíchov\, OC Nový Smíchov\, Praha 5\, 15000\, Česká republika
ATTACH;FMTTYPE=image/jpeg:https://www.luxor.cz/blog/wp-content/uploads/Luxor-FB.jpg
END:VEVENT
BEGIN:VEVENT
DTSTART;TZID=Europe/Prague:20191119T180000
DTEND;TZID=Europe/Prague:20191119T190000
DTSTAMP:20260421T132615
CREATED:20191113T115834Z
LAST-MODIFIED:20191113T115945Z
UID:5371-1574186400-1574190000@www.luxor.cz
SUMMARY:Lukáš Pavlásek - Soutěž jedlíků
DESCRIPTION:Kniha Soutěž jedlíků obsahuje 18 povídek z pera oblíbeného českého komika Lukáše Pavláska. Humorně laděné příhody zachycují absurdní\, ale zároveň lidské situace ze života. Hrdinové těchto příběhů zažívají nelehké či prazvláštní chvíle\, které mohou potkat obyčejné lidi v běžných prostorách\, jakými jsou hospoda\, lékařská ordinace\, domov\, plovárna nebo třeba také policejní stanice.
URL:https://www.luxor.cz/blog/akce/lukas-pavlasek-soutez-jedliku/
LOCATION:Palác knih Luxor\, Václavské náměstí 820/41\, Praha 1\, 11000\, Česká republika
ATTACH;FMTTYPE=image/png:https://www.luxor.cz/blog/wp-content/uploads/pavlasek_luxor_.png
ORGANIZER;CN="Luxor":MAILTO:info@luxor.cz
END:VEVENT
END:VCALENDAR