BEGIN:VCALENDAR
VERSION:2.0
PRODID:-//Blog knihkupectví Luxor - ECPv6.15.20//NONSGML v1.0//EN
CALSCALE:GREGORIAN
METHOD:PUBLISH
X-WR-CALNAME:Blog knihkupectví Luxor
X-ORIGINAL-URL:https://www.luxor.cz/blog
X-WR-CALDESC:Akce na Blog knihkupectví Luxor
REFRESH-INTERVAL;VALUE=DURATION:PT1H
X-Robots-Tag:noindex
X-PUBLISHED-TTL:PT1H
BEGIN:VTIMEZONE
TZID:Europe/Prague
BEGIN:DAYLIGHT
TZOFFSETFROM:+0100
TZOFFSETTO:+0200
TZNAME:CEST
DTSTART:20180325T010000
END:DAYLIGHT
BEGIN:STANDARD
TZOFFSETFROM:+0200
TZOFFSETTO:+0100
TZNAME:CET
DTSTART:20181028T010000
END:STANDARD
BEGIN:DAYLIGHT
TZOFFSETFROM:+0100
TZOFFSETTO:+0200
TZNAME:CEST
DTSTART:20190331T010000
END:DAYLIGHT
BEGIN:STANDARD
TZOFFSETFROM:+0200
TZOFFSETTO:+0100
TZNAME:CET
DTSTART:20191027T010000
END:STANDARD
BEGIN:DAYLIGHT
TZOFFSETFROM:+0100
TZOFFSETTO:+0200
TZNAME:CEST
DTSTART:20200329T010000
END:DAYLIGHT
BEGIN:STANDARD
TZOFFSETFROM:+0200
TZOFFSETTO:+0100
TZNAME:CET
DTSTART:20201025T010000
END:STANDARD
END:VTIMEZONE
BEGIN:VEVENT
DTSTART;TZID=Europe/Prague:20191118T080000
DTEND;TZID=Europe/Prague:20191118T170000
DTSTAMP:20260421T144305
CREATED:20191024T133121Z
LAST-MODIFIED:20191118T082502Z
UID:5109-1574064000-1574096400@www.luxor.cz
SUMMARY:SMÍCHOV: Lucie & Nicole z A Cup Of Style
DESCRIPTION:Přijďte si pro nové Motivační diáře od Lucky & Nicole Ehrenbergerových a využijte příležitosti si s nimi popovídat! Třeba o sychravém podzimu\, blížících se Vánocích nebo novém podcastu. Srdečně vás zveme na besedu a autogramiádu Lucky & Nicole z A Cup Of Style! Budeme se na vás těšit!
URL:https://www.luxor.cz/blog/akce/lucie-nicole-z-a-cup-of-style/
LOCATION:Knihkupectví Nový Smíchov\, OC Nový Smíchov\, Praha 5\, 15000\, Česká republika
ATTACH;FMTTYPE=image/jpeg:https://www.luxor.cz/blog/wp-content/uploads/2-1.jpg
END:VEVENT
BEGIN:VEVENT
DTSTART;TZID=Europe/Prague:20191118T180000
DTEND;TZID=Europe/Prague:20191118T190000
DTSTAMP:20260421T144305
CREATED:20191112T091859Z
LAST-MODIFIED:20191119T114054Z
UID:5338-1574100000-1574103600@www.luxor.cz
SUMMARY:Karel Hvížďala - Výslech revolucionářů
DESCRIPTION:
URL:https://www.luxor.cz/blog/akce/karel-hvizdala-vyslech-revolucionaru/
LOCATION:Palác knih Luxor\, Václavské náměstí 820/41\, Praha 1\, 11000\, Česká republika
ATTACH;FMTTYPE=image/jpeg:https://www.luxor.cz/blog/wp-content/uploads/Hvizd-fb_krest.jpg
END:VEVENT
END:VCALENDAR