BEGIN:VCALENDAR
VERSION:2.0
PRODID:-//Blog knihkupectví Luxor - ECPv6.15.20//NONSGML v1.0//EN
CALSCALE:GREGORIAN
METHOD:PUBLISH
X-ORIGINAL-URL:https://www.luxor.cz/blog
X-WR-CALDESC:Akce na Blog knihkupectví Luxor
REFRESH-INTERVAL;VALUE=DURATION:PT1H
X-Robots-Tag:noindex
X-PUBLISHED-TTL:PT1H
BEGIN:VTIMEZONE
TZID:Europe/Prague
BEGIN:DAYLIGHT
TZOFFSETFROM:+0100
TZOFFSETTO:+0200
TZNAME:CEST
DTSTART:20180325T010000
END:DAYLIGHT
BEGIN:STANDARD
TZOFFSETFROM:+0200
TZOFFSETTO:+0100
TZNAME:CET
DTSTART:20181028T010000
END:STANDARD
BEGIN:DAYLIGHT
TZOFFSETFROM:+0100
TZOFFSETTO:+0200
TZNAME:CEST
DTSTART:20190331T010000
END:DAYLIGHT
BEGIN:STANDARD
TZOFFSETFROM:+0200
TZOFFSETTO:+0100
TZNAME:CET
DTSTART:20191027T010000
END:STANDARD
BEGIN:DAYLIGHT
TZOFFSETFROM:+0100
TZOFFSETTO:+0200
TZNAME:CEST
DTSTART:20200329T010000
END:DAYLIGHT
BEGIN:STANDARD
TZOFFSETFROM:+0200
TZOFFSETTO:+0100
TZNAME:CET
DTSTART:20201025T010000
END:STANDARD
END:VTIMEZONE
BEGIN:VEVENT
DTSTART;TZID=Europe/Prague:20191114T150000
DTEND;TZID=Europe/Prague:20191114T160000
DTSTAMP:20260422T000745
CREATED:20191106T140227Z
LAST-MODIFIED:20191106T140227Z
UID:5249-1573743600-1573747200@www.luxor.cz
SUMMARY:young_block - papírový pomník k 30 letům svobody
DESCRIPTION:Svůj vlastní zápisník s unikátním číslováním bude možno s předstihem rezervovat na webových stránkách výrobce (www.youngblock.cz). Reálný výtisk pak bude k vyzvednutí v den křtu v Paláci knih Luxor na Václavském náměstí.
URL:https://www.luxor.cz/blog/akce/young_block-papirovy-pomnik-k-30-letum-svobody/
LOCATION:Palác knih Luxor\, Václavské náměstí 820/41\, Praha 1\, 11000\, Česká republika
ATTACH;FMTTYPE=image/jpeg:https://www.luxor.cz/blog/wp-content/uploads/2-2-scaled.jpg
END:VEVENT
BEGIN:VEVENT
DTSTART;TZID=Europe/Prague:20191114T170000
DTEND;TZID=Europe/Prague:20191114T180000
DTSTAMP:20260422T000745
CREATED:20191024T123441Z
LAST-MODIFIED:20191024T123734Z
UID:5104-1573750800-1573754400@www.luxor.cz
SUMMARY:Aleš Palán – audiokniha Raději zešílet v divočině a nová kniha Návrat do divočiny
DESCRIPTION:Raději zešílet v divočině – Setkání s šumavskými samotáři\nNěkteří si postavili v lese chýši\, jiní žijí v maringotkách\, případně na horských samotách. Jeden přespává přímo pod stromy. K některým se dá dojet autem\, k dalším se musí pěšky. Šumavští poustevníci\, samotáři\, jejichž názory a životy se nepodobají vůbec ničemu\, co znáte. O setkáních s nimi je tato kniha. Osm rozhovorů s lidmi žijícími dlouhodobě mimo civilizaci přináší pohled do tajuplného světa\, o jehož existenci nic nevíme. Setkáváme se zde s divokými zvířaty\, krutými zimami\, dokonce i s přízraky. Někteří samotáři jsou vysloveně racionální (zejména obě zpovídané ženy)\, jiní vyprávějí svůj život trochu jako mýtus. I ten má svou výpovědní hodnotu\, jen jinou než výčet ověřených faktů. Způsob\, jakým novodobí poustevníci v krajině přebývají\, se ostatně dost možná mýtem brzy stane. Pokud se jím už nestal. Smyslem knihy Raději zešílet v divočině není katalogizace podivínů ani alternativní průvodce po největším českém pohoří. Je jím ponor do tajuplných zákoutí krajiny a lidské duše. Do dlouhodobé samoty a odloučenosti\, do paralelního světa\, který přesto tomu našemu klade velmi znepokojující otázky. Rozhovory s šumavskými samotáři vedl spisovatel a publicista Aleš Palán (Magnesia Litera\, Cena Českého literárního fondu)\, snímky přispěl fotograf Jan Šibík (Czech Press Photo\, Golden Prisma Award). \nNávrat do divočiny\nV knize Raději zešílet v divočině přinesl spisovatel Aleš Palán rozhovory s šumavskými samotáři. Zaznamenal jedinečné příběhy lidí\, kteří žijí skryti v maringotkách a na horských samotách\, někteří zcela bez identity. Výpovědi solitérů z nejrozsáhlejšího českého pohoří zaznamenaly mezi čtenáři nebývalý ohlas\, titul se stal bestsellerem a v anketě Lidových novin získal ocenění Kniha roku. Aleš Palán i fotograf Jan Šibík ovšem jezdí na Šumavu dál. Výsledkem jejich návštěv je kniha Návrat do divočiny. Jan Šibík zde přináší nové fotky\, Aleš Palán pak své zamyšlení nad tím\, co mu tři roky se samotáři daly\, čím ho tito lidé nejvíc oslovili a proč je má tak rád. Zveřejňuje také příběhy\, které se do knihy Raději zešílet v divočině nedostaly.
URL:https://www.luxor.cz/blog/akce/ales-palan-audiokniha-radeji-zesilet-v-divocine-a-nova-kniha-navrat-do-divociny/
LOCATION:Palác knih Luxor\, Václavské náměstí 820/41\, Praha 1\, 11000\, Česká republika
ATTACH;FMTTYPE=image/jpeg:https://www.luxor.cz/blog/wp-content/uploads/Banner-1200x628_Luxor-a-FB.jpg
ORGANIZER;CN="Luxor":MAILTO:info@luxor.cz
END:VEVENT
END:VCALENDAR