BEGIN:VCALENDAR
VERSION:2.0
PRODID:-//Blog knihkupectví Luxor - ECPv6.15.20//NONSGML v1.0//EN
CALSCALE:GREGORIAN
METHOD:PUBLISH
X-WR-CALNAME:Blog knihkupectví Luxor
X-ORIGINAL-URL:https://www.luxor.cz/blog
X-WR-CALDESC:Akce na Blog knihkupectví Luxor
REFRESH-INTERVAL;VALUE=DURATION:PT1H
X-Robots-Tag:noindex
X-PUBLISHED-TTL:PT1H
BEGIN:VTIMEZONE
TZID:Europe/Prague
BEGIN:DAYLIGHT
TZOFFSETFROM:+0100
TZOFFSETTO:+0200
TZNAME:CEST
DTSTART:20180325T010000
END:DAYLIGHT
BEGIN:STANDARD
TZOFFSETFROM:+0200
TZOFFSETTO:+0100
TZNAME:CET
DTSTART:20181028T010000
END:STANDARD
BEGIN:DAYLIGHT
TZOFFSETFROM:+0100
TZOFFSETTO:+0200
TZNAME:CEST
DTSTART:20190331T010000
END:DAYLIGHT
BEGIN:STANDARD
TZOFFSETFROM:+0200
TZOFFSETTO:+0100
TZNAME:CET
DTSTART:20191027T010000
END:STANDARD
BEGIN:DAYLIGHT
TZOFFSETFROM:+0100
TZOFFSETTO:+0200
TZNAME:CEST
DTSTART:20200329T010000
END:DAYLIGHT
BEGIN:STANDARD
TZOFFSETFROM:+0200
TZOFFSETTO:+0100
TZNAME:CET
DTSTART:20201025T010000
END:STANDARD
END:VTIMEZONE
BEGIN:VEVENT
DTSTART;TZID=Europe/Prague:20191112T170000
DTEND;TZID=Europe/Prague:20191112T180000
DTSTAMP:20260421T144254
CREATED:20191016T111623Z
LAST-MODIFIED:20191016T114254Z
UID:5030-1573578000-1573581600@www.luxor.cz
SUMMARY:Colleen Hooverová – Beseda a autogramiáda
DESCRIPTION:To nejlepší v nás\nNový román bestsellerové autorky Colleen Hooverové o nešťastném manželství a jednom dávno zapomenutém slibu\, který by ho mohl zachránit. Quinn by v životě nenapadlo\, že potká osudovou lásku v nejhorší den svého života. Přesně to se ale stane. Začátek jejího vztahu s Grahamem je naprosto dokonalý\, jsou jako stvoření jeden pro druhého. O sedm let později je ale jejich manželství v troskách. Zpočátku dokonalá láska je ohrožena tisíci nedokonalostmi jejich společného života. Člověk by řekl\, že manželství přestává fungovat tehdy\, když lásku nahradí zloba a pohrdání. Ale Quinn a Graham se na sebe nezlobí. Prostě už jen nejsou stejní jako dřív… Všechny společné sny a vzpomínky\, místo aby je držely pohromadě\, je od sebe oddělují. A to jediné\, co by je mohlo zachránit\, dost možná jejich vztah nenávratně zničí…
URL:https://www.luxor.cz/blog/akce/colleen-hooverova-beseda-a-autogramiada/
LOCATION:Palác knih Luxor\, Václavské náměstí 820/41\, Praha 1\, 11000\, Česká republika
ATTACH;FMTTYPE=image/jpeg:https://www.luxor.cz/blog/wp-content/uploads/Luxor_Akce_kalendar_Hooverova_1200x628.jpg
END:VEVENT
END:VCALENDAR