BEGIN:VCALENDAR
VERSION:2.0
PRODID:-//Blog knihkupectví Luxor - ECPv6.15.20//NONSGML v1.0//EN
CALSCALE:GREGORIAN
METHOD:PUBLISH
X-ORIGINAL-URL:https://www.luxor.cz/blog
X-WR-CALDESC:Akce na Blog knihkupectví Luxor
REFRESH-INTERVAL;VALUE=DURATION:PT1H
X-Robots-Tag:noindex
X-PUBLISHED-TTL:PT1H
BEGIN:VTIMEZONE
TZID:Europe/Prague
BEGIN:DAYLIGHT
TZOFFSETFROM:+0100
TZOFFSETTO:+0200
TZNAME:CEST
DTSTART:20180325T010000
END:DAYLIGHT
BEGIN:STANDARD
TZOFFSETFROM:+0200
TZOFFSETTO:+0100
TZNAME:CET
DTSTART:20181028T010000
END:STANDARD
BEGIN:DAYLIGHT
TZOFFSETFROM:+0100
TZOFFSETTO:+0200
TZNAME:CEST
DTSTART:20190331T010000
END:DAYLIGHT
BEGIN:STANDARD
TZOFFSETFROM:+0200
TZOFFSETTO:+0100
TZNAME:CET
DTSTART:20191027T010000
END:STANDARD
BEGIN:DAYLIGHT
TZOFFSETFROM:+0100
TZOFFSETTO:+0200
TZNAME:CEST
DTSTART:20200329T010000
END:DAYLIGHT
BEGIN:STANDARD
TZOFFSETFROM:+0200
TZOFFSETTO:+0100
TZNAME:CET
DTSTART:20201025T010000
END:STANDARD
END:VTIMEZONE
BEGIN:VEVENT
DTSTART;TZID=Europe/Prague:20191108T163000
DTEND;TZID=Europe/Prague:20191108T173000
DTSTAMP:20260421T140501
CREATED:20191023T140934Z
LAST-MODIFIED:20191023T140934Z
UID:5095-1573230600-1573234200@www.luxor.cz
SUMMARY:Ve stínu magie - Antologie české fantastiky
DESCRIPTION:Magie je bezvadná věc. Můžete si přičarovat štěstí\, zdraví nebo sukubu\, která vám bude po vůli. Ale taky se všechno může v jednom okamžiku zvrhnout a vy proti sobě poštvete síly\, které jsou tak staré a temné\, že vás mohou přivést k šílenství. Magie tvoří základ fantasy kánonu\, ale tahle sbírka vám ukáže\, že i tak tradiční téma vás v mnohém dokáže ještě zatraceně překvapit. Předchozí antologie editorské dvojice Hokr–Kyša si prorazily cestu k tisícům čtenářů a ukázaly jim kouzlo české fantastiky. Ve stínu magie jejich představení nové generace českých autorů završuje a vy zkrátka chcete být u toho. Do antologie přispěli: Theo Addair\, Roman Bureš\, Oskar Fuchs\, František Kotleta\, Jan Kotouč\, Vilém Koubek\, Míla Linc\, Lucie Lukačovičová\, Petra Lukačovičová\, Michaela Merglová\, Petra Neomillnerová\, Julie Nováková\, Mark E. Pocha\, Kristýna Sněgoňová\, Petr Stančík\, Zuzana Strachotová\, David Šenk\, Dalibor Vácha.
URL:https://www.luxor.cz/blog/akce/ve-stinu-magie-antologie-ceske-fantastiky/
LOCATION:Palác knih Luxor\, Václavské náměstí 820/41\, Praha 1\, 11000\, Česká republika
ATTACH;FMTTYPE=image/png:https://www.luxor.cz/blog/wp-content/uploads/KŘEST-ANTOLOGIE.png
END:VEVENT
END:VCALENDAR