BEGIN:VCALENDAR
VERSION:2.0
PRODID:-//Blog knihkupectví Luxor - ECPv6.15.20//NONSGML v1.0//EN
CALSCALE:GREGORIAN
METHOD:PUBLISH
X-ORIGINAL-URL:https://www.luxor.cz/blog
X-WR-CALDESC:Akce na Blog knihkupectví Luxor
REFRESH-INTERVAL;VALUE=DURATION:PT1H
X-Robots-Tag:noindex
X-PUBLISHED-TTL:PT1H
BEGIN:VTIMEZONE
TZID:Europe/Prague
BEGIN:DAYLIGHT
TZOFFSETFROM:+0100
TZOFFSETTO:+0200
TZNAME:CEST
DTSTART:20180325T010000
END:DAYLIGHT
BEGIN:STANDARD
TZOFFSETFROM:+0200
TZOFFSETTO:+0100
TZNAME:CET
DTSTART:20181028T010000
END:STANDARD
BEGIN:DAYLIGHT
TZOFFSETFROM:+0100
TZOFFSETTO:+0200
TZNAME:CEST
DTSTART:20190331T010000
END:DAYLIGHT
BEGIN:STANDARD
TZOFFSETFROM:+0200
TZOFFSETTO:+0100
TZNAME:CET
DTSTART:20191027T010000
END:STANDARD
BEGIN:DAYLIGHT
TZOFFSETFROM:+0100
TZOFFSETTO:+0200
TZNAME:CEST
DTSTART:20200329T010000
END:DAYLIGHT
BEGIN:STANDARD
TZOFFSETFROM:+0200
TZOFFSETTO:+0100
TZNAME:CET
DTSTART:20201025T010000
END:STANDARD
END:VTIMEZONE
BEGIN:VEVENT
DTSTART;TZID=Europe/Prague:20191107T170000
DTEND;TZID=Europe/Prague:20191107T180000
DTSTAMP:20260422T032450
CREATED:20191029T113415Z
LAST-MODIFIED:20191029T113509Z
UID:5142-1573146000-1573149600@www.luxor.cz
SUMMARY:Adam Ondra: lezec tělem i duší
DESCRIPTION:Adam Ondra vylezl v roce 2016 stěnu Dawn Wall v Yosemitském národním parku. Tou dobou měl ale český lezec za sebou už řadu úspěchů. Pravidelně vyhrává závody světového poháru\, láme rekordy a je favoritem olympijských her v Tokiu. Jak se dostal k lezení? Co považuje za svůj největší úspěch? Cestu Adama Ondry na vrcholy lezeckých stěn i sportovních žebříčků mapuje publikace obohacená o unikátní rozšířenou realitu.
URL:https://www.luxor.cz/blog/akce/adam-ondra-lezec-telem-i-dusi/
LOCATION:Palác knih Luxor\, Václavské náměstí 820/41\, Praha 1\, 11000\, Česká republika
ATTACH;FMTTYPE=image/jpeg:https://www.luxor.cz/blog/wp-content/uploads/Adam_ondra_1200X628_FB_02.jpg
ORGANIZER;CN="Luxor":MAILTO:info@luxor.cz
END:VEVENT
END:VCALENDAR