BEGIN:VCALENDAR
VERSION:2.0
PRODID:-//Blog knihkupectví Luxor - ECPv6.15.20//NONSGML v1.0//EN
CALSCALE:GREGORIAN
METHOD:PUBLISH
X-ORIGINAL-URL:https://www.luxor.cz/blog
X-WR-CALDESC:Akce na Blog knihkupectví Luxor
REFRESH-INTERVAL;VALUE=DURATION:PT1H
X-Robots-Tag:noindex
X-PUBLISHED-TTL:PT1H
BEGIN:VTIMEZONE
TZID:Europe/Prague
BEGIN:DAYLIGHT
TZOFFSETFROM:+0100
TZOFFSETTO:+0200
TZNAME:CEST
DTSTART:20180325T010000
END:DAYLIGHT
BEGIN:STANDARD
TZOFFSETFROM:+0200
TZOFFSETTO:+0100
TZNAME:CET
DTSTART:20181028T010000
END:STANDARD
BEGIN:DAYLIGHT
TZOFFSETFROM:+0100
TZOFFSETTO:+0200
TZNAME:CEST
DTSTART:20190331T010000
END:DAYLIGHT
BEGIN:STANDARD
TZOFFSETFROM:+0200
TZOFFSETTO:+0100
TZNAME:CET
DTSTART:20191027T010000
END:STANDARD
BEGIN:DAYLIGHT
TZOFFSETFROM:+0100
TZOFFSETTO:+0200
TZNAME:CEST
DTSTART:20200329T010000
END:DAYLIGHT
BEGIN:STANDARD
TZOFFSETFROM:+0200
TZOFFSETTO:+0100
TZNAME:CET
DTSTART:20201025T010000
END:STANDARD
END:VTIMEZONE
BEGIN:VEVENT
DTSTART;TZID=Europe/Prague:20191031T170000
DTEND;TZID=Europe/Prague:20191031T180000
DTSTAMP:20260422T032450
CREATED:20191016T154440Z
LAST-MODIFIED:20191017T110051Z
UID:5036-1572541200-1572544800@www.luxor.cz
SUMMARY:Vladimír Beneš a Martin Moravec - Mé cesty do hlubin mozku
DESCRIPTION:Co vše víme o mozku? A co o něm naopak nikdy vědět nebudeme? Proč mozek jako jediný orgán nebolí? Dokážeme předejít těžkým nemocem\, jako jsou parkinson\, alzheimer\, mrtvice či mozkové nádory? Má se těžce nemocným lidem podávat tvrdá pravda\, nebo milosrdná lež? A měl by člověk dostat možnost sám se rozhodnout\, že už nechce žít? Knižní rozhovor s lékařem\, který provedl již přes osm tisíc operací a ve svém oboru patří k nejlepším na světě. Vladimír Beneš poutavě vypráví o pacientech\, doktorech\, mozku samotném\, lékařské etice\, víře\, eutanazii\, výčitkách\, radosti\, lékařských seriálech\, úplatcích ve zdravotnictví\, studiích za minulého režimu\, ale i o tom\, jak dnes po světě jezdí lovit brouky s kamarádem Oldřichem Kaiserem.
URL:https://www.luxor.cz/blog/akce/vladimir-benes-a-martin-moravec-vladimir-benes-%ef%80%ad-me-cesty-do-hlubin-mozku/
LOCATION:Palác knih Luxor\, Václavské náměstí 820/41\, Praha 1\, 11000\, Česká republika
ATTACH;FMTTYPE=image/jpeg:https://www.luxor.cz/blog/wp-content/uploads/Luxor_Akce_kalendar_Benes_1200x628.jpg
END:VEVENT
BEGIN:VEVENT
DTSTART;TZID=Europe/Prague:20191031T170000
DTEND;TZID=Europe/Prague:20191031T180000
DTSTAMP:20260422T032450
CREATED:20191022T113654Z
LAST-MODIFIED:20191030T123324Z
UID:5083-1572541200-1572544800@www.luxor.cz
SUMMARY:PALLADIUM: Aňa Geislerová a Lela Geislerová - P.S. Diář 2020
DESCRIPTION:Rok začíná pro každého v jinou dobu. Pro někoho začíná školou\, pro někoho narozeninami a pro někoho v momentě\, kdy otevře nový diář a napíše do něj své jméno. I vy můžete odstartovat nový rok s diářem s citáty Ani Geislerové a neodmyslitelnými ilustracemi její sestry Lely Geislerové. Nechybí ani praktická gumička\, místo pro poznámky a již tradiční barevná ořízka. Chybělo vám pokračování P.S.? Tak teď s ním můžete strávit celý rok 2020. „Ať je tenhle rok veselý\, nový\, příjemně odškrtaný a váš se vším všudy.“
URL:https://www.luxor.cz/blog/akce/palladium-ana-geislerova-lela-geislerova-p-s-diar-2020/
LOCATION:Knihkupectví Palladium\, Náměstí republiky 1\, NC Palladium\, Praha 1\, 11000
ATTACH;FMTTYPE=image/jpeg:https://www.luxor.cz/blog/wp-content/uploads/Luxor_Akce_kalendar_P.S._1200x628.jpg
END:VEVENT
BEGIN:VEVENT
DTSTART;TZID=Europe/Prague:20191031T183000
DTEND;TZID=Europe/Prague:20191031T193000
DTSTAMP:20260422T032450
CREATED:20191008T105457Z
LAST-MODIFIED:20191008T105542Z
UID:4974-1572546600-1572550200@www.luxor.cz
SUMMARY:Simona Votyová - Chci tě mít ve skříni
DESCRIPTION:Co všechno se dá v manželství odpustit\, tolerovat\, kam až zajít? Viola miluje Viliama a Viliam miluje Violu. Jenže Viliam už přítelkyni má a Viola zase malého syna. Ale pak se ti dva stejně vezmou. Najednou se zdá\, že je všechno jinak\, než si představovali. Zvlášť poté\, co se jim narodí autistická dcera. Tíhu rodinného života každý řeší po svém. Viliam stoupá po kariérním žebříčku a utápí se v alkoholu. Viola maluje a možná miluje někoho jiného… Román české autorky o soužití dvou lidí\, který upoutá také tím\, že je psán z pohledu ženy i muže.
URL:https://www.luxor.cz/blog/akce/simona-votyova-chci-te-mit-ve-skrini/
LOCATION:Palác knih Luxor\, Václavské náměstí 820/41\, Praha 1\, 11000\, Česká republika
ATTACH;FMTTYPE=image/jpeg:https://www.luxor.cz/blog/wp-content/uploads/chci-te-FB-1200x628.jpg
END:VEVENT
END:VCALENDAR