BEGIN:VCALENDAR
VERSION:2.0
PRODID:-//Blog knihkupectví Luxor - ECPv6.15.20//NONSGML v1.0//EN
CALSCALE:GREGORIAN
METHOD:PUBLISH
X-WR-CALNAME:Blog knihkupectví Luxor
X-ORIGINAL-URL:https://www.luxor.cz/blog
X-WR-CALDESC:Akce na Blog knihkupectví Luxor
REFRESH-INTERVAL;VALUE=DURATION:PT1H
X-Robots-Tag:noindex
X-PUBLISHED-TTL:PT1H
BEGIN:VTIMEZONE
TZID:Europe/Prague
BEGIN:DAYLIGHT
TZOFFSETFROM:+0100
TZOFFSETTO:+0200
TZNAME:CEST
DTSTART:20180325T010000
END:DAYLIGHT
BEGIN:STANDARD
TZOFFSETFROM:+0200
TZOFFSETTO:+0100
TZNAME:CET
DTSTART:20181028T010000
END:STANDARD
BEGIN:DAYLIGHT
TZOFFSETFROM:+0100
TZOFFSETTO:+0200
TZNAME:CEST
DTSTART:20190331T010000
END:DAYLIGHT
BEGIN:STANDARD
TZOFFSETFROM:+0200
TZOFFSETTO:+0100
TZNAME:CET
DTSTART:20191027T010000
END:STANDARD
BEGIN:DAYLIGHT
TZOFFSETFROM:+0100
TZOFFSETTO:+0200
TZNAME:CEST
DTSTART:20200329T010000
END:DAYLIGHT
BEGIN:STANDARD
TZOFFSETFROM:+0200
TZOFFSETTO:+0100
TZNAME:CET
DTSTART:20201025T010000
END:STANDARD
END:VTIMEZONE
BEGIN:VEVENT
DTSTART;TZID=Europe/Prague:20191025T170000
DTEND;TZID=Europe/Prague:20191025T180000
DTSTAMP:20260421T190335
CREATED:20191018T090911Z
LAST-MODIFIED:20191018T091037Z
UID:5056-1572022800-1572026400@www.luxor.cz
SUMMARY:Pavla Horáková - Beseda a autogramiáda
DESCRIPTION:Vypravěčka Ada Sabová\, mladá vědkyně z „Ústavu mezioborových studií člověka“\, je v mnohém typickou (nikoli však stereotypní) moderní intelektuálkou\, která se pokouší vybalancovat osobní život a kariéru. V obojím už má za sebou leccos\, a tak není prosta jistého cynismu\, či spíše poučeného\, sarkastického vnímání světa\, lidí kolem sebe i sebe samé. Na pozadí pátrání po zmizelém synovi své kolegyně zaznamenává kolem sebe zdánlivé nahodilosti\, za nimiž však tuší zákonitost a provázanost. Pro všechny tyto jevy hledá zastřešující definici\, svou „teorii podivnosti“\, a zjišťuje\, že nekonečnou spletitost světa pouhým rozumem neuchopí. A zatímco společnost kolem ní čím dál více lpí na vyprázdněných pravidlech\, Ada její struktury jednu po druhé opouští a vydává se vstříc svobodě.
URL:https://www.luxor.cz/blog/akce/pavla-horakova-beseda-a-autogramiada/
LOCATION:Palác knih Luxor\, Václavské náměstí 820/41\, Praha 1\, 11000\, Česká republika
ATTACH;FMTTYPE=image/png:https://www.luxor.cz/blog/wp-content/uploads/1200x628px.png
END:VEVENT
END:VCALENDAR