BEGIN:VCALENDAR
VERSION:2.0
PRODID:-//Blog knihkupectví Luxor - ECPv6.15.20//NONSGML v1.0//EN
CALSCALE:GREGORIAN
METHOD:PUBLISH
X-ORIGINAL-URL:https://www.luxor.cz/blog
X-WR-CALDESC:Akce na Blog knihkupectví Luxor
REFRESH-INTERVAL;VALUE=DURATION:PT1H
X-Robots-Tag:noindex
X-PUBLISHED-TTL:PT1H
BEGIN:VTIMEZONE
TZID:Europe/Prague
BEGIN:DAYLIGHT
TZOFFSETFROM:+0100
TZOFFSETTO:+0200
TZNAME:CEST
DTSTART:20180325T010000
END:DAYLIGHT
BEGIN:STANDARD
TZOFFSETFROM:+0200
TZOFFSETTO:+0100
TZNAME:CET
DTSTART:20181028T010000
END:STANDARD
BEGIN:DAYLIGHT
TZOFFSETFROM:+0100
TZOFFSETTO:+0200
TZNAME:CEST
DTSTART:20190331T010000
END:DAYLIGHT
BEGIN:STANDARD
TZOFFSETFROM:+0200
TZOFFSETTO:+0100
TZNAME:CET
DTSTART:20191027T010000
END:STANDARD
BEGIN:DAYLIGHT
TZOFFSETFROM:+0100
TZOFFSETTO:+0200
TZNAME:CEST
DTSTART:20200329T010000
END:DAYLIGHT
BEGIN:STANDARD
TZOFFSETFROM:+0200
TZOFFSETTO:+0100
TZNAME:CET
DTSTART:20201025T010000
END:STANDARD
END:VTIMEZONE
BEGIN:VEVENT
DTSTART;TZID=Europe/Prague:20191023T170000
DTEND;TZID=Europe/Prague:20191023T180000
DTSTAMP:20260421T174054
CREATED:20191003T102355Z
LAST-MODIFIED:20191018T091746Z
UID:4895-1571850000-1571853600@www.luxor.cz
SUMMARY:Zbigniew Czendlik\, Miroslav Macek\, Petra Macková Hrochová - Farská kuchařka
DESCRIPTION:Tato kniha není jen prostou kuchařkou\, tedy souborem receptů\, ale je též knihou k poučení o církevním roku a jeho vlivu na jídelní zvyklosti předků\, o životě farářů a farských hospodyň\, a to obzvláště na venkovských farách\, a též o sepětí tehdejšího jídelníčku s ročními obdobími a dostupnými místními surovinami. Zajímavou součástí je také kapitola věnovaná mešním vínům a patronům vína.
URL:https://www.luxor.cz/blog/akce/zbigniew-czendlik-miroslav-macek-petra-mackova-hrochova-farska-kucharka/
LOCATION:Palác knih Luxor\, Václavské náměstí 820/41\, Praha 1\, 11000\, Česká republika
ATTACH;FMTTYPE=image/jpeg:https://www.luxor.cz/blog/wp-content/uploads/farska_kucharka_Facebook_kucharka.jpg
END:VEVENT
BEGIN:VEVENT
DTSTART;TZID=Europe/Prague:20191023T170000
DTEND;TZID=Europe/Prague:20191023T180000
DTSTAMP:20260421T174054
CREATED:20191008T085327Z
LAST-MODIFIED:20191015T082210Z
UID:4964-1571850000-1571853600@www.luxor.cz
SUMMARY:SMÍCHOV: Milan Studnička\, Tomáš Rychnovský - Každá bolest má svou příčinu
DESCRIPTION:Nezapomínejte na příčiny. Jsou řešením vašeho problému. \nProč nás bolí tělo\, i když cvičíme? Jak se máme starat o děti z hlediska jejich pohybového a psychického vývoje? Co nám psychosomatické problémy prozradí o našem životě? A jak souvisí naše problémy v dospělosti s naším dětstvím? Možná budete překvapeni\, co všechno se za bolestmi skrývá. Autoři Tomáš Rychnovský a Milan Studnička vás naučí\, jak propojit tělo i mysl\, aby byly ve vzájemné rovnováze a harmonii.
URL:https://www.luxor.cz/blog/akce/smichov-milan-studnicka-tomas-rychnovsky-kazda-bolest-ma-svou-pricinu/
LOCATION:Knihkupectví Nový Smíchov\, OC Nový Smíchov\, Praha 5\, 15000\, Česká republika
ATTACH;FMTTYPE=image/jpeg:https://www.luxor.cz/blog/wp-content/uploads/fb.jpg
END:VEVENT
BEGIN:VEVENT
DTSTART;TZID=Europe/Prague:20191023T170000
DTEND;TZID=Europe/Prague:20191023T180000
DTSTAMP:20260421T174054
CREATED:20191014T115842Z
LAST-MODIFIED:20191014T120910Z
UID:5004-1571850000-1571853600@www.luxor.cz
SUMMARY:JIHLAVA: Michal Viewegh – autorské čtení a autogramiáda
DESCRIPTION:Mým vrstevníkům a jiné fejetony\nO tom\, jak je prospěšné vést korespondenci s mrtvými\, o zážitcích v České televizi srovnatelnými s požitím halucinogenů\, krajových odlišnostech\, 4D realitě – anebo třeba o tom\, jak lze skloubit profesionální skateboarding s láskou ke knihám. Od dubna loňského roku do dubna toho letošního nejpopulárnější současný autor publikoval každý týden jeden fejeton v magazínu Pátek Lidových novin. Jeden rok v životě spisovatele\, jeden rok v životě naší společnosti. A samozřejmě také o Brně a 32 věcech\, které Michal Viewegh už nesmí nikdy udělat. \nMísto konání: Knihkupectví Luxor\, Citypark Jihlava\, Hradební 1\, Jihlava \nhttps://www.google.com/maps/place/CITYPARK+JIHLAVA/@49.3850839\,15.591596\,13.25z/data=!4m5!3m4!1s0x0:0x94bec70783629115!8m2!3d49.392309!4d15.5929499
URL:https://www.luxor.cz/blog/akce/jihlava-michal-viewegh-autorske-cteni-a-autogramiada/
ATTACH;FMTTYPE=image/jpeg:https://www.luxor.cz/blog/wp-content/uploads/Luxor_Akce_kalendar_Viewegh_1200x628-1.jpg
END:VEVENT
END:VCALENDAR