BEGIN:VCALENDAR
VERSION:2.0
PRODID:-//Blog knihkupectví Luxor - ECPv6.15.20//NONSGML v1.0//EN
CALSCALE:GREGORIAN
METHOD:PUBLISH
X-ORIGINAL-URL:https://www.luxor.cz/blog
X-WR-CALDESC:Akce na Blog knihkupectví Luxor
REFRESH-INTERVAL;VALUE=DURATION:PT1H
X-Robots-Tag:noindex
X-PUBLISHED-TTL:PT1H
BEGIN:VTIMEZONE
TZID:Europe/Prague
BEGIN:DAYLIGHT
TZOFFSETFROM:+0100
TZOFFSETTO:+0200
TZNAME:CEST
DTSTART:20180325T010000
END:DAYLIGHT
BEGIN:STANDARD
TZOFFSETFROM:+0200
TZOFFSETTO:+0100
TZNAME:CET
DTSTART:20181028T010000
END:STANDARD
BEGIN:DAYLIGHT
TZOFFSETFROM:+0100
TZOFFSETTO:+0200
TZNAME:CEST
DTSTART:20190331T010000
END:DAYLIGHT
BEGIN:STANDARD
TZOFFSETFROM:+0200
TZOFFSETTO:+0100
TZNAME:CET
DTSTART:20191027T010000
END:STANDARD
BEGIN:DAYLIGHT
TZOFFSETFROM:+0100
TZOFFSETTO:+0200
TZNAME:CEST
DTSTART:20200329T010000
END:DAYLIGHT
BEGIN:STANDARD
TZOFFSETFROM:+0200
TZOFFSETTO:+0100
TZNAME:CET
DTSTART:20201025T010000
END:STANDARD
END:VTIMEZONE
BEGIN:VEVENT
DTSTART;TZID=Europe/Prague:20191010T160000
DTEND;TZID=Europe/Prague:20191010T170000
DTSTAMP:20260421T113208
CREATED:20190928T070931Z
LAST-MODIFIED:20191004T090623Z
UID:4837-1570723200-1570726800@www.luxor.cz
SUMMARY:Václav Větvička\, Jan Rendek: Zámecké zelené komnaty – krása panských zahrad
DESCRIPTION:Iniciátorkou této knihy byla vzpomínka. Vzpomínka na školní výlety\, ale i na nedávnou profesi jednoho z autorů\, dendrologa Václava Větvičky\, který zámeckým parkům věnoval značnou část života. A tak jsme\, po stopách vlastních vzpomínek\, navštívili po čase nejen zámky\, ale především jejich zahrady. Slovo zahrady nám tu připadá patřičnější než slovo park\, parky. Vždyť někde\, jako třeba ve Vidimi nebo v Děčíně\, to jsou div ne zahrádky\, tak jaképak parky. Na druhé straně snad u nás neexistuje zámecké sídlo – a že jich máme! – u něhož by nebyla aspoň malá zahrada. Stavebníci\, stavitelé i tvůrci zámků předešli současnost\, která doporučuje vlastníkům rodinných domků žít část roku na zahradě\, v zelené komnatě.
URL:https://www.luxor.cz/blog/akce/vaclav-vetvicka-jan-rendek-zamecke-zelene-komnaty-krasa-panskych-zahrad--1338/
LOCATION:Palác knih Luxor\, Václavské náměstí 820/41\, Praha 1\, 11000\, Česká republika
ATTACH;FMTTYPE=image/jpeg:https://www.luxor.cz/blog/wp-content/uploads/bff311a4.jpg
END:VEVENT
BEGIN:VEVENT
DTSTART;TZID=Europe/Prague:20191010T180000
DTEND;TZID=Europe/Prague:20191010T190000
DTSTAMP:20260421T113208
CREATED:20191003T061803Z
LAST-MODIFIED:20191008T085548Z
UID:4875-1570730400-1570734000@www.luxor.cz
SUMMARY:Robert Fulghum - autogramiáda!
DESCRIPTION:Opravář osudů George Novak žije šťastným životem – má svou přítelkyni Luci Milenu i kamarády v hostinci U Devíti draků a jedné ovce\, takže si na nudu rozhodně nemůže stěžovat. Na čistém nebi se ale začnou objevovat mráčky – Luci Milena má jiné představy o životě než George a tráví s ním čím dál méně času. Vtom se však objeví staří známí a rozehrají s Georgem hru\, jakou by nečekal. To vše za zvuků kopyt kavalérie\, dunění kanonů a drnkání ukulele. Vítejte U Devíti draků a jedné ovce! \nDovolujeme si Vás informovat\, že v průběhu této akce budou pořizovány fotografie nebo krátké videozáznamy\, které mohou být použity pro účely propagace společností NEOLUXOR\, s.r.o.\, IČ: 62577620\, jak v tištěné\, tak v elektronické podobě (například na webové stránky\, Facebook\, Twitter\, tiskoviny). Účastí na akci souhlasíte se zpracováním těchto osobních údajů. \n 
URL:https://www.luxor.cz/blog/akce/robert-fulghum-autogramiada/
LOCATION:Palác knih Luxor\, Václavské náměstí 820/41\, Praha 1\, 11000\, Česká republika
ATTACH;FMTTYPE=image/jpeg:https://www.luxor.cz/blog/wp-content/uploads/Fulghum_Luxor_fb_pozvanka.jpg
END:VEVENT
END:VCALENDAR