BEGIN:VCALENDAR
VERSION:2.0
PRODID:-//Blog knihkupectví Luxor - ECPv6.15.20//NONSGML v1.0//EN
CALSCALE:GREGORIAN
METHOD:PUBLISH
X-WR-CALNAME:Blog knihkupectví Luxor
X-ORIGINAL-URL:https://www.luxor.cz/blog
X-WR-CALDESC:Akce na Blog knihkupectví Luxor
REFRESH-INTERVAL;VALUE=DURATION:PT1H
X-Robots-Tag:noindex
X-PUBLISHED-TTL:PT1H
BEGIN:VTIMEZONE
TZID:Europe/Prague
BEGIN:DAYLIGHT
TZOFFSETFROM:+0100
TZOFFSETTO:+0200
TZNAME:CEST
DTSTART:20180325T010000
END:DAYLIGHT
BEGIN:STANDARD
TZOFFSETFROM:+0200
TZOFFSETTO:+0100
TZNAME:CET
DTSTART:20181028T010000
END:STANDARD
BEGIN:DAYLIGHT
TZOFFSETFROM:+0100
TZOFFSETTO:+0200
TZNAME:CEST
DTSTART:20190331T010000
END:DAYLIGHT
BEGIN:STANDARD
TZOFFSETFROM:+0200
TZOFFSETTO:+0100
TZNAME:CET
DTSTART:20191027T010000
END:STANDARD
BEGIN:DAYLIGHT
TZOFFSETFROM:+0100
TZOFFSETTO:+0200
TZNAME:CEST
DTSTART:20200329T010000
END:DAYLIGHT
BEGIN:STANDARD
TZOFFSETFROM:+0200
TZOFFSETTO:+0100
TZNAME:CET
DTSTART:20201025T010000
END:STANDARD
END:VTIMEZONE
BEGIN:VEVENT
DTSTART;TZID=Europe/Prague:20191009T153000
DTEND;TZID=Europe/Prague:20191009T170000
DTSTAMP:20260421T215216
CREATED:20190930T073738Z
LAST-MODIFIED:20190930T073738Z
UID:4849-1570635000-1570640400@www.luxor.cz
SUMMARY:Eliška Vyhnánková & Michelle Losekoot - Jak na sítě
DESCRIPTION:Chcete umět sítě využívat ve svůj prospěch? Prodávat těm\, kteří nepřišli nakupovat\, a psát pro lidi\, kteří nechtějí číst? Nebo potřebujete dát sítím řád a pojem strategie sociálních sítí vám zatím nic neříká? Případně je vaší nejčastější otázkou co tam proboha mám pořád dávat? A jak mám měřit\, jestli kampaň funguje? Má vůbec smysl do sociálních sítí investovat peníze? A kolik? \nAť už si podobné otázky kladete sami za sebe\, za vaši komunitu či za firmu\, máme dobrou zprávu. Sociální sítě vám mohou opravdu výrazně pomoci\, když víte\, jak na ně. Jak na sítě je první knihou\, která vedle mnoha dílčích postupů a příkladů z českého i světového prostředí přináší i něco mnohem hlubšího a univerzálnějšího: důmyslný systém pro tvorbu obsahu\, pro vyhodnocování jeho úspěšnosti a pro skvělou komunikaci s vašimi stávajícími i potenciálními zákazníky\, klienty či komunitou. \nNaučí vás o sítích přemýšlet tak\, abyste už žádné návody nepotřebovali. \nA nemusí to být drahé ani složité! Autorky už několik let pomáhají vzkvétat sociálním sítím jednotlivců\, firem i institucí\, mezi něž patřily například Hlavní město Praha\, Česká televize\, PUMA\, O2\, Akademie věd České republiky\, EON a další. Proškolily dvanáct tisíc „sockařů“ a přesně vědí\, na co se chcete zeptat. \nMichelle i Elišce se ve spolupráci s ilustrátorkou Karolínou Urbánkovou podařilo vytvořit chytrou knihu\, která nemá na českém (a troufáme si tvrdit\, že ani na světovém) trhu obdoby. Navzdory rychlému vývoji v oblasti sítí je postavena nadčasově\, čte se jedním dechem\, baví a přitom jednoduše ilustruje kroky\, které vás dovedou k úspěchu. Je pravděpodobné\, že Facebook\, Instagram\, Twitter\, LinkedIn či YouTube budou jednou převálcovány modernějšími nástupci – nicméně díky ovládnutí 4 základních principů budete na všechny změny připraveni. \nJak na sítě je jednoduše nezbytná kniha pro všechny marketéry\, freelancery\, podnikatele a influencery\, kteří chtějí na sociálních sítích zazářit.
URL:https://www.luxor.cz/blog/akce/eliska-vyhnankova-michelle-losekoot-jak-na-site--1341/
LOCATION:Palác knih Luxor\, Václavské náměstí 820/41\, Praha 1\, 11000\, Česká republika
ATTACH;FMTTYPE=image/png:https://www.luxor.cz/blog/wp-content/uploads/banner_Jak_na_site_1200x628_FB.png
END:VEVENT
END:VCALENDAR