BEGIN:VCALENDAR
VERSION:2.0
PRODID:-//Blog knihkupectví Luxor - ECPv6.15.20//NONSGML v1.0//EN
CALSCALE:GREGORIAN
METHOD:PUBLISH
X-ORIGINAL-URL:https://www.luxor.cz/blog
X-WR-CALDESC:Akce na Blog knihkupectví Luxor
REFRESH-INTERVAL;VALUE=DURATION:PT1H
X-Robots-Tag:noindex
X-PUBLISHED-TTL:PT1H
BEGIN:VTIMEZONE
TZID:Europe/Prague
BEGIN:DAYLIGHT
TZOFFSETFROM:+0100
TZOFFSETTO:+0200
TZNAME:CEST
DTSTART:20180325T010000
END:DAYLIGHT
BEGIN:STANDARD
TZOFFSETFROM:+0200
TZOFFSETTO:+0100
TZNAME:CET
DTSTART:20181028T010000
END:STANDARD
BEGIN:DAYLIGHT
TZOFFSETFROM:+0100
TZOFFSETTO:+0200
TZNAME:CEST
DTSTART:20190331T010000
END:DAYLIGHT
BEGIN:STANDARD
TZOFFSETFROM:+0200
TZOFFSETTO:+0100
TZNAME:CET
DTSTART:20191027T010000
END:STANDARD
BEGIN:DAYLIGHT
TZOFFSETFROM:+0100
TZOFFSETTO:+0200
TZNAME:CEST
DTSTART:20200329T010000
END:DAYLIGHT
BEGIN:STANDARD
TZOFFSETFROM:+0200
TZOFFSETTO:+0100
TZNAME:CET
DTSTART:20201025T010000
END:STANDARD
END:VTIMEZONE
BEGIN:VEVENT
DTSTART;TZID=Europe/Prague:20191007T170000
DTEND;TZID=Europe/Prague:20191007T170000
DTSTAMP:20260421T190022
CREATED:20190928T070738Z
LAST-MODIFIED:20191001T092110Z
UID:4829-1570467600-1570467600@www.luxor.cz
SUMMARY:Markéta Svobodinger - Fylaktérion
DESCRIPTION:Archeolog Filip strávil několik let v turecké Kappadokii\, kde se podílel na odkrývání sídliště z doby počátků křesťanství. Nečekaně se však vrací do Prahy a žádá o pomoc svého strýce\, renomovaného psychologa. Starověké společenství\, jehož pozůstatky bere Filip do rukou při vykopávkách\, totiž ožívá v jeho snech – a ti lidé žijí ve strachu z nevysvětlitelné hrozby\, která jednoho po druhém mrzačí a zabíjí. Filip netuší\, že v pražském útočišti ho noční můra nejen neopustí\, ale naopak se začne děsivě naplňovat. Příběh plný tajemna a napětí se odvíjí ve dvou liniích: dny tráví vypravěč ve společnosti ostatních svérázných obyvatel strýcova domu\, v noci se stává členem starověké komunity a čelí spolu s ní záhadnému zlu. Ale co je vlastně sen a co je realita? Komu má hrdina důvěřovat\, a může vůbec věřit sám sobě? Autorka umně proplétá jednotlivé nitky\, plynule zapojuje do děje prvky antické mytologie a raného křesťanství i skutečné písemné památky z tohoto období. Na své si tu přijdou jak milovníci mrazení v zádech\, tak náročnější čtenáři se zájmem o antickou civilizaci a její odkaz naší současnosti.
URL:https://www.luxor.cz/blog/akce/marketa-svobodinger-fylakterion--1337/
LOCATION:Palác knih Luxor\, Václavské náměstí 820/41\, Praha 1\, 11000\, Česká republika
ATTACH;FMTTYPE=image/jpeg:https://www.luxor.cz/blog/wp-content/uploads/5168ef4a.jpg
END:VEVENT
END:VCALENDAR