BEGIN:VCALENDAR
VERSION:2.0
PRODID:-//Blog knihkupectví Luxor - ECPv6.15.20//NONSGML v1.0//EN
CALSCALE:GREGORIAN
METHOD:PUBLISH
X-WR-CALNAME:Blog knihkupectví Luxor
X-ORIGINAL-URL:https://www.luxor.cz/blog
X-WR-CALDESC:Akce na Blog knihkupectví Luxor
REFRESH-INTERVAL;VALUE=DURATION:PT1H
X-Robots-Tag:noindex
X-PUBLISHED-TTL:PT1H
BEGIN:VTIMEZONE
TZID:Europe/Prague
BEGIN:DAYLIGHT
TZOFFSETFROM:+0100
TZOFFSETTO:+0200
TZNAME:CEST
DTSTART:20180325T010000
END:DAYLIGHT
BEGIN:STANDARD
TZOFFSETFROM:+0200
TZOFFSETTO:+0100
TZNAME:CET
DTSTART:20181028T010000
END:STANDARD
BEGIN:DAYLIGHT
TZOFFSETFROM:+0100
TZOFFSETTO:+0200
TZNAME:CEST
DTSTART:20190331T010000
END:DAYLIGHT
BEGIN:STANDARD
TZOFFSETFROM:+0200
TZOFFSETTO:+0100
TZNAME:CET
DTSTART:20191027T010000
END:STANDARD
BEGIN:DAYLIGHT
TZOFFSETFROM:+0100
TZOFFSETTO:+0200
TZNAME:CEST
DTSTART:20200329T010000
END:DAYLIGHT
BEGIN:STANDARD
TZOFFSETFROM:+0200
TZOFFSETTO:+0100
TZNAME:CET
DTSTART:20201025T010000
END:STANDARD
END:VTIMEZONE
BEGIN:VEVENT
DTSTART;TZID=Europe/Prague:20191002T170000
DTEND;TZID=Europe/Prague:20191002T170000
DTSTAMP:20260421T190107
CREATED:20190928T070401Z
LAST-MODIFIED:20190928T070401Z
UID:4818-1570035600-1570035600@www.luxor.cz
SUMMARY:Mariusz Szczygiel - beseda a křest knihy Není
DESCRIPTION:Kniha literárních reportáží a fejetonů na téma pomíjení vypráví o dramatickém životě české básnířky Violy Fischerové; o neblahém osudu majitelky slavné pražské vily Miladě Müllerové; o stárnoucím autorově otci\, který přijíždí opakovaně do Prahy\, aby ji naposledy viděl; o polském sochaři-perfomerovi\, jehož díla mizí z veřejného prostoru\, protože provokují; o ženě\, která umlátila dítě\, ale nadále zůstala učitelkou\, a mnoha dalších. Tématem těchto příběhů jsou nejen různé druhy ztrát\, které autor shrnuje pod pojem „není“\, ale také to\, co zůstává a s čím se musíme potýkat – smutek\, nostalgie\, skryté touhy. Autor chápe „není“ pokaždé jinak\, snaží se nás přimět k zamyšlení nad tím\, co „není“ v našem vlastním životě\, a nutí nás přemýšlet o významu vzpomínek. Přes své vážné ladění je to kniha o pocitu bezpečí a přátelství\, o snech a rituálech. Podle hlasování polských čtenářů se jedná o nejlepší reportáže desetiletí a nejlepší publikaci roku 2018. Kniha Není byla nominována do finále Ceny Ryszarda Kapuścińského i na literární cenu Nike.
URL:https://www.luxor.cz/blog/akce/mariusz-szczygiel-beseda-a-krest-knihy-neni--1335/
LOCATION:Palác knih Luxor\, Václavské náměstí 820/41\, Praha 1\, 11000\, Česká republika
ATTACH;FMTTYPE=image/jpeg:https://www.luxor.cz/blog/wp-content/uploads/bnner-facebook.jpg
END:VEVENT
BEGIN:VEVENT
DTSTART;TZID=Europe/Prague:20191002T170000
DTEND;TZID=Europe/Prague:20191002T170000
DTSTAMP:20260421T190107
CREATED:20190930T073608Z
LAST-MODIFIED:20191002T084833Z
UID:4845-1570035600-1570035600@www.luxor.cz
SUMMARY:CHODOV: Simona Krainová – Kalendář nástěnný 2020 - FUCK THE AGE – beseda a autogramiáda
DESCRIPTION:
URL:https://www.luxor.cz/blog/akce/simona-krainova-kalendar-nastenny-2020-fuck-the-age-beseda-a-autogramiada--1340/
LOCATION:Knihkupectví Chodov\, Centrum Chodov\, Praha 4\, 14000\, Česká republika
ATTACH;FMTTYPE=image/png:https://www.luxor.cz/blog/wp-content/uploads/banner-1200-x-628-px.png
END:VEVENT
END:VCALENDAR