BEGIN:VCALENDAR
VERSION:2.0
PRODID:-//Blog knihkupectví Luxor - ECPv6.15.20//NONSGML v1.0//EN
CALSCALE:GREGORIAN
METHOD:PUBLISH
X-WR-CALNAME:Blog knihkupectví Luxor
X-ORIGINAL-URL:https://www.luxor.cz/blog
X-WR-CALDESC:Akce na Blog knihkupectví Luxor
REFRESH-INTERVAL;VALUE=DURATION:PT1H
X-Robots-Tag:noindex
X-PUBLISHED-TTL:PT1H
BEGIN:VTIMEZONE
TZID:Europe/Prague
BEGIN:DAYLIGHT
TZOFFSETFROM:+0100
TZOFFSETTO:+0200
TZNAME:CEST
DTSTART:20180325T010000
END:DAYLIGHT
BEGIN:STANDARD
TZOFFSETFROM:+0200
TZOFFSETTO:+0100
TZNAME:CET
DTSTART:20181028T010000
END:STANDARD
BEGIN:DAYLIGHT
TZOFFSETFROM:+0100
TZOFFSETTO:+0200
TZNAME:CEST
DTSTART:20190331T010000
END:DAYLIGHT
BEGIN:STANDARD
TZOFFSETFROM:+0200
TZOFFSETTO:+0100
TZNAME:CET
DTSTART:20191027T010000
END:STANDARD
BEGIN:DAYLIGHT
TZOFFSETFROM:+0100
TZOFFSETTO:+0200
TZNAME:CEST
DTSTART:20200329T010000
END:DAYLIGHT
BEGIN:STANDARD
TZOFFSETFROM:+0200
TZOFFSETTO:+0100
TZNAME:CET
DTSTART:20201025T010000
END:STANDARD
END:VTIMEZONE
BEGIN:VEVENT
DTSTART;TZID=Europe/Prague:20190731T220000
DTEND;TZID=Europe/Prague:20190731T220000
DTSTAMP:20260422T023241
CREATED:20190831T152631Z
LAST-MODIFIED:20190831T152631Z
UID:1928-1564610400-1564610400@www.luxor.cz
SUMMARY:Letní čtení 1+1
DESCRIPTION:Od začátku června dokonce července najdete v knihkupectví Luxor výběr 24 knižních bestsellerů v exkluzivním paperbackovém vydání\,\ndíky němuž rozhodně nebudete mít kufr přes váhu. Z nabídky si vybere\nkaždý\, byly vybrány kousky pro zábavné letní čtení\, pro milovníky romantiky i\nnapětí. \n \nMůžete se těšit na\nknihy\, jejichž autory jsou: \n– \nJohn Grisham \n– \nJojo Moyesová \n– \nDanielle Steelová \n– \nSandra Brown \n– \nHarlan Coben \n– \nNicholas Sparks \n– \nJodi Picoultová \n– \nLiane Moriarty \n– \nPaula Hawkins \n– \nAndy Weir \n– \nDmitry Glukhovsky \n \n \nA hlavní výhodou je\, že nejen ušetříte místo a váhu kufru\, ale\nnavíc ušetříte i vaší peněžence! 🙂 \nVšech 24\ntitulů totiž koupíte se slevou – vyberete si dva tituly a zaplatíte pouze jeden! \nNabídku titulů najdete ZDE. \n \nNeváhejte\, vybírejte a užijte si krásné léto s Luxorem! \n \nLuxor\, v knihkupectví jako doma \n \nPOZN.: Platí pouze na vybrané tituly\, neplatí na pokladnách Knižního klubu Premium.
URL:https://www.luxor.cz/blog/akce/letni-cteni-1-1--1302/
ORGANIZER;CN="Luxor":MAILTO:info@luxor.cz
END:VEVENT
END:VCALENDAR