BEGIN:VCALENDAR
VERSION:2.0
PRODID:-//Blog knihkupectví Luxor - ECPv6.15.20//NONSGML v1.0//EN
CALSCALE:GREGORIAN
METHOD:PUBLISH
X-WR-CALNAME:Blog knihkupectví Luxor
X-ORIGINAL-URL:https://www.luxor.cz/blog
X-WR-CALDESC:Akce na Blog knihkupectví Luxor
REFRESH-INTERVAL;VALUE=DURATION:PT1H
X-Robots-Tag:noindex
X-PUBLISHED-TTL:PT1H
BEGIN:VTIMEZONE
TZID:Europe/Prague
BEGIN:DAYLIGHT
TZOFFSETFROM:+0100
TZOFFSETTO:+0200
TZNAME:CEST
DTSTART:20180325T010000
END:DAYLIGHT
BEGIN:STANDARD
TZOFFSETFROM:+0200
TZOFFSETTO:+0100
TZNAME:CET
DTSTART:20181028T010000
END:STANDARD
BEGIN:DAYLIGHT
TZOFFSETFROM:+0100
TZOFFSETTO:+0200
TZNAME:CEST
DTSTART:20190331T010000
END:DAYLIGHT
BEGIN:STANDARD
TZOFFSETFROM:+0200
TZOFFSETTO:+0100
TZNAME:CET
DTSTART:20191027T010000
END:STANDARD
BEGIN:DAYLIGHT
TZOFFSETFROM:+0100
TZOFFSETTO:+0200
TZNAME:CEST
DTSTART:20200329T010000
END:DAYLIGHT
BEGIN:STANDARD
TZOFFSETFROM:+0200
TZOFFSETTO:+0100
TZNAME:CET
DTSTART:20201025T010000
END:STANDARD
END:VTIMEZONE
BEGIN:VEVENT
DTSTART;TZID=Europe/Prague:20190730T170000
DTEND;TZID=Europe/Prague:20190730T170000
DTSTAMP:20260422T011242
CREATED:20190831T152635Z
LAST-MODIFIED:20190831T152635Z
UID:1937-1564506000-1564506000@www.luxor.cz
SUMMARY:Page café CHODOV: Jakub Kohák - beseda a autogramiáda ke knize Kůly v plotě
DESCRIPTION:Kniha Kůly vplotě obsahuje humorné příběhy a postřehy ze života\, které vycházely jako\nfejetony v deníku Metro v letech 2014 až 2019. Jejich autorem není nikdo menší\nani větší než Jakub Kohák\, polokaskadér\, skororevolucionář\, ironing man\,\nolympionik pasivní\, bratr sokol\, bombabomber\, Král Újezda I\, II\, IV\, V\, věčné\ndítě věřící na Ježíška\, ale i hrdý tatínek\, který to má vždycky na Koháku.
URL:https://www.luxor.cz/blog/akce/page-cafe-chodov-jakub-kohak-beseda-a-autogramiada-ke-knize-kuly-v-plote--1311/
LOCATION:Knihkupectví Chodov\, Centrum Chodov\, Praha 4\, 14000\, Česká republika
ORGANIZER;CN="Luxor":MAILTO:info@luxor.cz
END:VEVENT
END:VCALENDAR