BEGIN:VCALENDAR
VERSION:2.0
PRODID:-//Blog knihkupectví Luxor - ECPv6.15.20//NONSGML v1.0//EN
CALSCALE:GREGORIAN
METHOD:PUBLISH
X-WR-CALNAME:Blog knihkupectví Luxor
X-ORIGINAL-URL:https://www.luxor.cz/blog
X-WR-CALDESC:Akce na Blog knihkupectví Luxor
REFRESH-INTERVAL;VALUE=DURATION:PT1H
X-Robots-Tag:noindex
X-PUBLISHED-TTL:PT1H
BEGIN:VTIMEZONE
TZID:Europe/Prague
BEGIN:DAYLIGHT
TZOFFSETFROM:+0100
TZOFFSETTO:+0200
TZNAME:CEST
DTSTART:20180325T010000
END:DAYLIGHT
BEGIN:STANDARD
TZOFFSETFROM:+0200
TZOFFSETTO:+0100
TZNAME:CET
DTSTART:20181028T010000
END:STANDARD
BEGIN:DAYLIGHT
TZOFFSETFROM:+0100
TZOFFSETTO:+0200
TZNAME:CEST
DTSTART:20190331T010000
END:DAYLIGHT
BEGIN:STANDARD
TZOFFSETFROM:+0200
TZOFFSETTO:+0100
TZNAME:CET
DTSTART:20191027T010000
END:STANDARD
BEGIN:DAYLIGHT
TZOFFSETFROM:+0100
TZOFFSETTO:+0200
TZNAME:CEST
DTSTART:20200329T010000
END:DAYLIGHT
BEGIN:STANDARD
TZOFFSETFROM:+0200
TZOFFSETTO:+0100
TZNAME:CET
DTSTART:20201025T010000
END:STANDARD
END:VTIMEZONE
BEGIN:VEVENT
DTSTART;TZID=Europe/Prague:20190531T210000
DTEND;TZID=Europe/Prague:20190531T210000
DTSTAMP:20260422T044336
CREATED:20190831T152627Z
LAST-MODIFIED:20190831T152627Z
UID:1919-1559336400-1559336400@www.luxor.cz
SUMMARY:KVĚTEN VÝHODNĚ PRO DĚTI A MLÁDEŽ!
DESCRIPTION:Vyberte si po celý květen v knihkupectvích Luxor knihy z nakladatelství PIKOLA a YOLI\na získejte krásnou slevu. \n \nPři nákupu: \n– \n2 knih z výše uvedených nakladatelství = 20%\nsleva \n– \n3 a více knih vám přinesou rovnou = 30% sleva \nKnížky z obou nakladatelství najdete v knihkupectvích\nLuxor hezky a viditelně vystavené\, abyste věděli\, co můžete vybírat. \n \nUdělejte dětem i dospívajícím radost za vysvědčení už v květnu! \n \nLuxor\, v knihkupectví jako doma
URL:https://www.luxor.cz/blog/akce/kveten-vyhodne-pro-deti-a-mladez--1293/
ORGANIZER;CN="Luxor":MAILTO:info@luxor.cz
END:VEVENT
END:VCALENDAR