BEGIN:VCALENDAR
VERSION:2.0
PRODID:-//Blog knihkupectví Luxor - ECPv6.15.20//NONSGML v1.0//EN
CALSCALE:GREGORIAN
METHOD:PUBLISH
X-WR-CALNAME:Blog knihkupectví Luxor
X-ORIGINAL-URL:https://www.luxor.cz/blog
X-WR-CALDESC:Akce na Blog knihkupectví Luxor
REFRESH-INTERVAL;VALUE=DURATION:PT1H
X-Robots-Tag:noindex
X-PUBLISHED-TTL:PT1H
BEGIN:VTIMEZONE
TZID:Europe/Prague
BEGIN:DAYLIGHT
TZOFFSETFROM:+0100
TZOFFSETTO:+0200
TZNAME:CEST
DTSTART:20180325T010000
END:DAYLIGHT
BEGIN:STANDARD
TZOFFSETFROM:+0200
TZOFFSETTO:+0100
TZNAME:CET
DTSTART:20181028T010000
END:STANDARD
BEGIN:DAYLIGHT
TZOFFSETFROM:+0100
TZOFFSETTO:+0200
TZNAME:CEST
DTSTART:20190331T010000
END:DAYLIGHT
BEGIN:STANDARD
TZOFFSETFROM:+0200
TZOFFSETTO:+0100
TZNAME:CET
DTSTART:20191027T010000
END:STANDARD
BEGIN:DAYLIGHT
TZOFFSETFROM:+0100
TZOFFSETTO:+0200
TZNAME:CEST
DTSTART:20200329T010000
END:DAYLIGHT
BEGIN:STANDARD
TZOFFSETFROM:+0200
TZOFFSETTO:+0100
TZNAME:CET
DTSTART:20201025T010000
END:STANDARD
END:VTIMEZONE
BEGIN:VEVENT
DTSTART;TZID=Europe/Prague:20190520T150000
DTEND;TZID=Europe/Prague:20190520T150000
DTSTAMP:20260422T062621
CREATED:20190831T152629Z
LAST-MODIFIED:20190831T152629Z
UID:1922-1558364400-1558364400@www.luxor.cz
SUMMARY:Křest knihy Luboše Beniaka Dvě minuty mistry světa
DESCRIPTION:V létě 2007 jsme zažili fotbalovou senzaci: česká\nreprezentace do 20 let se na mistrovství světa v Kanadě nečekaně probojovala až\ndo finále a v něm jen těsně prohrála s Argentinou 1:2! Jan Šimůnek\, Martin\nFenin\, Luboš Kalouda\, Ondřej Kúdela\, Radek Petr a další hráči\, které předtím\nnikdo neznal\, se domů vrátili jako celebrity. Zdálo se\, že otázka\, kdo nahradí\nodcházející generaci Nedvěda\, Poborského\, Ujfalušiho\, Kolera\, je zodpovězena.\nKniha Dvě minuty mistry světa v ojedinělých reportážních portrétech popisuje\nživoty a kariéry patnácti vicemistrů světa. Kde přesně se rozplývaly jejich\nsny? Kudy vedla cesta z italské Serie A do moravského krajského přeboru? Jak se\nhráč prodává na sílu? Kdo na jejich přestupech vydělal? Přitom z\nřady jejich tehdejších soupeřů se staly světové hvězdy: Argentinci Agüero\,\nBanega\, Di María\, Brazilci Marcelo\, David Luiz\, Willian\, Španělé Piqué a Juan\nMata\, Chilané Alexis Sánchez a Vidal\, Uruguajci Cavani a Luis Suárez…
URL:https://www.luxor.cz/blog/akce/krest-knihy-lubose-beniaka-dve-minuty-mistry-sveta--1296/
LOCATION:Palác knih Luxor\, Václavské náměstí 820/41\, Praha 1\, 11000\, Česká republika
ORGANIZER;CN="Luxor":MAILTO:info@luxor.cz
END:VEVENT
END:VCALENDAR