BEGIN:VCALENDAR
VERSION:2.0
PRODID:-//Blog knihkupectví Luxor - ECPv6.15.20//NONSGML v1.0//EN
CALSCALE:GREGORIAN
METHOD:PUBLISH
X-WR-CALNAME:Blog knihkupectví Luxor
X-ORIGINAL-URL:https://www.luxor.cz/blog
X-WR-CALDESC:Akce na Blog knihkupectví Luxor
REFRESH-INTERVAL;VALUE=DURATION:PT1H
X-Robots-Tag:noindex
X-PUBLISHED-TTL:PT1H
BEGIN:VTIMEZONE
TZID:Europe/Prague
BEGIN:DAYLIGHT
TZOFFSETFROM:+0100
TZOFFSETTO:+0200
TZNAME:CEST
DTSTART:20180325T010000
END:DAYLIGHT
BEGIN:STANDARD
TZOFFSETFROM:+0200
TZOFFSETTO:+0100
TZNAME:CET
DTSTART:20181028T010000
END:STANDARD
BEGIN:DAYLIGHT
TZOFFSETFROM:+0100
TZOFFSETTO:+0200
TZNAME:CEST
DTSTART:20190331T010000
END:DAYLIGHT
BEGIN:STANDARD
TZOFFSETFROM:+0200
TZOFFSETTO:+0100
TZNAME:CET
DTSTART:20191027T010000
END:STANDARD
BEGIN:DAYLIGHT
TZOFFSETFROM:+0100
TZOFFSETTO:+0200
TZNAME:CEST
DTSTART:20200329T010000
END:DAYLIGHT
BEGIN:STANDARD
TZOFFSETFROM:+0200
TZOFFSETTO:+0100
TZNAME:CET
DTSTART:20201025T010000
END:STANDARD
END:VTIMEZONE
BEGIN:VEVENT
DTSTART;TZID=Europe/Prague:20190429T170000
DTEND;TZID=Europe/Prague:20190429T170000
DTSTAMP:20260422T062623
CREATED:20190831T152626Z
LAST-MODIFIED:20190831T152626Z
UID:1917-1556557200-1556557200@www.luxor.cz
SUMMARY:PLZEŇ: Beseda a autogramiáda Tomáše Vaňourka a Lukáše Sochy ke knize Zikmund 100: Po stopách Zikmunda a Hanzelky
DESCRIPTION:Příběh cestovatelských legend ožívá\nv retrospektivě dvou obyčejných kluků \nDva mladí muži se vydávají po stopách asijské cesty Zikmunda\na Hanzelky. Dnešníma očima hledí na stejná místa\, jako kdysi před šedesáti lety\njejich slavní předchůdci. Fotí\, natáčejí\, baví se s lidmi a zjišťují\, jak moc\nse svět změnil. Kde stálo několik chalup\, tyčí se dnes mrakodrapy. Fotoanabáze\ndvou kluků\, kteří neposlechli rady „zkušených“\, aby neblbli a dělali něco\npořádného\, jako pocta Miroslavu Zikmundovi k jeho stým narozeninám.
URL:https://www.luxor.cz/blog/akce/plzen-beseda-a-autogramiada-tomase-vanourka-a-lukase-sochy-ke-knize-zikmund-100-po-stopach-zikmunda-a-hanzelky--1291/
LOCATION:Knihkupectví Plaza\, OC Plaza\, Plzeň\, 30100\, Česká republika
ORGANIZER;CN="Luxor":MAILTO:info@luxor.cz
END:VEVENT
END:VCALENDAR