BEGIN:VCALENDAR
VERSION:2.0
PRODID:-//Blog knihkupectví Luxor - ECPv6.15.20//NONSGML v1.0//EN
CALSCALE:GREGORIAN
METHOD:PUBLISH
X-ORIGINAL-URL:https://www.luxor.cz/blog
X-WR-CALDESC:Akce na Blog knihkupectví Luxor
REFRESH-INTERVAL;VALUE=DURATION:PT1H
X-Robots-Tag:noindex
X-PUBLISHED-TTL:PT1H
BEGIN:VTIMEZONE
TZID:Europe/Prague
BEGIN:DAYLIGHT
TZOFFSETFROM:+0100
TZOFFSETTO:+0200
TZNAME:CEST
DTSTART:20180325T010000
END:DAYLIGHT
BEGIN:STANDARD
TZOFFSETFROM:+0200
TZOFFSETTO:+0100
TZNAME:CET
DTSTART:20181028T010000
END:STANDARD
BEGIN:DAYLIGHT
TZOFFSETFROM:+0100
TZOFFSETTO:+0200
TZNAME:CEST
DTSTART:20190331T010000
END:DAYLIGHT
BEGIN:STANDARD
TZOFFSETFROM:+0200
TZOFFSETTO:+0100
TZNAME:CET
DTSTART:20191027T010000
END:STANDARD
BEGIN:DAYLIGHT
TZOFFSETFROM:+0100
TZOFFSETTO:+0200
TZNAME:CEST
DTSTART:20200329T010000
END:DAYLIGHT
BEGIN:STANDARD
TZOFFSETFROM:+0200
TZOFFSETTO:+0100
TZNAME:CET
DTSTART:20201025T010000
END:STANDARD
END:VTIMEZONE
BEGIN:VEVENT
DTSTART;TZID=Europe/Prague:20190423T170000
DTEND;TZID=Europe/Prague:20190423T170000
DTSTAMP:20260422T080950
CREATED:20190831T152623Z
LAST-MODIFIED:20190831T152623Z
UID:1911-1556038800-1556038800@www.luxor.cz
SUMMARY:Křest knížky Čarodějnice Bordelína od Sandry Dražilové Zlámalové
DESCRIPTION:Dopoklidného lesa Bambručáku se jednoho dne nastěhuje čarodějnice Bordelína a\nzačne pořádná mela! Téhle malé uličnici totiž nic v lese není po chuti.\nAle protože přece není čarodějnicí jen tak pro nic za nic\, brzy si vše\npřečaruje podle svého gusta.\nZvířátka ani děti si s Bordelínou nevědí rady\, vyvádí jim jednu lumpárnu\nza druhou. Celý les zaneřádí barevnými papírky\, měkoučký mech ve zvířecích\npostýlkách vymění za žahavé kopřivy\, a dokonce v noci létá na svém kouzelném\ndeštníku dělat dětem do pokojíčků nepořádek. A co teprve když ji přiletí\nnavštívit její bratr\, čaroděj Puchonosodor! Jenže kdo jinému jámu kopá\, sám do\nní často zahučí…
URL:https://www.luxor.cz/blog/akce/krest-knizky-carodejnice-bordelina-od-sandry-drazilove-zlamalove--1285/
LOCATION:Palác knih Luxor\, Václavské náměstí 820/41\, Praha 1\, 11000\, Česká republika
ORGANIZER;CN="Luxor":MAILTO:info@luxor.cz
END:VEVENT
END:VCALENDAR