BEGIN:VCALENDAR
VERSION:2.0
PRODID:-//Blog knihkupectví Luxor - ECPv6.15.20//NONSGML v1.0//EN
CALSCALE:GREGORIAN
METHOD:PUBLISH
X-ORIGINAL-URL:https://www.luxor.cz/blog
X-WR-CALDESC:Akce na Blog knihkupectví Luxor
REFRESH-INTERVAL;VALUE=DURATION:PT1H
X-Robots-Tag:noindex
X-PUBLISHED-TTL:PT1H
BEGIN:VTIMEZONE
TZID:Europe/Prague
BEGIN:DAYLIGHT
TZOFFSETFROM:+0100
TZOFFSETTO:+0200
TZNAME:CEST
DTSTART:20180325T010000
END:DAYLIGHT
BEGIN:STANDARD
TZOFFSETFROM:+0200
TZOFFSETTO:+0100
TZNAME:CET
DTSTART:20181028T010000
END:STANDARD
BEGIN:DAYLIGHT
TZOFFSETFROM:+0100
TZOFFSETTO:+0200
TZNAME:CEST
DTSTART:20190331T010000
END:DAYLIGHT
BEGIN:STANDARD
TZOFFSETFROM:+0200
TZOFFSETTO:+0100
TZNAME:CET
DTSTART:20191027T010000
END:STANDARD
BEGIN:DAYLIGHT
TZOFFSETFROM:+0100
TZOFFSETTO:+0200
TZNAME:CEST
DTSTART:20200329T010000
END:DAYLIGHT
BEGIN:STANDARD
TZOFFSETFROM:+0200
TZOFFSETTO:+0100
TZNAME:CET
DTSTART:20201025T010000
END:STANDARD
END:VTIMEZONE
BEGIN:VEVENT
DTSTART;TZID=Europe/Prague:20190403T170000
DTEND;TZID=Europe/Prague:20190403T170000
DTSTAMP:20260422T080950
CREATED:20190831T152620Z
LAST-MODIFIED:20190831T152620Z
UID:1909-1554310800-1554310800@www.luxor.cz
SUMMARY:Michal Viewegh Povídky o nelásce – křest knihy a autogramiáda
DESCRIPTION:V nových\npovídkách se náš nejpopulárnější spisovatel opět vydává do známého hájemství\npříběhů „o manželství a sexu“\, ale jak je pro něj v posledních dílech typické\,\npohled je to trpký\, sebeironický a občas černočerně vtipný. Spisovatelovo\nalter-ego přichází o manželku\, peníze\, rodinné zázemí a v jednom případě\ndokonce i o psa\, ale své ztráty sčítá s posmutnělým klidem. Výseky ze života\,\nkde se láska odehrála kdysi dávno\, nyní už je však nenávratně pryč\, autor zachycuje\ns posmutnělým cynismem\, který občas pózuje jako hrdinství\, ale prozrazuje únavu\na deziluzi. Tvrdý střet s realitou zde má řadu podob\, ale obdobné poselství –\ntotiž že to\, co člověku nakonec zůstane\, je jen on sám\, a tomu\, kdo se\nzpronevěří i sobě\, nakonec nezbyde nic.
URL:https://www.luxor.cz/blog/akce/michal-viewegh-povidky-o-nelasce-krest-knihy-a-autogramiada--1283/
LOCATION:Palác knih Luxor\, Václavské náměstí 820/41\, Praha 1\, 11000\, Česká republika
ORGANIZER;CN="Luxor":MAILTO:info@luxor.cz
END:VEVENT
END:VCALENDAR